Package: iterativeBMAsurv Version: 1.69.0 Command: /Library/Frameworks/R.framework/Resources/bin/R CMD build --keep-empty-dirs --no-resave-data iterativeBMAsurv StartedAt: 2025-11-13 16:48:54 -0500 (Thu, 13 Nov 2025) EndedAt: 2025-11-13 16:49:04 -0500 (Thu, 13 Nov 2025) EllapsedTime: 9.1 seconds RetCode: 0 Status: OK PackageFile: iterativeBMAsurv_1.69.0.tar.gz PackageFileSize: 197.5 KiB