Package: iterativeBMAsurv Version: 1.69.0 Command: rm -rf iterativeBMAsurv.buildbin-libdir && mkdir iterativeBMAsurv.buildbin-libdir && /Users/biocbuild/BBS/utils/build-universal.sh iterativeBMAsurv_1.69.0.tar.gz /Library/Frameworks/R.framework/Resources/bin/R iterativeBMAsurv.buildbin-libdir StartedAt: 2025-11-13 23:42:44 -0500 (Thu, 13 Nov 2025) EndedAt: 2025-11-13 23:42:48 -0500 (Thu, 13 Nov 2025) EllapsedTime: 4.1 seconds RetCode: 0 Status: OK PackageFile: iterativeBMAsurv_1.69.0.tgz PackageFileSize: 276.3 KiB