Package: iterativeBMA Version: 1.69.0 Command: /home/biocbuild/bbs-3.23-bioc/R/bin/R CMD check --install=check:iterativeBMA.install-out.txt --library=/home/biocbuild/bbs-3.23-bioc/R/site-library --timings iterativeBMA_1.69.0.tar.gz StartedAt: 2025-11-12 00:42:41 -0500 (Wed, 12 Nov 2025) EndedAt: 2025-11-12 00:43:32 -0500 (Wed, 12 Nov 2025) EllapsedTime: 50.1 seconds RetCode: 0 Status: OK CheckDir: iterativeBMA.Rcheck Warnings: 0