Package: iterativeBMA Version: 1.69.0 Command: /Library/Frameworks/R.framework/Resources/bin/R CMD INSTALL iterativeBMA StartedAt: 2025-11-12 15:21:58 -0500 (Wed, 12 Nov 2025) EndedAt: 2025-11-12 15:22:01 -0500 (Wed, 12 Nov 2025) EllapsedTime: 2.7 seconds RetCode: 0 Status: OK