Package: iterativeBMA Version: 1.69.0 Command: /Library/Frameworks/R.framework/Resources/bin/R CMD check --install=check:iterativeBMA.install-out.txt --library=/Library/Frameworks/R.framework/Resources/library --no-vignettes --timings iterativeBMA_1.69.0.tar.gz StartedAt: 2025-11-17 21:33:43 -0500 (Mon, 17 Nov 2025) EndedAt: 2025-11-17 21:34:08 -0500 (Mon, 17 Nov 2025) EllapsedTime: 25.3 seconds RetCode: 0 Status: OK CheckDir: iterativeBMA.Rcheck Warnings: 0