Package: iterativeBMA Version: 1.69.0 Command: /Library/Frameworks/R.framework/Resources/bin/R CMD build --keep-empty-dirs --no-resave-data iterativeBMA StartedAt: 2025-11-12 16:33:59 -0500 (Wed, 12 Nov 2025) EndedAt: 2025-11-12 16:34:07 -0500 (Wed, 12 Nov 2025) EllapsedTime: 8.1 seconds RetCode: 0 Status: OK PackageFile: iterativeBMA_1.69.0.tar.gz PackageFileSize: 159 KiB