Package: isobar Version: 1.57.0 Command: /home/biocbuild/bbs-3.23-bioc/R/bin/R CMD INSTALL isobar StartedAt: 2025-11-13 15:26:16 -0500 (Thu, 13 Nov 2025) EndedAt: 2025-11-13 15:26:47 -0500 (Thu, 13 Nov 2025) EllapsedTime: 30.6 seconds RetCode: 0 Status: OK