Package: isobar Version: 1.57.0 Command: /home/biocbuild/bbs-3.23-bioc/R/bin/R CMD build --keep-empty-dirs --no-resave-data isobar StartedAt: 2025-11-13 18:15:52 -0500 (Thu, 13 Nov 2025) EndedAt: 2025-11-13 18:17:02 -0500 (Thu, 13 Nov 2025) EllapsedTime: 70.1 seconds RetCode: 0 Status: OK PackageFile: isobar_1.57.0.tar.gz PackageFileSize: 2.813 MiB