Package: isobar Version: 1.57.0 Command: /Library/Frameworks/R.framework/Resources/bin/R CMD INSTALL isobar StartedAt: 2025-11-13 15:09:03 -0500 (Thu, 13 Nov 2025) EndedAt: 2025-11-13 15:09:14 -0500 (Thu, 13 Nov 2025) EllapsedTime: 11.0 seconds RetCode: 0 Status: OK