Package: isobar Version: 1.57.0 Command: /Library/Frameworks/R.framework/Resources/bin/R CMD build --keep-empty-dirs --no-resave-data isobar StartedAt: 2025-11-13 16:48:43 -0500 (Thu, 13 Nov 2025) EndedAt: 2025-11-13 16:49:19 -0500 (Thu, 13 Nov 2025) EllapsedTime: 35.4 seconds RetCode: 0 Status: OK PackageFile: isobar_1.57.0.tar.gz PackageFileSize: 2.771 MiB