Package: isobar Version: 1.57.0 Command: rm -rf isobar.buildbin-libdir && mkdir isobar.buildbin-libdir && /Users/biocbuild/BBS/utils/build-universal.sh isobar_1.57.0.tar.gz /Library/Frameworks/R.framework/Resources/bin/R isobar.buildbin-libdir StartedAt: 2025-11-13 23:42:39 -0500 (Thu, 13 Nov 2025) EndedAt: 2025-11-13 23:42:53 -0500 (Thu, 13 Nov 2025) EllapsedTime: 14.4 seconds RetCode: 0 Status: OK PackageFile: isobar_1.57.0.tgz PackageFileSize: 3.899 MiB