Package: isobar Version: 1.57.0 Maintainer: Florian P Breitwieser MaintainerEmail: florian.bw at gmail.com git_url: https://git.bioconductor.org/packages/isobar git_branch: devel git_last_commit: 0225060 git_last_commit_date: 2025-10-29 10:09:30 -0500 (Wed, 29 Oct 2025)