Package: islify Version: 1.3.0 Command: /home/biocbuild/bbs-3.23-bioc/R/bin/R CMD build --keep-empty-dirs --no-resave-data islify StartedAt: 2025-11-14 18:15:49 -0500 (Fri, 14 Nov 2025) EndedAt: 2025-11-14 18:16:09 -0500 (Fri, 14 Nov 2025) EllapsedTime: 19.0 seconds RetCode: 0 Status: OK PackageFile: islify_1.3.0.tar.gz PackageFileSize: 3.044 MiB