Package: islify Version: 1.3.0 Command: /Library/Frameworks/R.framework/Resources/bin/R CMD INSTALL islify StartedAt: 2025-11-12 15:22:45 -0500 (Wed, 12 Nov 2025) EndedAt: 2025-11-12 15:22:50 -0500 (Wed, 12 Nov 2025) EllapsedTime: 5.3 seconds RetCode: 0 Status: OK