Package: islify Version: 1.3.0 Command: rm -rf islify.buildbin-libdir && mkdir islify.buildbin-libdir && /Users/biocbuild/BBS/utils/build-universal.sh islify_1.3.0.tar.gz /Library/Frameworks/R.framework/Resources/bin/R islify.buildbin-libdir StartedAt: 2025-11-13 23:42:37 -0500 (Thu, 13 Nov 2025) EndedAt: 2025-11-13 23:42:44 -0500 (Thu, 13 Nov 2025) EllapsedTime: 7.2 seconds RetCode: 0 Status: OK PackageFile: islify_1.3.0.tgz PackageFileSize: 2.084 MiB