Package: islify Version: 1.3.0 Maintainer: Jakob Theorell MaintainerEmail: jakob.theorell at ki.se git_url: https://git.bioconductor.org/packages/islify git_branch: devel git_last_commit: 91f9839 git_last_commit_date: 2025-10-29 11:36:20 -0500 (Wed, 29 Oct 2025)