Package: iscream Version: 1.1.1 Command: /Library/Frameworks/R.framework/Resources/bin/R CMD INSTALL iscream StartedAt: 2025-11-14 15:06:45 -0500 (Fri, 14 Nov 2025) EndedAt: 2025-11-14 15:07:11 -0500 (Fri, 14 Nov 2025) EllapsedTime: 25.3 seconds RetCode: 0 Status: OK