Package: iscream Version: 1.1.1 Command: /Library/Frameworks/R.framework/Resources/bin/R CMD build --keep-empty-dirs --no-resave-data iscream StartedAt: 2025-11-14 16:44:35 -0500 (Fri, 14 Nov 2025) EndedAt: 2025-11-14 16:45:15 -0500 (Fri, 14 Nov 2025) EllapsedTime: 40.4 seconds RetCode: 0 Status: OK PackageFile: iscream_1.1.1.tar.gz PackageFileSize: 5.445 MiB