Package: iscream Version: 1.1.1 Command: rm -rf iscream.buildbin-libdir && mkdir iscream.buildbin-libdir && /Users/biocbuild/BBS/utils/build-universal.sh iscream_1.1.1.tar.gz /Library/Frameworks/R.framework/Resources/bin/R iscream.buildbin-libdir StartedAt: 2025-11-14 23:37:21 -0500 (Fri, 14 Nov 2025) EndedAt: 2025-11-14 23:37:56 -0500 (Fri, 14 Nov 2025) EllapsedTime: 35.8 seconds RetCode: 0 Status: OK PackageFile: iscream_1.1.1.tgz PackageFileSize: 6.136 MiB