Package: ipdDb Version: 1.29.0 Command: /Library/Frameworks/R.framework/Resources/bin/R CMD build --keep-empty-dirs --no-resave-data ipdDb StartedAt: 2025-11-13 16:47:31 -0500 (Thu, 13 Nov 2025) EndedAt: 2025-11-13 16:47:38 -0500 (Thu, 13 Nov 2025) EllapsedTime: 7.1 seconds RetCode: 0 Status: OK PackageFile: ipdDb_1.29.0.tar.gz PackageFileSize: 20.86 KiB