Package: ipdDb Version: 1.29.0 Maintainer: Steffen Klasberg MaintainerEmail: klasberg at dkms-lab.de git_url: https://git.bioconductor.org/packages/ipdDb git_branch: devel git_last_commit: 1180c38 git_last_commit_date: 2025-10-29 10:46:13 -0500 (Wed, 29 Oct 2025)