Package: interacCircos Version: 1.21.0 Command: /home/biocbuild/bbs-3.23-bioc/R/bin/R CMD INSTALL interacCircos StartedAt: 2025-11-11 15:11:01 -0500 (Tue, 11 Nov 2025) EndedAt: 2025-11-11 15:11:40 -0500 (Tue, 11 Nov 2025) EllapsedTime: 38.7 seconds RetCode: 0 Status: OK