Package: interacCircos Version: 1.21.0 Command: /home/biocbuild/bbs-3.23-bioc/R/bin/R CMD build --keep-empty-dirs --no-resave-data interacCircos StartedAt: 2025-11-11 18:16:20 -0500 (Tue, 11 Nov 2025) EndedAt: 2025-11-11 18:16:27 -0500 (Tue, 11 Nov 2025) EllapsedTime: 7.0 seconds RetCode: 0 Status: OK PackageFile: interacCircos_1.21.0.tar.gz PackageFileSize: 710.4 KiB