Package: interacCircos Version: 1.21.0 Command: /Library/Frameworks/R.framework/Resources/bin/R CMD INSTALL interacCircos StartedAt: 2025-11-12 15:18:44 -0500 (Wed, 12 Nov 2025) EndedAt: 2025-11-12 15:19:00 -0500 (Wed, 12 Nov 2025) EllapsedTime: 15.9 seconds RetCode: 0 Status: OK