Package: interacCircos Version: 1.21.0 Command: /Library/Frameworks/R.framework/Resources/bin/R CMD build --keep-empty-dirs --no-resave-data interacCircos StartedAt: 2025-11-12 16:31:58 -0500 (Wed, 12 Nov 2025) EndedAt: 2025-11-12 16:32:02 -0500 (Wed, 12 Nov 2025) EllapsedTime: 4.0 seconds RetCode: 0 Status: OK PackageFile: interacCircos_1.21.0.tar.gz PackageFileSize: 710.1 KiB