Package: interacCircos Version: 1.21.0 Command: rm -rf interacCircos.buildbin-libdir && mkdir interacCircos.buildbin-libdir && /Users/biocbuild/BBS/utils/build-universal.sh interacCircos_1.21.0.tar.gz /Library/Frameworks/R.framework/Resources/bin/R interacCircos.buildbin-libdir StartedAt: 2025-11-12 21:00:32 -0500 (Wed, 12 Nov 2025) EndedAt: 2025-11-12 21:00:35 -0500 (Wed, 12 Nov 2025) EllapsedTime: 3.1 seconds RetCode: 0 Status: OK PackageFile: interacCircos_1.21.0.tgz PackageFileSize: 846.4 KiB