Package: interacCircos Version: 1.21.0 Maintainer: Zhe Cui MaintainerEmail: mrcuizhe at gmail.com git_url: https://git.bioconductor.org/packages/interacCircos git_branch: devel git_last_commit: c590f9b git_last_commit_date: 2025-10-29 11:08:25 -0500 (Wed, 29 Oct 2025)