Package: intansv Version: 1.51.0 Command: /home/biocbuild/bbs-3.23-bioc/R/bin/R CMD INSTALL intansv StartedAt: 2025-11-13 15:47:06 -0500 (Thu, 13 Nov 2025) EndedAt: 2025-11-13 15:47:59 -0500 (Thu, 13 Nov 2025) EllapsedTime: 52.5 seconds RetCode: 0 Status: OK