Package: intansv Version: 1.51.0 Command: /home/biocbuild/bbs-3.23-bioc/R/bin/R CMD build --keep-empty-dirs --no-resave-data intansv StartedAt: 2025-11-11 18:16:11 -0500 (Tue, 11 Nov 2025) EndedAt: 2025-11-11 18:17:40 -0500 (Tue, 11 Nov 2025) EllapsedTime: 89.1 seconds RetCode: 0 Status: OK PackageFile: intansv_1.51.0.tar.gz PackageFileSize: 613.9 KiB