Package: intansv Version: 1.51.0 Command: /Library/Frameworks/R.framework/Resources/bin/R CMD INSTALL intansv StartedAt: 2025-11-13 15:25:20 -0500 (Thu, 13 Nov 2025) EndedAt: 2025-11-13 15:25:41 -0500 (Thu, 13 Nov 2025) EllapsedTime: 20.8 seconds RetCode: 0 Status: OK