Package: intansv Version: 1.51.0 Command: /Library/Frameworks/R.framework/Resources/bin/R CMD build --keep-empty-dirs --no-resave-data intansv StartedAt: 2025-11-13 16:46:51 -0500 (Thu, 13 Nov 2025) EndedAt: 2025-11-13 16:47:27 -0500 (Thu, 13 Nov 2025) EllapsedTime: 36.4 seconds RetCode: 0 Status: OK PackageFile: intansv_1.51.0.tar.gz PackageFileSize: 614.1 KiB