Package: intansv Version: 1.51.0 Command: rm -rf intansv.buildbin-libdir && mkdir intansv.buildbin-libdir && /Users/biocbuild/BBS/utils/build-universal.sh intansv_1.51.0.tar.gz /Library/Frameworks/R.framework/Resources/bin/R intansv.buildbin-libdir StartedAt: 2025-11-13 23:42:05 -0500 (Thu, 13 Nov 2025) EndedAt: 2025-11-13 23:42:30 -0500 (Thu, 13 Nov 2025) EllapsedTime: 25.5 seconds RetCode: 0 Status: OK PackageFile: intansv_1.51.0.tgz PackageFileSize: 710.3 KiB