Package: intansv Version: 1.51.0 Maintainer: Wen Yao MaintainerEmail: ywhzau at gmail.com git_url: https://git.bioconductor.org/packages/intansv git_branch: devel git_last_commit: ae06b25 git_last_commit_date: 2025-10-29 10:15:39 -0500 (Wed, 29 Oct 2025)