Package: infinityFlow Version: 1.21.0 Command: /home/biocbuild/bbs-3.23-bioc/R/bin/R CMD INSTALL infinityFlow StartedAt: 2025-11-14 15:15:15 -0500 (Fri, 14 Nov 2025) EndedAt: 2025-11-14 15:15:38 -0500 (Fri, 14 Nov 2025) EllapsedTime: 23.0 seconds RetCode: 0 Status: OK