Package: infinityFlow Version: 1.21.0 Command: /Library/Frameworks/R.framework/Resources/bin/R CMD INSTALL infinityFlow StartedAt: 2025-11-13 15:10:02 -0500 (Thu, 13 Nov 2025) EndedAt: 2025-11-13 15:10:11 -0500 (Thu, 13 Nov 2025) EllapsedTime: 9.1 seconds RetCode: 0 Status: OK