Package: infinityFlow Version: 1.21.0 Command: /Library/Frameworks/R.framework/Resources/bin/R CMD build --keep-empty-dirs --no-resave-data infinityFlow StartedAt: 2025-11-13 16:46:28 -0500 (Thu, 13 Nov 2025) EndedAt: 2025-11-13 16:47:55 -0500 (Thu, 13 Nov 2025) EllapsedTime: 87.0 seconds RetCode: 0 Status: OK PackageFile: infinityFlow_1.21.0.tar.gz PackageFileSize: 1.709 MiB