Package: infinityFlow Version: 1.21.0 Maintainer: Etienne Becht MaintainerEmail: etienne.becht at protonmail.com git_url: https://git.bioconductor.org/packages/infinityFlow git_branch: devel git_last_commit: 5790502 git_last_commit_date: 2025-10-29 11:00:49 -0500 (Wed, 29 Oct 2025)