Switch to long report

Build/check report for BioC 3.23

This page was generated on 2025-11-13 11:32 -0500 (Thu, 13 Nov 2025).

Approx. Package Snapshot Date/Time (git pull): 2025-11-12 13:40 -0500 (Wed, 12 Nov 2025)
See this page for all the Bioconductor builds and their schedule.

Package status is indicated by one of the following glyphs
  TIMEOUT  
INSTALL, BUILD, CHECK or BUILD BIN of package took more than 40 minutes
  ERROR  
Bad DESCRIPTION file, or INSTALL, BUILD or BUILD BIN of package failed, or CHECK produced errors
  WARNINGS  
CHECK of package produced warnings
  OK  
INSTALL, BUILD, CHECK and BUILD BIN of package went OK
  NA  
INSTALL, BUILD, CHECK or BUILD BIN result is not available because of an anomaly in the Build System
Click on any glyph in the report below to access the detailed report.
A
ABCDEFGHIJKLMNOPQRSTUVWXYZ
PackageMaintainerINSTALL/BUILD/CHECK
1/2325a4 1.59.0  (landing page)Laure Cougnaud  OK  
2/2325a4Base 1.59.0  (landing page)Laure Cougnaud  OK  
3/2325a4Classif 1.59.0  (landing page)Laure Cougnaud  OK  
4/2325a4Core 1.59.0  (landing page)Laure Cougnaud  OK  
5/2325a4Preproc 1.59.0  (landing page)Laure Cougnaud  OK  
6/2325a4Reporting 1.59.0  (landing page)Laure Cougnaud  OK  
7/2325ABarray 1.79.0  (landing page)Yongming Andrew Sun  OK  
8/2325abseqR 1.29.0  (landing page)JiaHong Fong  OK  
9/2325ABSSeq 1.65.0  (landing page)Wentao Yang  ERROR  
10/2325acde 1.41.0  (landing page)Juan Pablo Acosta  OK  
11/2325ACE 1.29.0  (landing page)Jos B Poell  OK  
12/2325aCGH 1.89.0  (landing page)Peter Dimitrov  OK  
13/2325ACME 2.67.0  (landing page)Sean Davis  OK  
14/2325ADaCGH2 2.51.0  (landing page)Ramon Diaz-Uriarte  OK  
15/2325ADAM 1.27.0  (landing page)Jose Luiz Rybarczyk Filho  OK  
16/2325ADAMgui 1.27.0  (landing page)Jose Luiz Rybarczyk Filho  OK  
17/2325ADAPT 1.5.0  (landing page)Mukai Wang  ERROR  
18/2325adductomicsR 1.27.0  (landing page)Josie Hayes  ERROR  
19/2325ADImpute 1.21.0  (landing page)Ana Carolina Leote  WARNINGS  
20/2325adSplit 1.81.0  (landing page)Claudio Lottaz  OK  
21/2325adverSCarial 1.9.0  (landing page)Ghislain FIEVET  ERROR  
22/2325AffiXcan 1.29.0  (landing page)Alessandro Lussana  ERROR  
23/2325affxparser 1.83.0  (landing page)Kasper Daniel Hansen  WARNINGS  
24/2325affy 1.89.0  (landing page)Robert D. Shear  WARNINGS  
25/2325affycomp 1.87.0  (landing page)Robert D. Shear  OK  
26/2325affyContam 1.69.0  (landing page)V. Carey  OK  
27/2325affycoretools 1.83.0  (landing page)James W. MacDonald  ERROR  
28/2325affyILM 1.63.0  (landing page)Myriam Kroll and Fabrice Berger  OK  
29/2325affyio 1.81.0  (landing page)Ben Bolstad  WARNINGS  
30/2325affylmGUI 1.85.0  (landing page)Gordon Smyth  OK  
31/2325affyPLM 1.87.0  (landing page)Ben Bolstad  OK  
32/2325AffyRNADegradation 1.57.0  (landing page)Mario Fasold  OK  
33/2325AGDEX 1.59.0  (landing page)Cuilan lani Gao  OK  
34/2325aggregateBioVar 1.21.0  (landing page)Jason Ratcliff  OK  
35/2325agilp 3.43.0  (landing page)Benny Chain  OK  
36/2325AgiMicroRna 2.61.0  (landing page)Pedro Lopez-Romero  ERROR  
37/2325AHMassBank 1.11.0  (landing page)Johannes Rainer  OK  
38/2325AIMS 1.43.0  (landing page)Eric R Paquet  OK  
39/2325airpart 1.19.0  (landing page)Wancen Mu  OK  
40/2325alabaster 1.11.0  (landing page)Aaron Lun  ERROR  
41/2325alabaster.base 1.11.1  (landing page)Aaron Lun  ERROR  
42/2325alabaster.bumpy 1.11.0  (landing page)Aaron Lun  ERROR  
43/2325alabaster.files 1.9.0  (landing page)Aaron Lun  ERROR  
44/2325alabaster.mae 1.11.0  (landing page)Aaron Lun  ERROR  
45/2325alabaster.matrix 1.11.0  (landing page)Aaron Lun  ERROR  
46/2325alabaster.ranges 1.11.0  (landing page)Aaron Lun  ERROR  
47/2325alabaster.sce 1.11.0  (landing page)Aaron Lun  ERROR  
48/2325alabaster.schemas 1.11.0  (landing page)Aaron Lun  OK  
49/2325alabaster.se 1.11.0  (landing page)Aaron Lun  ERROR  
50/2325alabaster.sfe 1.3.0  (landing page)Lambda Moses  ERROR  
51/2325alabaster.spatial 1.11.0  (landing page)Aaron Lun  ERROR  
52/2325alabaster.string 1.11.0  (landing page)Aaron Lun  ERROR  
53/2325alabaster.vcf 1.11.0  (landing page)Aaron Lun  ERROR  
54/2325ALDEx2 1.43.0  (landing page)Greg Gloor  OK  
55/2325alevinQC 1.27.0  (landing page)Charlotte Soneson  OK  
56/2325AllelicImbalance 1.49.0  (landing page)Jesper R Gadin  OK  
57/2325AlphaBeta 1.25.0  (landing page)Yadollah Shahryary Dizaji  OK  
58/2325AlphaMissenseR 1.7.0  (landing page)Martin Morgan  OK  
59/2325AlpsNMR 4.13.0  (landing page)Sergio Oller Moreno  OK  
60/2325altcdfenvs 2.73.0  (landing page)Laurent Gautier  OK  
61/2325AMARETTO 1.27.0  (landing page)Olivier Gevaert  ERROR  
62/2325AMOUNTAIN 1.37.0  (landing page)Dong Li  OK  
63/2325amplican 1.33.1  (landing page)Eivind Valen  OK  
64/2325anansi 1.1.0  (landing page)Thomaz Bastiaanssen  OK  
65/2325Anaquin 2.35.0  (landing page)Ted Wong  OK  
66/2325ANCOMBC 2.13.0  (landing page)Huang Lin  ERROR  
67/2325ANF 1.33.0  (landing page)Tianle Ma  OK  
68/2325anglemania 1.1.0  (landing page)Aaron Kollotzek  ERROR  
69/2325animalcules 1.27.0  (landing page)Jessica McClintock  ERROR  
70/2325annaffy 1.83.0  (landing page)Colin A. Smith  WARNINGS  
71/2325anndataR 1.1.0  (landing page)Robrecht Cannoodt  ERROR  
72/2325annmap 1.53.0  (landing page)Chris Wirth  WARNINGS  
73/2325annotate 1.89.0  (landing page)Bioconductor Package Maintainer  OK  
74/2325AnnotationDbi 1.73.0  (landing page)Bioconductor Package Maintainer  WARNINGS  
75/2325AnnotationFilter 1.35.0  (landing page)Bioconductor Package Maintainer  OK  
76/2325AnnotationForge 1.53.0  (landing page)Bioconductor Package Maintainer  OK  
77/2325AnnotationHub 4.1.0  (landing page)Bioconductor Package Maintainer  ERROR  
78/2325AnnotationHubData 1.41.0  (landing page)Bioconductor Package Maintainer  WARNINGS  
79/2325annotationTools 1.85.0  (landing page)Alexandre Kuhn  OK  
80/2325annotatr 1.37.0  (landing page)Raymond G. Cavalcante  OK  
81/2325anota 1.59.0  (landing page)Ola Larsson  OK  
82/2325anota2seq 1.33.0  (landing page)Christian Oertlin , Ola Larsson  ERROR  
83/2325antiProfiles 1.51.0  (landing page)Hector Corrada Bravo  OK  
84/2325AnVIL 1.23.0  (landing page)Marcel Ramos  ERROR  
85/2325AnVILAz 1.5.0  (landing page)Marcel Ramos  OK  
86/2325AnVILBase 1.5.1  (landing page)Marcel Ramos  OK  
87/2325AnVILBilling 1.21.0  (landing page)Vince Carey  OK  
88/2325AnVILGCP 1.5.2  (landing page)Marcel Ramos  OK  
89/2325AnVILPublish 1.21.0  (landing page)Marcel Ramos  OK  
90/2325AnVILWorkflow 1.11.0  (landing page)Sehyun Oh  ERROR  
91/2325APAlyzer 1.25.0  (landing page)Ruijia Wang  ERROR  
92/2325apComplex 2.77.0  (landing page)Denise Scholtens  OK  
93/2325apeglm 1.33.0  (landing page)Anqi Zhu  OK  
94/2325APL 1.15.0  (landing page)Clemens Kohl  ERROR  
95/2325appreci8R 1.29.0  (landing page)Sarah Sandmann  ERROR  
96/2325aroma.light 3.41.0  (landing page)Henrik Bengtsson  OK  
97/2325ArrayExpress 1.71.0  (landing page)Jose Marugan  OK  
98/2325arrayMvout 1.69.0  (landing page)V. Carey  ERROR  
99/2325arrayQuality 1.89.0  (landing page)Agnes Paquet  WARNINGS  
100/2325arrayQualityMetrics 3.67.0  (landing page)Mike Smith  OK  
101/2325ARRmNormalization 1.51.0  (landing page)Jean-Philippe Fortin  OK  
102/2325artMS 1.29.0  (landing page)David Jimenez-Morales  OK  
103/2325ASAFE 1.37.0  (landing page)Qian Zhang  OK  
104/2325ASEB 1.55.0  (landing page)Likun Wang  WARNINGS  
105/2325ASGSCA 1.45.0  (landing page)Hela Romdhani  OK  
106/2325ASICS 2.27.0  (landing page)Gaëlle Lefort  WARNINGS  
107/2325ASpli 2.21.0  (landing page)Ariel Chernomoretz  ERROR  
108/2325AssessORF 1.29.0  (landing page)Deepank Korandla  OK  
109/2325ASSET 2.29.0  (landing page)Samsiddhi Bhattacharjee  OK  
110/2325ASSIGN 1.47.0  (landing page)Ying Shen , W. Evan Johnson  ERROR  
111/2325assorthead 1.5.2  (landing page)Aaron Lun  OK  
112/2325ASURAT 1.15.0  (landing page)Keita Iida  ERROR  
113/2325ATACseqQC 1.35.0  (landing page)Jianhong Ou  ERROR  
114/2325ATACseqTFEA 1.13.0  (landing page)Jianhong Ou  ERROR  
115/2325atena 1.17.0  (landing page)Robert Castelo  OK  
116/2325atSNP 1.27.0  (landing page)Sunyoung Shin  OK  
117/2325attract 1.63.0  (landing page)Samuel Zimmerman  OK  
118/2325AUCell 1.33.0  (landing page)Gert Hulselmans  OK  
119/2325autonomics 1.19.0  (landing page)Aditya Bhagwat  ERROR  
120/2325AWAggregator 1.1.0  (landing page)Jiahua Tan  OK  
121/2325AWFisher 1.25.0  (landing page)Zhiguang Huo  ERROR  
122/2325awst 1.19.0  (landing page)Davide Risso  OK  
B
ABCDEFGHIJKLMNOPQRSTUVWXYZ
PackageMaintainerINSTALL/BUILD/CHECK
123/2325BaalChIP 1.37.0  (landing page)Ines de Santiago  WARNINGS  
124/2325bacon 1.39.0  (landing page)Maarten van Iterson  OK  
125/2325BADER 1.49.0  (landing page)Andreas Neudecker  OK  
126/2325BadRegionFinder 1.39.0  (landing page)Sarah Sandmann  OK  
127/2325BAGS 2.51.0  (landing page)Alejandro Quiroz-Zarate  OK  
128/2325ballgown 2.43.0  (landing page)Jack Fu  ERROR  
129/2325bambu 3.13.0  (landing page)Ying Chen  OK  
130/2325bamsignals 1.43.0  (landing page)Johannes Helmuth  OK  
131/2325BANDITS 1.27.0  (landing page)Simone Tiberi  ERROR  
132/2325bandle 1.15.0  (landing page)Oliver M. Crook  ERROR  
133/2325Banksy 1.7.0  (landing page)Joseph Lee  ERROR  
134/2325banocc 1.35.0  (landing page)George Weingart  OK  
135/2325barbieQ 1.3.0  (landing page)Liyang Fei  OK  
136/2325barcodetrackR 1.19.0  (landing page)Diego Alexander Espinoza  ERROR  
137/2325basecallQC 1.35.0  (landing page)Thomas Carroll  OK  
138/2325BaseSpaceR 1.55.0  (landing page)Jared O'Connell  WARNINGS  
139/2325Basic4Cseq 1.47.0  (landing page)Carolin Walter  OK  
140/2325BASiCS 2.23.0  (landing page)Catalina Vallejos  ERROR  
141/2325BASiCStan 1.13.0  (landing page)Alan O'Callaghan  ERROR  
142/2325BasicSTARRseq 1.39.0  (landing page)Annika Buerger  OK  
143/2325basilisk 1.23.0  (landing page)Aaron Lun  OK  
144/2325basilisk.utils 1.23.1  (landing page)Aaron Lun  OK  
145/2325batchCorr 1.1.0  (landing page)Anton Ribbenstedt  OK  
146/2325batchelor 1.27.0  (landing page)Aaron Lun  ERROR  
147/2325BatchQC 2.7.0  (landing page)Jessica Anderson  ERROR  
148/2325BatchSVG 1.3.0  (landing page)Kinnary Shah  ERROR  
149/2325BayesKnockdown 1.37.0  (landing page)William Chad Young  OK  
150/2325BayesSpace 1.21.0  (landing page)Senbai Kang  ERROR  
151/2325bayNorm 1.29.0  (landing page)Wenhao Tang  OK  
152/2325baySeq 2.45.0  (landing page)Samuel Granjeaud  ERROR  
153/2325BBCAnalyzer 1.41.0  (landing page)Sarah Sandmann  OK  
154/2325BCRANK 1.73.0  (landing page)Adam Ameur  OK  
155/2325bcSeq 1.33.0  (landing page)Jiaxing Lin  WARNINGS  
156/2325beachmat 2.27.0  (landing page)Aaron Lun  ERROR  
157/2325beachmat.hdf5 1.9.0  (landing page)Aaron Lun  ERROR  
158/2325beachmat.tiledb 1.3.0  (landing page)Aaron Lun  OK  
159/2325beadarray 2.61.0  (landing page)Mark Dunning  ERROR  
160/2325BeadDataPackR 1.63.0  (landing page)Mike Smith  OK  
161/2325BEAT 1.49.0  (landing page)Kemal Akman  OK  
162/2325BEclear 2.27.0  (landing page)Livia Rasp  OK  
163/2325bedbaser 1.3.0  (landing page)Andres Wokaty  OK  
164/2325beer 1.15.1  (landing page)Athena Chen  ERROR  
165/2325benchdamic 1.17.0  (landing page)Matteo Calgaro  ERROR  
166/2325BERT 1.7.0  (landing page)Yannis Schumann  ERROR  
167/2325betaHMM 1.7.0  (landing page)Koyel Majumdar  OK  
168/2325bettr 1.7.0  (landing page)Charlotte Soneson  OK  
169/2325BG2 1.11.0  (landing page)Jacob Williams  OK  
170/2325BgeeCall 1.27.0  (landing page)Julien Wollbrett  ERROR  
171/2325BgeeDB 2.37.0  (landing page)Julien Wollbrett , Julien Roux , Andrea Komljenovic , Frederic Bastian  ERROR  
172/2325BicARE 1.69.0  (landing page)Pierre Gestraud  OK  
173/2325BiFET 1.31.0  (landing page)Ahrim Youn  OK  
174/2325bigmelon 1.37.0  (landing page)Leonard C. Schalkwyk  ERROR  
175/2325BindingSiteFinder 2.9.0  (landing page)Mirko Brüggemann  OK  
176/2325bioassayR 1.49.0  (landing page)Thomas Girke  ERROR  
177/2325Biobase 2.71.0  (landing page)Bioconductor Package Maintainer  OK  
178/2325biobroom 1.43.0  (landing page)John D. Storey and Andrew J. Bass  ERROR  
179/2325biobtreeR 1.23.0  (landing page)Tamer Gur  unknown  
180/2325Bioc.gff 1.1.0  (landing page)Bioconductor Package Maintainer  OK  
181/2325bioCancer 1.39.0  (landing page)Karim Mezhoud  OK  
182/2325BioCartaImage 1.9.0  (landing page)Zuguang Gu  OK  
183/2325BiocBaseUtils 1.13.0  (landing page)Marcel Ramos  OK  
184/2325BiocBook 1.9.0  (landing page)Jacques Serizay  OK  
185/2325BiocCheck 1.47.1  (landing page)Marcel Ramos  OK  
186/2325BiocFHIR 1.13.0  (landing page)Vincent Carey  OK  
187/2325BiocFileCache 3.1.0  (landing page)Lori Shepherd  OK  
188/2325BiocGenerics 0.57.0  (landing page)Hervé Pagès  ERROR  
189/2325biocGraph 1.73.0  (landing page)Florian Hahne  OK  
190/2325BiocHail 1.11.0  (landing page)Vincent Carey  unknown  
191/2325BiocHubsShiny 1.11.0  (landing page)Marcel Ramos  OK  
192/2325BiocIO 1.21.0  (landing page)Marcel Ramos  OK  
193/2325biocmake 1.3.0  (landing page)Aaron Lun  OK  
194/2325BiocNeighbors 2.5.0  (landing page)Aaron Lun  OK  
195/2325BioCor 1.35.0  (landing page)Lluís Revilla Sancho  OK  
196/2325BiocParallel 1.45.0  (landing page)Jiefei Wang  OK  
197/2325BiocPkgTools 1.29.0  (landing page)Sean Davis  ERROR  
198/2325biocroxytest 1.7.0  (landing page)Francesc Catala-Moll  OK  
199/2325BiocSet 1.25.0  (landing page)Kayla Morrell  OK  
200/2325BiocSingular 1.27.0  (landing page)Aaron Lun  ERROR  
201/2325BiocSklearn 1.33.0  (landing page)Vince Carey  ERROR  
202/2325BiocStyle 2.39.0  (landing page)Bioconductor Package Maintainer  OK  
203/2325biocthis 1.21.0  (landing page)Leonardo Collado-Torres  OK  
204/2325BiocVersion 3.23.1  (landing page)Bioconductor Package Maintainer  OK  
205/2325biocViews 1.79.0  (landing page)Bioconductor Package Maintainer  OK  
206/2325BiocWorkflowTools 1.37.0  (landing page)Mike Smith  OK  
207/2325biodb 1.19.0  (landing page)Pierrick Roger  OK  
208/2325biodbChebi 1.17.0  (landing page)Pierrick Roger  OK  
209/2325bioDist 1.83.0  (landing page)Bioconductor Package Maintainer  OK  
210/2325BioGA 1.5.0  (landing page)Dany Mukesha  OK  
211/2325biomaRt 2.67.0  (landing page)Hugo Gruson  OK  
212/2325biomformat 1.39.0  (landing page)Paul J. McMurdie  ERROR  
213/2325BioMVCClass 1.79.0  (landing page)Elizabeth Whalen  OK  
214/2325biomvRCNS 1.51.0  (landing page)Yang Du  ERROR  
215/2325BioNAR 1.13.0  (landing page)Anatoly Sorokin  ERROR  
216/2325BioNERO 1.19.0  (landing page)Fabricio Almeida-Silva  ERROR  
217/2325BioNet 1.71.0  (landing page)Marcus Dittrich  OK  
218/2325BioQC 1.39.0  (landing page)Jitao David Zhang  ERROR  
219/2325biosigner 1.39.0  (landing page)Etienne A. Thevenot  ERROR  
220/2325Biostrings 2.79.2  (landing page)Hervé Pagès  WARNINGS  
221/2325BioTIP 1.25.0  (landing page)Felix Yu and X Holly Yang  ERROR  
222/2325biotmle 1.35.0  (landing page)Nima Hejazi  OK  
223/2325biovizBase 1.59.0  (landing page)Michael Lawrence  WARNINGS  
224/2325BiRewire 3.43.0  (landing page)Andrea Gobbi  ERROR  
225/2325biscuiteer 1.25.0  (landing page)Jacob Morrison  ERROR  
226/2325BiSeq 1.51.0  (landing page)Katja Hebestreit  OK  
227/2325blacksheepr 1.25.0  (landing page)RugglesLab  OK  
228/2325blase 1.1.0  (landing page)Andrew McCluskey  ERROR  
229/2325blima 1.45.0  (landing page)Vojtěch Kulvait  ERROR  
230/2325BLMA 1.35.0  (landing page)Van-Dung Pham  OK  
231/2325BloodGen3Module 1.19.0  (landing page)Darawan Rinchai  WARNINGS  
232/2325bluster 1.21.0  (landing page)Aaron Lun  ERROR  
233/2325bnbc 1.33.0  (landing page)Kipper Fletez-Brant  ERROR  
234/2325bnem 1.19.0  (landing page)Martin Pirkl  ERROR  
235/2325BOBaFIT 1.15.0  (landing page)Gaia Mazzocchetti  WARNINGS  
236/2325borealis 1.15.0  (landing page)Garrett Jenkinson  ERROR  
237/2325BPRMeth 1.37.0  (landing page)Chantriolnt-Andreas Kapourani  ERROR  
238/2325BRAIN 1.57.0  (landing page)Piotr Dittwald  WARNINGS  
239/2325branchpointer 1.37.0  (landing page)Beth Signal  ERROR  
240/2325breakpointR 1.29.0  (landing page)David Porubsky  OK  
241/2325BreastSubtypeR 1.3.0  (landing page)Qiao Yang  ERROR  
242/2325brendaDb 1.25.0  (landing page)Yi Zhou  OK  
243/2325BREW3R.r 1.7.0  (landing page)Lucille Lopez-Delisle  OK  
244/2325BridgeDbR 2.21.0  (landing page)Egon Willighagen  OK  
245/2325broadSeq 1.5.0  (landing page)Rishi Das Roy  ERROR  
246/2325BrowserViz 2.33.0  (landing page)Arkadiusz Gladki  OK  
247/2325BSgenome 1.79.1  (landing page)Hervé Pagès  WARNINGS  
248/2325BSgenomeForge 1.11.0  (landing page)Hervé Pagès  OK  
249/2325bsseq 1.47.1  (landing page)Kasper Daniel Hansen  ERROR  
250/2325BubbleTree 2.41.0  (landing page)Todd Creasy , Wei Zhu  ERROR  
251/2325BufferedMatrix 1.75.0  (landing page)Ben Bolstad  WARNINGS  
252/2325BufferedMatrixMethods 1.75.0  (landing page)Ben Bolstad  OK  
253/2325bugsigdbr 1.17.0  (landing page)Ludwig Geistlinger  OK  
254/2325BulkSignalR 1.3.1  (landing page)Jean-Philippe Villemin  ERROR  
255/2325BUMHMM 1.35.0  (landing page)Alina Selega  OK  
256/2325bumphunter 1.53.0  (landing page)Tamilselvi Guharaj  ERROR  
257/2325BumpyMatrix 1.19.0  (landing page)Aaron Lun  OK  
258/2325BUS 1.67.0  (landing page)Yuanhua Liu  OK  
259/2325BUScorrect 1.29.0  (landing page)Xiangyu Luo  OK  
260/2325BUSpaRse 1.25.0  (landing page)Lambda Moses  OK  
261/2325BUSseq 1.17.0  (landing page)Fangda Song  OK  
C
ABCDEFGHIJKLMNOPQRSTUVWXYZ
PackageMaintainerINSTALL/BUILD/CHECK
262/2325CaDrA 1.9.0  (landing page)Reina Chau  OK  
263/2325CAEN 1.19.0  (landing page)Zhou Yan  OK  
264/2325CAFE 1.47.0  (landing page)Sander Bollen  WARNINGS  
265/2325CAGEfightR 1.31.0  (landing page)Malte Thodberg  OK  
266/2325cageminer 1.17.0  (landing page)Fabrício Almeida-Silva  ERROR  
267/2325CAGEr 2.17.0  (landing page)Charles Plessy  OK  
268/2325CalibraCurve 1.1.1  (landing page)Karin Schork  OK  
269/2325calm 1.25.0  (landing page)Kun Liang  OK  
270/2325CAMERA 1.67.0  (landing page)Steffen Neumann  ERROR  
271/2325CaMutQC 1.7.0  (landing page)Xin Wang  OK  
272/2325canceR 1.45.0  (landing page)Karim Mezhoud  WARNINGS  
273/2325cancerclass 1.55.0  (landing page)Daniel Kosztyla  WARNINGS  
274/2325cardelino 1.13.0  (landing page)Davis McCarthy  OK  
275/2325Cardinal 3.13.0  (landing page)Kylie Ariel Bemis  OK  
276/2325CardinalIO 1.9.0  (landing page)Kylie Ariel Bemis  OK  
277/2325CARDspa 1.3.0  (landing page)Jing Fu  OK  
278/2325CARNIVAL 2.21.0  (landing page)Attila Gabor  OK  
279/2325casper 2.45.0  (landing page)David Rossell  ERROR  
280/2325CATALYST 1.35.0  (landing page)Helena L. Crowell  ERROR  
281/2325Category 2.77.0  (landing page)Bioconductor Package Maintainer  OK  
282/2325categoryCompare 1.55.0  (landing page)Robert M. Flight  OK  
283/2325CatsCradle 1.5.1  (landing page)Michael Shapiro  OK  
284/2325CausalR 1.43.0  (landing page)Glyn Bradley , Steven Barrett  OK  
285/2325cbaf 1.33.0  (landing page)Arman Shahrisa  OK  
286/2325cBioPortalData 2.23.2  (landing page)Marcel Ramos  OK  
287/2325CBN2Path   (landing page)  ERROR  
288/2325CBNplot 1.11.0  (landing page)Noriaki Sato  OK  
289/2325cbpManager 1.19.0  (landing page)Arsenij Ustjanzew  WARNINGS  
290/2325CCAFE 1.3.0  (landing page)Hayley Wolff  OK  
291/2325ccfindR 1.31.0  (landing page)Jun Woo  ERROR  
292/2325ccImpute 1.13.0  (landing page)Marcin Malec  ERROR  
293/2325CCPlotR 1.9.0  (landing page)Sarah Ennis  OK  
294/2325CCPROMISE 1.37.0  (landing page)Xueyuan Cao  WARNINGS  
295/2325ccrepe 1.47.0  (landing page)Emma Schwager ,Craig Bielski, George Weingart  OK  
296/2325CDI 1.9.0  (landing page)Jiyuan Fang  OK  
297/2325celaref 1.29.0  (landing page)Sarah Williams  OK  
298/2325celda 1.27.0  (landing page)Joshua Campbell  ERROR  
299/2325CellBarcode 1.17.0  (landing page)Wenjie Sun  OK  
300/2325cellbaseR 1.35.0  (landing page)Mohammed OE Abdallah  OK  
301/2325CellBench 1.27.0  (landing page)Shian Su  OK  
302/2325CelliD 1.19.0  (landing page)Akira Cortal  WARNINGS  
303/2325cellity 1.39.0  (landing page)Tomislav Ilicic  OK  
304/2325CellMapper 1.37.0  (landing page)Brad Nelms  WARNINGS  
305/2325cellmig 1.1.0  (landing page)Simo Kitanovski  OK  
306/2325cellmigRation 1.19.0  (landing page)Waldir Leoncio  OK  
307/2325CellMixS 1.27.0  (landing page)Almut Lütge  OK  
308/2325CellNOptR 1.57.0  (landing page)Attila Gabor  OK  
309/2325cellscape 1.35.0  (landing page)Shixiang Wang  OK  
310/2325CellTrails 1.29.0  (landing page)Daniel Ellwanger  ERROR  
311/2325cellxgenedp 1.15.0  (landing page)Martin Morgan  ERROR  
312/2325CEMiTool 1.35.0  (landing page)Helder Nakaya  OK  
313/2325censcyt 1.19.0  (landing page)Reto Gerber  ERROR  
314/2325Cepo 1.17.0  (landing page)Hani Jieun Kim  ERROR  
315/2325ceRNAnetsim 1.23.0  (landing page)Selcen Ari Yuka  OK  
316/2325CeTF 1.23.0  (landing page)Carlos Alberto Oliveira de Biagi Junior  OK  
317/2325CexoR 1.49.0  (landing page)Pedro Madrigal  OK  
318/2325CFAssay 1.45.0  (landing page)Herbert Braselmann  OK  
319/2325cfdnakit 1.9.0  (landing page)Pitithat Puranachot  OK  
320/2325cfDNAPro 1.17.0  (landing page)Haichao Wang  ERROR  
321/2325cfTools 1.11.0  (landing page)Ran Hu  ERROR  
322/2325CGEN 3.47.0  (landing page)Justin Lee  ERROR  
323/2325CGHbase 1.71.0  (landing page)Mark van de Wiel  OK  
324/2325CGHcall 2.73.0  (landing page)Mark van de Wiel  WARNINGS  
325/2325cghMCR 1.69.0  (landing page)J. Zhang  WARNINGS  
326/2325CGHnormaliter 1.65.0  (landing page)Bart P.P. van Houte  OK  
327/2325CGHregions 1.69.0  (landing page)Sjoerd Vosse  OK  
328/2325ChAMP 2.41.0  (landing page)Yuan Tian  ERROR  
329/2325ChemmineOB 1.49.0  (landing page)Thomas Girke  ERROR  
330/2325ChemmineR 3.63.0  (landing page)Thomas Girke  WARNINGS  
331/2325CHETAH 1.27.0  (landing page)Jurrian de Kanter  OK  
332/2325chevreulPlot 1.3.0  (landing page)Kevin Stachelek  ERROR  
333/2325chevreulProcess 1.3.0  (landing page)Kevin Stachelek  ERROR  
334/2325chevreulShiny 1.3.0  (landing page)Kevin Stachelek  ERROR  
335/2325Chicago 1.39.0  (landing page)Mikhail Spivakov  OK  
336/2325chihaya 1.11.0  (landing page)Aaron Lun  ERROR  
337/2325chimeraviz 1.37.0  (landing page)Stian Lågstad  OK  
338/2325ChIPanalyser 1.33.0  (landing page)Patrick C.N. Martin  OK  
339/2325ChIPComp 1.41.0  (landing page)Li Chen  OK  
340/2325chipenrich 2.35.0  (landing page)Kai Wang  OK  
341/2325ChIPexoQual 1.35.0  (landing page)Rene Welch  OK  
342/2325ChIPpeakAnno 3.45.2  (landing page)Jianhong Ou  ERROR  
343/2325ChIPQC 1.47.0  (landing page)Tom Carroll , Rory Stark  ERROR  
344/2325ChIPseeker 1.47.1  (landing page)Guangchuang Yu  OK  
345/2325chipseq 1.61.0  (landing page)Bioconductor Package Maintainer  WARNINGS  
346/2325ChIPseqR 1.65.0  (landing page)Peter Humburg  OK  
347/2325ChIPsim 1.65.0  (landing page)Peter Humburg  OK  
348/2325ChIPXpress 1.55.0  (landing page)George Wu  OK  
349/2325chopsticks 1.77.0  (landing page)Hin-Tak Leung  ERROR  
350/2325Chromatograms 1.1.0  (landing page)Philippine Louail  ERROR  
351/2325chromDraw 2.41.0  (landing page)Jan Janecka  WARNINGS  
352/2325ChromHeatMap 1.65.0  (landing page)Tim F. Rayner  OK  
353/2325chromPlot 1.39.0  (landing page)Karen Y. Orostica  OK  
354/2325ChromSCape 1.21.0  (landing page)Pacome Prompsy  ERROR  
355/2325chromVAR 1.33.0  (landing page)Alicia Schep  ERROR  
356/2325CHRONOS 1.39.0  (landing page)Panos Balomenos  TIMEOUT  
357/2325cicero 1.29.0  (landing page)Hannah Pliner  OK  
358/2325cigarillo 1.1.0  (landing page)Hervé Pagès  OK  
359/2325CIMICE 1.19.0  (landing page)Nicolò Rossi  OK  
360/2325circRNAprofiler 1.25.0  (landing page)Simona Aufiero  ERROR  
361/2325CircSeqAlignTk 1.13.0  (landing page)Jianqiang Sun  OK  
362/2325CiteFuse 1.23.0  (landing page)Yingxin Lin  ERROR  
363/2325ClassifyR 3.15.0  (landing page)Dario Strbenac  ERROR  
364/2325cleanUpdTSeq 1.49.0  (landing page)Jianhong Ou ; Lihua Julie Zhu  OK  
365/2325CleanUpRNAseq 1.5.0  (landing page)Haibo Liu  ERROR  
366/2325cleaver 1.49.0  (landing page)Sebastian Gibb  OK  
367/2325clevRvis 1.11.0  (landing page)Sarah Sandmann  OK  
368/2325clippda 1.61.0  (landing page)Stephen Nyangoma  OK  
369/2325clipper 1.51.0  (landing page)Paolo Martini  OK  
370/2325cliProfiler 1.17.0  (landing page)You Zhou  OK  
371/2325cliqueMS 1.25.0  (landing page)Oriol Senan Campos  ERROR  
372/2325Clomial 1.47.0  (landing page)Habil Zare  OK  
373/2325clst 1.59.0  (landing page)Noah Hoffman  WARNINGS  
374/2325clstutils 1.59.0  (landing page)Noah Hoffman  WARNINGS  
375/2325CluMSID 1.27.0  (landing page)Tobias Depke  ERROR  
376/2325ClustAll 1.7.0  (landing page)Asier Ortega-Legarreta  OK  
377/2325clustComp 1.39.0  (landing page)Aurora Torrente  OK  
378/2325clusterExperiment 2.31.0  (landing page)Elizabeth Purdom  ERROR  
379/2325ClusterFoldSimilarity 1.7.0  (landing page)Oscar Gonzalez-Velasco  ERROR  
380/2325ClusterJudge 1.33.0  (landing page)Adrian Pasculescu  OK  
381/2325clusterProfiler 4.19.1  (landing page)Guangchuang Yu  OK  
382/2325clusterSeq 1.35.0  (landing page)Samuel Granjeaud  ERROR  
383/2325ClusterSignificance 1.39.0  (landing page)Jason T Serviss  OK  
384/2325clusterStab 1.83.0  (landing page)James W. MacDonald  OK  
385/2325clustifyr 1.23.0  (landing page)Rui Fu  OK  
386/2325ClustIRR 1.9.0  (landing page)Simo Kitanovski  OK  
387/2325clustSIGNAL 1.3.0  (landing page)Pratibha Panwar  OK  
388/2325CMA 1.69.0  (landing page)Roman Hornung  OK  
389/2325cmapR 1.23.0  (landing page)Ted Natoli  ERROR  
390/2325cn.farms 1.59.0  (landing page)Andreas Mitterecker  OK  
391/2325cn.mops 1.57.0  (landing page)Gundula Povysil  OK  
392/2325CNAnorm 1.57.0  (landing page)Stefano Berri  OK  
393/2325CNEr 1.47.0  (landing page)Boris Lenhard Damir Baranasic  ERROR  
394/2325CNORdt 1.53.0  (landing page)A. MacNamara  OK  
395/2325CNORfeeder 1.51.0  (landing page)Attila Gabor  WARNINGS  
396/2325CNORfuzzy 1.53.0  (landing page)T. Cokelaer  OK  
397/2325CNORode 1.53.0  (landing page)Attila Gabor  WARNINGS  
398/2325CNTools 1.67.0  (landing page)J. Zhang  OK  
399/2325CNVfilteR 1.25.0  (landing page)Jose Marcos Moreno-Cabrera  ERROR  
400/2325cnvGSA 1.55.0  (landing page)Joseph Lugo  OK  
401/2325CNViz 1.19.0  (landing page)Rebecca Greenblatt  ERROR  
402/2325CNVMetrics 1.15.1  (landing page)Astrid Deschênes  OK  
403/2325CNVPanelizer 1.43.0  (landing page)Thomas Wolf  OK  
404/2325CNVRanger 1.27.0  (landing page)Ludwig Geistlinger  ERROR  
405/2325CNVrd2 1.49.0  (landing page)Hoang Tan Nguyen  OK  
406/2325CoCiteStats 1.83.0  (landing page)Bioconductor Package Maintainer  OK  
407/2325COCOA 2.25.0  (landing page)John Lawson  ERROR  
408/2325codelink 1.79.0  (landing page)Diego Diez  OK  
409/2325CODEX 1.43.0  (landing page)Yuchao Jiang  OK  
410/2325CoGAPS 3.31.0  (landing page)Elana J. Fertig  ERROR  
411/2325cogena 1.45.0  (landing page)Zhilong Jia  WARNINGS  
412/2325cogeqc 1.15.0  (landing page)Fabrício Almeida-Silva  OK  
413/2325Cogito 1.17.0  (landing page)Annika Bürger  OK  
414/2325coGPS 1.55.0  (landing page)Yingying Wei  OK  
415/2325cola 2.17.0  (landing page)Zuguang Gu  ERROR  
416/2325comapr 1.15.0  (landing page)Ruqian Lyu  ERROR  
417/2325combi 1.23.0  (landing page)Stijn Hawinkel  ERROR  
418/2325coMethDMR 1.15.0  (landing page)Fernanda Veitzman  ERROR  
419/2325COMPASS 1.49.0  (landing page)Greg Finak  ERROR  
420/2325compcodeR 1.47.0  (landing page)Charlotte Soneson  ERROR  
421/2325compEpiTools 1.45.0  (landing page)Mattia Furlan  OK  
422/2325ComplexHeatmap 2.27.0  (landing page)Zuguang Gu  OK  
423/2325CompoundDb 1.15.0  (landing page)Johannes Rainer  OK  
424/2325ComPrAn 1.19.0  (landing page)Petra Palenikova  OK  
425/2325compSPOT 1.9.0  (landing page)Sydney Grant  OK  
426/2325concordexR 1.11.0  (landing page)Kayla Jackson  ERROR  
427/2325condiments 1.19.0  (landing page)Hector Roux de Bezieux  OK  
428/2325CONFESS 1.39.0  (landing page)Diana LOW  ERROR  
429/2325consensus 1.29.0  (landing page)Tim Peters  OK  
430/2325ConsensusClusterPlus 1.75.0  (landing page)Matt Wilkerson  OK  
431/2325consensusDE 1.29.0  (landing page)Ashley J. Waardenberg  ERROR  
432/2325consensusOV 1.33.0  (landing page)Benjamin Haibe-Kains  ERROR  
433/2325consensusSeekeR 1.39.0  (landing page)Astrid Deschênes  OK  
434/2325consICA 2.9.0  (landing page)Petr V. Nazarov  OK  
435/2325CONSTANd 1.19.0  (landing page)Dirk Valkenborg  OK  
436/2325conumee 1.45.0  (landing page)Volker Hovestadt  ERROR  
437/2325convert 1.87.0  (landing page)Yee Hwa (Jean) Yang  OK  
438/2325copa 1.79.0  (landing page)James W. MacDonald  OK  
439/2325CopyNumberPlots 1.27.0  (landing page)Bernat Gel  ERROR  
440/2325Coralysis 1.1.0  (landing page)António Sousa  ERROR  
441/2325coRdon 1.29.0  (landing page)Anamaria Elek  OK  
442/2325CoreGx 2.15.0  (landing page)Benjamin Haibe-Kains  OK  
443/2325Cormotif 1.57.0  (landing page)Yingying Wei  OK  
444/2325corral 1.21.0  (landing page)Lauren Hsu  OK  
445/2325coseq 1.35.0  (landing page)Andrea Rau  ERROR  
446/2325CoSIA 1.11.1  (landing page)Anthony B. Crumley  OK  
447/2325cosmiq 1.45.0  (landing page)David Fischer  ERROR  
448/2325cosmosR 1.19.0  (landing page)Attila Gabor  OK  
449/2325COSNet 1.45.0  (landing page)Marco Frasca  WARNINGS  
450/2325COTAN 2.11.0  (landing page)Galfrè Silvia Giulia  ERROR  
451/2325countsimQC 1.29.0  (landing page)Charlotte Soneson  ERROR  
452/2325covEB 1.37.0  (landing page)C. Pacini  OK  
453/2325CoverageView 1.49.0  (landing page)Ernesto Lowy  WARNINGS  
454/2325covRNA 1.37.0  (landing page)Lara Urban  OK  
455/2325CPSM 1.3.0  (landing page)Harpreet Kaur  OK  
456/2325cpvSNP 1.43.0  (landing page)Caitlin McHugh  ERROR  
457/2325cqn 1.57.0  (landing page)Kasper Daniel Hansen  ERROR  
458/2325CRImage 1.59.0  (landing page)Henrik Failmezger , Yinyin Yuan  OK  
459/2325CRISPRball 1.7.0  (landing page)Jared Andrews  OK  
460/2325crisprBase 1.15.0  (landing page)Jean-Philippe Fortin  WARNINGS  
461/2325crisprBowtie 1.15.0  (landing page)Jean-Philippe Fortin  OK  
462/2325crisprBwa 1.15.0  (landing page)Jean-Philippe Fortin  OK  
463/2325crisprDesign 1.13.2  (landing page)Jean-Philippe Fortin  OK  
464/2325crisprScore 1.15.0  (landing page)Jean-Philippe Fortin  OK  
465/2325CRISPRseek 1.51.0  (landing page)Lihua Julie Zhu  ERROR  
466/2325crisprShiny 1.7.0  (landing page)Jean-Philippe Fortin  ERROR  
467/2325CrispRVariants 1.39.0  (landing page)Helen Lindsay  WARNINGS  
468/2325crisprVerse 1.13.0  (landing page)Jean-Philippe Fortin  OK  
469/2325crisprViz 1.13.0  (landing page)Jean-Philippe Fortin  OK  
470/2325crlmm 1.69.0  (landing page)Benilton S Carvalho  WARNINGS  
471/2325crumblr 1.3.0  (landing page)Gabriel Hoffman  ERROR  
472/2325crupR 1.3.0  (landing page)Persia Akbari Omgba  OK  
473/2325CSAR 1.63.0  (landing page)Jose M Muino  OK  
474/2325csaw 1.45.0  (landing page)Aaron Lun  ERROR  
475/2325csdR 1.17.0  (landing page)Jakob Peder Pettersen  OK  
476/2325CSOA 1.1.0  (landing page)Andrei-Florian Stoica  ERROR  
477/2325CSSQ 1.23.0  (landing page)Fan Lab at Georgia Institute of Technology  OK  
478/2325ctc 1.85.0  (landing page)Antoine Lucas  OK  
479/2325CTdata 1.11.0  (landing page)Laurent Gatto  OK  
480/2325CTDquerier 2.19.0  (landing page)Xavier Escribà-Montagut  WARNINGS  
481/2325CTexploreR 1.7.0  (landing page)Axelle Loriot  ERROR  
482/2325cTRAP 1.29.0  (landing page)Nuno Saraiva-Agostinho  ERROR  
483/2325ctsGE 1.37.0  (landing page)Michal Sharabi-Schwager  OK  
484/2325CTSV 1.13.0  (landing page)Jinge Yu Developer  OK  
485/2325cummeRbund 2.53.0  (landing page)Loyal A. Goff  ERROR  
486/2325CuratedAtlasQueryR 1.9.0  (landing page)Stefano Mangiola  ERROR  
487/2325customCMPdb 1.21.0  (landing page)Yuzhu Duan  OK  
488/2325customProDB 1.51.0  (landing page)Xiaojing Wang  ERROR  
489/2325cyanoFilter 1.19.0  (landing page)Oluwafemi Olusoji  ERROR  
490/2325cycle 1.65.0  (landing page)Matthias Futschik  OK  
491/2325cydar 1.35.0  (landing page)Aaron Lun  ERROR  
492/2325cypress 1.7.0  (landing page)Shilin Yu  ERROR  
493/2325CytoDx 1.31.0  (landing page)Zicheng Hu  ERROR  
494/2325CyTOFpower 1.17.0  (landing page)Anne-Maud Ferreira  ERROR  
495/2325cytofQC 1.11.0  (landing page)Jill Lundell  ERROR  
496/2325CytoGLMM 1.19.0  (landing page)Christof Seiler  OK  
497/2325cytoKernel 1.17.0  (landing page)Tusharkanti Ghosh  OK  
498/2325cytolib 2.23.0  (landing page)Mike Jiang  ERROR  
499/2325cytomapper 1.23.0  (landing page)Lasse Meyer  ERROR  
500/2325CytoMDS 1.7.0  (landing page)Philippe Hauchamps  ERROR  
501/2325cytoMEM 1.15.0  (landing page)Jonathan Irish  ERROR  
502/2325CytoML 2.23.0  (landing page)Mike Jiang  ERROR  
503/2325CytoPipeline 1.11.0  (landing page)Philippe Hauchamps  ERROR  
504/2325CytoPipelineGUI 1.9.0  (landing page)Philippe Hauchamps  ERROR  
505/2325cytoviewer 1.11.0  (landing page)Lasse Meyer  ERROR  
D
ABCDEFGHIJKLMNOPQRSTUVWXYZ
PackageMaintainerINSTALL/BUILD/CHECK
506/2325dada2 1.39.0  (landing page)Benjamin Callahan  WARNINGS  
507/2325dagLogo 1.49.0  (landing page)Jianhong Ou  OK  
508/2325daMA 1.83.0  (landing page)Jobst Landgrebe  OK  
509/2325DAMEfinder 1.23.0  (landing page)Stephany Orjuela  OK  
510/2325DaMiRseq 2.23.0  (landing page)Mattia Chiesa  ERROR  
511/2325Damsel 1.7.0  (landing page)Caitlin Page  ERROR  
512/2325dandelionR 1.3.0  (landing page)Kelvin Tuong  ERROR  
513/2325DAPAR 1.43.0  (landing page)Samuel Wieczorek  ERROR  
514/2325dar 1.7.0  (landing page)Francesc Catala-Moll  ERROR  
515/2325DART 1.59.0  (landing page)Charles Shijie Zheng  OK  
516/2325dcanr 1.27.0  (landing page)Dharmesh D. Bhuva  ERROR  
517/2325DCATS 1.9.0  (landing page)Xinyi Lin  OK  
518/2325dcGSA 1.39.0  (landing page)Jiehuan sun  WARNINGS  
519/2325ddCt 1.67.0  (landing page)Jitao David Zhang  WARNINGS  
520/2325ddPCRclust 1.31.0  (landing page)Benedikt G. Brink  ERROR  
521/2325dearseq 1.23.0  (landing page)Boris P. Hejblum  ERROR  
522/2325debCAM 1.29.0  (landing page)Lulu Chen  ERROR  
523/2325debrowser 1.39.0  (landing page)Alper Kucukural  ERROR  
524/2325DECIPHER 3.7.0  (landing page)Erik Wright  OK  
525/2325decompTumor2Sig 2.27.0  (landing page)Rosario M. Piro  TIMEOUT  
526/2325DeconRNASeq 1.53.0  (landing page)Ting Gong  ERROR  
527/2325decontam 1.31.0  (landing page)Benjamin Callahan  ERROR  
528/2325decontX 1.9.0  (landing page)Joshua Campbell  ERROR  
529/2325DeconvoBuddies 1.3.0  (landing page)Louise Huuki-Myers  ERROR  
530/2325deconvR 1.17.0  (landing page)Irem B. Gündüz  ERROR  
531/2325decoupleR 2.17.0  (landing page)Pau Badia-i-Mompel  ERROR  
532/2325DeeDeeExperiment 1.1.0  (landing page)Najla Abassi  ERROR  
533/2325DeepPINCS 1.19.0  (landing page)Dongmin Jung  OK  
534/2325deepSNV 1.57.0  (landing page)Moritz Gerstung  OK  
535/2325DeepTarget 1.5.0  (landing page)Trinh Nguyen  OK  
536/2325DEFormats 1.39.0  (landing page)Andrzej Oleś  ERROR  
537/2325DegCre 1.7.0  (landing page)Brian S. Roberts  ERROR  
538/2325DegNorm 1.21.0  (landing page)Ji-Ping Wang  OK  
539/2325DEGraph 1.63.0  (landing page)Laurent Jacob  unknown  
540/2325DEGreport 1.47.0  (landing page)Lorena Pantano  ERROR  
541/2325DEGseq 1.65.0  (landing page)Likun Wang  WARNINGS  
542/2325DelayedArray 0.37.0  (landing page)Hervé Pagès  ERROR  
543/2325DelayedDataFrame 1.27.0  (landing page)Qian Liu  ERROR  
544/2325DelayedMatrixStats 1.33.0  (landing page)Peter Hickey  ERROR  
545/2325DelayedRandomArray 1.19.0  (landing page)Aaron Lun  OK  
546/2325DelayedTensor 1.17.0  (landing page)Koki Tsuyuzaki  ERROR  
547/2325DELocal 1.11.0  (landing page)Rishi Das Roy  ERROR  
548/2325deltaCaptureC 1.25.0  (landing page)Michael Shapiro  OK  
549/2325deltaGseg 1.51.0  (landing page)Diana Low  WARNINGS  
550/2325DeMAND 1.41.0  (landing page)Jung Hoon Woo , Mariano Alvarez  OK  
551/2325DeMixT 1.27.0  (landing page)Ruonan Li  ERROR  
552/2325demuxmix 1.13.0  (landing page)Hans-Ulrich Klein  ERROR  
553/2325demuxSNP 1.9.0  (landing page)Michael Lynch  OK  
554/2325densvis 1.21.1  (landing page)Alan O'Callaghan  OK  
555/2325DepecheR 1.27.0  (landing page)Jakob Theorell  ERROR  
556/2325DepInfeR 1.15.0  (landing page)Junyan Lu  OK  
557/2325DEqMS 1.29.0  (landing page)Yafeng Zhu  OK  
558/2325derfinder 1.45.0  (landing page)Leonardo Collado-Torres  OK  
559/2325derfinderHelper 1.45.0  (landing page)Leonardo Collado-Torres  OK  
560/2325derfinderPlot 1.45.0  (landing page)Leonardo Collado-Torres  OK  
561/2325DEScan2 1.31.0  (landing page)Dario Righelli  ERROR  
562/2325DESeq2 1.51.2  (landing page)Michael Love  ERROR  
563/2325DEsingle 1.31.0  (landing page)Zhun Miao  OK  
564/2325DESpace 2.3.1  (landing page)Peiying Cai  ERROR  
565/2325destiny 3.25.0  (landing page)Philipp Angerer  ERROR  
566/2325DEsubs 1.37.0  (landing page)Aristidis G. Vrahatis , Panos Balomenos  ERROR  
567/2325DEWSeq 1.25.0  (landing page)bioinformatics team Hentze  ERROR  
568/2325DExMA 1.19.0  (landing page)Juan Antonio Villatoro-García  ERROR  
569/2325DEXSeq 1.57.0  (landing page)Alejandro Reyes  ERROR  
570/2325DFP 1.69.0  (landing page)Rodrigo Alvarez-Glez  OK  
571/2325DFplyr 1.5.0  (landing page)Jonathan Carroll  OK  
572/2325DiffBind 3.21.0  (landing page)Rory Stark  ERROR  
573/2325diffcoexp 1.31.0  (landing page)Wenbin Wei  OK  
574/2325diffcyt 1.31.0  (landing page)Lukas M. Weber  ERROR  
575/2325DifferentialRegulation 2.9.0  (landing page)Simone Tiberi  ERROR  
576/2325diffGeneAnalysis 1.93.0  (landing page)Choudary Jagarlamudi  OK  
577/2325diffHic 1.43.0  (landing page)Aaron Lun , Gordon Smyth , Hannah Coughlin  ERROR  
578/2325DiffLogo 2.35.0  (landing page)Hendrik Treutler  WARNINGS  
579/2325diffuStats 1.31.0  (landing page)Sergio Picart-Armada  OK  
580/2325diffUTR 1.19.0  (landing page)Pierre-Luc Germain  ERROR  
581/2325diggit 1.43.0  (landing page)Mariano J Alvarez  WARNINGS  
582/2325Dino 1.17.0  (landing page)Jared Brown  ERROR  
583/2325dinoR 1.7.0  (landing page)Michaela Schwaiger  ERROR  
584/2325dir.expiry 1.19.0  (landing page)Aaron Lun  OK  
585/2325DirichletMultinomial 1.53.0  (landing page)Martin Morgan  OK  
586/2325discordant 1.35.0  (landing page)McGrath Max  OK  
587/2325DiscoRhythm 1.27.0  (landing page)Matthew Carlucci  OK  
588/2325distinct 1.23.0  (landing page)Simone Tiberi  OK  
589/2325dittoSeq 1.23.0  (landing page)Daniel Bunis  ERROR  
590/2325divergence 1.27.0  (landing page)Wikum Dinalankara , Luigi Marchionni  OK  
591/2325dks 1.57.0  (landing page)Jeffrey T. Leek  OK  
592/2325DMCFB 1.25.0  (landing page)Farhad Shokoohi  OK  
593/2325DMCHMM 1.33.0  (landing page)Farhad Shokoohi  OK  
594/2325dmGsea 1.1.1  (landing page)Zongli Xu  ERROR  
595/2325DMRcaller 1.43.1  (landing page)Nicolae Radu Zabet  OK  
596/2325DMRcate 3.7.0  (landing page)Tim Peters  ERROR  
597/2325DMRScan 1.33.0  (landing page)Christian M Page  OK  
598/2325dmrseq 1.31.0  (landing page)Keegan Korthauer  ERROR  
599/2325DNABarcodeCompatibility 1.27.0  (landing page)Céline Trébeau  OK  
600/2325DNABarcodes 1.41.0  (landing page)Tilo Buschmann  OK  
601/2325DNAcopy 1.85.0  (landing page)Venkatraman E. Seshan  OK  
602/2325DNAcycP2 1.3.0  (landing page)Ji-Ping Wang  ERROR  
603/2325DNAfusion 1.13.0  (landing page)Christoffer Trier Maansson  OK  
604/2325DNAshapeR 1.39.0  (landing page)Tsu-Pei Chiu  OK  
605/2325DNEA 1.1.0  (landing page)Christopher Patsalis  OK  
606/2325dominatR 0.99.4  (landing page)Simon Lizarazo  WARNINGS  
607/2325DominoEffect 1.31.0  (landing page)Marija Buljan , Peter Blattmann  OK  
608/2325dominoSignal 1.5.0  (landing page)Jacob T Mitchell  OK  
609/2325doppelgangR 1.39.0  (landing page)Levi Waldron  ERROR  
610/2325Doscheda 1.33.0  (landing page)Bruno Contrino  OK  
611/2325DOSE 4.5.0  (landing page)Guangchuang Yu  OK  
612/2325doseR 1.27.0  (landing page)ake.vastermark  ERROR  
613/2325DOtools 1.1.0  (landing page)Mariano Ruz Jurado  ERROR  
614/2325doubletrouble 1.11.0  (landing page)Fabrício Almeida-Silva  OK  
615/2325drawProteins 1.31.0  (landing page)Paul Brennan  ERROR  
616/2325dreamlet 1.9.0  (landing page)Gabriel Hoffman  ERROR  
617/2325DRIMSeq 1.39.0  (landing page)Malgorzata Nowicka  ERROR  
618/2325DriverNet 1.51.0  (landing page)Jiarui Ding  OK  
619/2325DropletUtils 1.31.0  (landing page)Jonathan Griffiths  ERROR  
620/2325drugTargetInteractions 1.19.0  (landing page)Thomas Girke  OK  
621/2325DrugVsDisease 2.53.0  (landing page)j. Saez-Rodriguez  ERROR  
622/2325DspikeIn 1.1.0  (landing page)Mitra Ghotbi  ERROR  
623/2325DSS 2.59.0  (landing page)Hao Wu , Hao Feng  ERROR  
624/2325dStruct 1.17.0  (landing page)Krishna Choudhary  OK  
625/2325DTA 2.57.0  (landing page)Bjoern Schwalb  OK  
626/2325Dune 1.23.0  (landing page)Hector Roux de Bezieux  ERROR  
627/2325DuplexDiscovereR 1.5.0  (landing page)Egor Semenchenko  OK  
628/2325dupRadar 1.41.0  (landing page)Sergi Sayols , Holger Klein  OK  
629/2325dyebias 1.71.0  (landing page)Philip Lijnzaad  OK  
630/2325DynDoc 1.89.0  (landing page)Bioconductor Package Maintainer  WARNINGS  
E
ABCDEFGHIJKLMNOPQRSTUVWXYZ
PackageMaintainerINSTALL/BUILD/CHECK
631/2325easier 1.17.0  (landing page)Oscar Lapuente-Santana  OK  
632/2325EasyCellType 1.13.0  (landing page)Ruoxing Li  OK  
633/2325easylift 1.9.0  (landing page)Abdullah Al Nahid  OK  
634/2325easyreporting 1.23.0  (landing page)Dario Righelli  ERROR  
635/2325easyRNASeq 2.47.0  (landing page)Nicolas Delhomme  ERROR  
636/2325EBarrays 2.75.0  (landing page)Ming Yuan  OK  
637/2325EBcoexpress 1.55.0  (landing page)John A. Dawson  OK  
638/2325EBImage 4.53.0  (landing page)Andrzej Oleś  OK  
639/2325EBSEA 1.39.0  (landing page)Arfa Mehmood  OK  
640/2325EBSeq 2.9.0  (landing page)Xiuyu Ma  WARNINGS  
641/2325ecolitk 1.83.0  (landing page)Laurent Gautier  WARNINGS  
642/2325EDASeq 2.45.0  (landing page)Davide Risso  ERROR  
643/2325edge 2.43.0  (landing page)John D. Storey , Andrew J. Bass  ERROR  
644/2325edgeR 4.9.0  (landing page)Yunshun Chen , Gordon Smyth  ERROR  
645/2325EDIRquery 1.11.0  (landing page)Laura D.T. Vo Ngoc  OK  
646/2325eds 1.13.0  (landing page)Avi Srivastava  OK  
647/2325EGAD 1.39.0  (landing page)Sara Ballouz  WARNINGS  
648/2325EGSEA 1.39.0  (landing page)Monther Alhamdoosh  ERROR  
649/2325eiR 1.51.0  (landing page)Thomas Girke  OK  
650/2325eisaR 1.23.1  (landing page)Michael Stadler  ERROR  
651/2325ELMER 2.35.0  (landing page)Tiago Chedraoui Silva  ERROR  
652/2325ELViS 1.3.0  (landing page)Jin-Young Lee  OK  
653/2325EMDomics 2.41.0  (landing page)Sadhika Malladi and Daniel Schmolze  OK  
654/2325EmpiricalBrownsMethod 1.39.0  (landing page)David Gibbs  OK  
655/2325EnhancedVolcano 1.29.0  (landing page)Kevin Blighe  ERROR  
656/2325enhancerHomologSearch 1.17.0  (landing page)Jianhong Ou  OK  
657/2325EnMCB 1.23.0  (landing page)Xin Yu  ERROR  
658/2325ENmix 1.47.0  (landing page)Zongli Xu  ERROR  
659/2325EnrichDO 1.5.0  (landing page)Hongyu Fu  OK  
660/2325EnrichedHeatmap 1.41.0  (landing page)Zuguang Gu  OK  
661/2325EnrichmentBrowser 2.41.0  (landing page)Ludwig Geistlinger  ERROR  
662/2325enrichplot 1.31.0  (landing page)Guangchuang Yu  OK  
663/2325enrichViewNet 1.9.0  (landing page)Astrid Deschênes  OK  
664/2325ensembldb 2.35.0  (landing page)Johannes Rainer  OK  
665/2325epialleleR 1.19.0  (landing page)Oleksii Nikolaienko  ERROR  
666/2325EpiCompare 1.15.0  (landing page)Hiranyamaya Dash  OK  
667/2325epidecodeR 1.19.0  (landing page)Kandarp Joshi  OK  
668/2325EpiDISH 2.27.0  (landing page)Shijie C. Zheng  OK  
669/2325epigenomix 1.51.0  (landing page)Hans-Ulrich Klein  OK  
670/2325epigraHMM 1.19.0  (landing page)Pedro Baldoni  ERROR  
671/2325EpiMix 1.13.0  (landing page)Yuanning Zheng  OK  
672/2325epimutacions 1.15.0  (landing page)Dolors Pelegri-Siso  ERROR  
673/2325epiNEM 1.35.0  (landing page)Martin Pirkl  OK  
674/2325EpipwR 1.5.0  (landing page)Jackson Barth  OK  
675/2325epiregulon 2.1.0  (landing page)Xiaosai Yao  ERROR  
676/2325epiregulon.extra 1.7.0  (landing page)Xiaosai Yao  ERROR  
677/2325epistack 1.17.0  (landing page)DEVAILLY Guillaume  OK  
678/2325epistasisGA 1.13.0  (landing page)Michael Nodzenski  WARNINGS  
679/2325EpiTxDb 1.23.0  (landing page)Felix G.M. Ernst  ERROR  
680/2325epivizr 2.41.0  (landing page)Hector Corrada Bravo  ERROR  
681/2325epivizrChart 1.33.0  (landing page)Hector Corrada Bravo  ERROR  
682/2325epivizrData 1.39.0  (landing page)Hector Corrada Bravo  OK  
683/2325epivizrServer 1.39.0  (landing page)Hector Corrada Bravo  ERROR  
684/2325epivizrStandalone 1.39.0  (landing page)Hector Corrada Bravo  WARNINGS  
685/2325erccdashboard 1.45.0  (landing page)Sarah Munro  ERROR  
686/2325ERSSA 1.29.0  (landing page)Zixuan Shao  ERROR  
687/2325esATAC 1.33.0  (landing page)Zheng Wei  ERROR  
688/2325escape 2.7.0  (landing page)Nick Borcherding  ERROR  
689/2325escheR 1.11.0  (landing page)Boyi Guo  ERROR  
690/2325esetVis 1.37.0  (landing page)Laure Cougnaud  OK  
691/2325eudysbiome 1.41.0  (landing page)Xiaoyuan Zhou  OK  
692/2325evaluomeR 1.27.0  (landing page)José Antonio Bernabé-Díaz  WARNINGS  
693/2325EventPointer 3.19.0  (landing page)Juan A. Ferrer-Bonsoms  ERROR  
694/2325EWCE 1.19.0  (landing page)Hiranyamaya Dash  OK  
695/2325ExCluster 1.29.0  (landing page)R. Matthew Tanner  OK  
696/2325ExiMiR 2.53.0  (landing page)Sylvain Gubian  OK  
697/2325ExperimentHub 3.1.0  (landing page)Bioconductor Package Maintainer  WARNINGS  
698/2325ExperimentHubData 1.37.0  (landing page)Bioconductor Package Maintainer  WARNINGS  
699/2325ExperimentSubset 1.21.0  (landing page)Irzam Sarfraz  ERROR  
700/2325ExploreModelMatrix 1.23.0  (landing page)Charlotte Soneson  OK  
701/2325ExpressionAtlas 2.3.0  (landing page)Anil Thanki  OK  
702/2325extraChIPs 1.15.0  (landing page)Stevie Pederson  ERROR  
F
ABCDEFGHIJKLMNOPQRSTUVWXYZ
PackageMaintainerINSTALL/BUILD/CHECK
703/2325fabia 2.57.0  (landing page)Andreas Mitterecker  WARNINGS  
704/2325factDesign 1.87.0  (landing page)Denise Scholtens  OK  
705/2325factR 1.13.0  (landing page)Fursham Hamid  OK  
706/2325faers 1.7.0  (landing page)Yun Peng  OK  
707/2325FamAgg 1.39.0  (landing page)Johannes Rainer  OK  
708/2325famat 1.21.0  (landing page)Mathieu Charles  ERROR  
709/2325fastLiquidAssociation 1.47.0  (landing page)Tina Gunderson  WARNINGS  
710/2325FastqCleaner 1.29.0  (landing page)Leandro Roser  OK  
711/2325fastreeR 2.1.0  (landing page)Anestis Gkanogiannis  OK  
712/2325fastseg 1.57.0  (landing page)Alexander Blume  OK  
713/2325fCCAC 1.37.0  (landing page)Pedro Madrigal  OK  
714/2325fCI 1.41.0  (landing page)Shaojun Tang  OK  
715/2325fcScan 1.25.0  (landing page)Pierre Khoueiry Abdullah El-Kurdi  OK  
716/2325fdrame 1.83.0  (landing page)Effi Kenigsberg  OK  
717/2325FEAST 1.19.0  (landing page)Kenong Su  OK  
718/2325FeatSeekR 1.11.0  (landing page)Tuemay Capraz  OK  
719/2325fedup 1.19.0  (landing page)Catherine Ross  OK  
720/2325FELLA 1.31.0  (landing page)Sergio Picart-Armada  ERROR  
721/2325fenr 1.9.0  (landing page)Marek Gierlinski  OK  
722/2325ffpe 1.55.0  (landing page)Levi Waldron  ERROR  
723/2325fgga 1.19.0  (landing page)Flavio Spetale  OK  
724/2325FGNet 3.45.0  (landing page)Sara Aibar  WARNINGS  
725/2325fgsea 1.37.0  (landing page)Alexey Sergushichev  OK  
726/2325FilterFFPE 1.21.0  (landing page)Lanying Wei  OK  
727/2325findIPs 1.7.0  (landing page)Shuo Wang  OK  
728/2325FindIT2 1.17.0  (landing page)Guandong Shang  OK  
729/2325FinfoMDS 1.1.0  (landing page)Soobin Kim  ERROR  
730/2325FISHalyseR 1.45.0  (landing page)Karesh Arunakirinathan  WARNINGS  
731/2325fishpond 2.17.0  (landing page)Michael Love  ERROR  
732/2325FitHiC 1.37.0  (landing page)Ruyu Tan  OK  
733/2325flagme 1.67.0  (landing page)Mark Robinson , Riccardo Romoli  ERROR  
734/2325FLAMES 2.5.1  (landing page)Changqing Wang  ERROR  
735/2325flowAI 1.41.0  (landing page)Gianni Monaco  ERROR  
736/2325flowBeads 1.49.0  (landing page)Nikolas Pontikos  ERROR  
737/2325flowBin 1.47.0  (landing page)Kieran O'Neill  ERROR  
738/2325flowcatchR 1.45.0  (landing page)Federico Marini  OK  
739/2325flowCHIC 1.45.0  (landing page)Author: Joachim Schumann  ERROR  
740/2325flowClean 1.49.0  (landing page)Kipper Fletez-Brant  ERROR  
741/2325flowClust 3.49.0  (landing page)Greg Finak , Mike Jiang  ERROR  
742/2325flowCore 2.23.0  (landing page)Mike Jiang  ERROR  
743/2325flowCut 1.21.0  (landing page)Justin Meskas  ERROR  
744/2325flowCyBar 1.47.0  (landing page)Joachim Schumann  OK  
745/2325flowDensity 1.45.0  (landing page)Mehrnoush Malek  ERROR  
746/2325flowFP 1.69.0  (landing page)Herb Holyst , Wade Rogers  ERROR  
747/2325flowGate 1.11.0  (landing page)Andrew Wight  ERROR  
748/2325flowGraph 1.19.0  (landing page)Alice Yue  OK  
749/2325flowMatch 1.47.0  (landing page)Ariful Azad  ERROR  
750/2325flowMeans 1.71.0  (landing page)Nima Aghaeepour  ERROR  
751/2325flowMerge 2.59.0  (landing page)Greg Finak  ERROR  
752/2325flowPeaks 1.57.0  (landing page)Yongchao Ge  ERROR  
753/2325flowPloidy 1.37.0  (landing page)Tyler Smith  ERROR  
754/2325flowPlots 1.59.0  (landing page)N. Hawkins  OK  
755/2325FlowSOM 2.19.0  (landing page)Sofie Van Gassen  ERROR  
756/2325flowSpecs 1.25.0  (landing page)Jakob Theorell  ERROR  
757/2325flowStats 4.23.0  (landing page)Greg Finak , Mike Jiang  ERROR  
758/2325flowTime 1.35.0  (landing page)R. Clay Wright  ERROR  
759/2325flowTrans 1.63.0  (landing page)Greg Finak  ERROR  
760/2325flowViz 1.75.0  (landing page)Mike Jiang  ERROR  
761/2325flowVS 1.43.0  (landing page)Ariful Azad  ERROR  
762/2325flowWorkspace 4.23.0  (landing page)Greg Finak , Mike Jiang  ERROR  
763/2325fmcsR 1.53.0  (landing page)Thomas Girke  OK  
764/2325fmrs 1.21.0  (landing page)Farhad Shokoohi  OK  
765/2325fobitools 1.19.0  (landing page)Pol Castellano-Escuder  ERROR  
766/2325FRASER 2.7.0  (landing page)Christian Mertes  ERROR  
767/2325frenchFISH 1.23.0  (landing page)Adam Berman  OK  
768/2325FRGEpistasis 1.47.0  (landing page)Futao Zhang  OK  
769/2325frma 1.63.0  (landing page)Matthew N. McCall  OK  
770/2325frmaTools 1.63.0  (landing page)Matthew N. McCall  OK  
771/2325funOmics 1.5.0  (landing page)Elisa Gomez de Lope  OK  
772/2325funtooNorm 1.35.0  (landing page)Kathleen Klein  ERROR  
773/2325FuseSOM 1.13.0  (landing page)Elijah Willie  OK  
G
ABCDEFGHIJKLMNOPQRSTUVWXYZ
PackageMaintainerINSTALL/BUILD/CHECK
774/2325G4SNVHunter 1.3.0  (landing page)Rongxin Zhang  WARNINGS  
775/2325GA4GHclient 1.35.0  (landing page)Welliton Souza  OK  
776/2325GA4GHshiny 1.33.0  (landing page)Welliton Souza  OK  
777/2325gaga 2.57.0  (landing page)David Rossell  WARNINGS  
778/2325gage 2.61.0  (landing page)Weijun Luo  ERROR  
779/2325GAprediction 1.37.0  (landing page)Jon Bohlin  OK  
780/2325garfield 1.39.0  (landing page)Valentina Iotchkova  WARNINGS  
781/2325GARS 1.31.0  (landing page)Mattia Chiesa  ERROR  
782/2325GateFinder 1.31.0  (landing page)Nima Aghaeepour  ERROR  
783/2325gatom 1.9.2  (landing page)Alexey Sergushichev  OK  
784/2325GBScleanR 2.5.0  (landing page)Tomoyuki Furuta  ERROR  
785/2325gcapc 1.35.0  (landing page)Mingxiang Teng  OK  
786/2325gcatest 2.11.0  (landing page)Alejandro Ochoa  OK  
787/2325GCPtools 1.1.0  (landing page)Marcel Ramos  OK  
788/2325gCrisprTools 2.17.0  (landing page)Russell Bainer  ERROR  
789/2325gcrma 2.83.0  (landing page)Z. Wu  OK  
790/2325GDCRNATools 1.31.0  (landing page)Ruidong Li  ERROR  
791/2325gDNAx 1.9.0  (landing page)Robert Castelo  OK  
792/2325gDR 1.9.1  (landing page)Arkadiusz Gladki  OK  
793/2325gDRcore 1.9.1  (landing page)Arkadiusz Gladki  WARNINGS  
794/2325gDRimport 1.9.1  (landing page)Arkadiusz Gladki  WARNINGS  
795/2325gDRstyle 1.9.1  (landing page)Arkadiusz Gladki  OK  
796/2325gDRutils 1.9.1  (landing page)Arkadiusz Gladki  OK  
797/2325GDSArray 1.31.0  (landing page)Xiuwen Zheng  ERROR  
798/2325gdsfmt 1.47.0  (landing page)Xiuwen Zheng  ERROR  
799/2325GeDi 1.7.0  (landing page)Annekathrin Nedwed  ERROR  
800/2325GEM 1.37.0  (landing page)Hong Pan  OK  
801/2325gemini 1.25.0  (landing page)Sidharth Jain  OK  
802/2325gemma.R 3.7.0  (landing page)Ogan Mancarci  OK  
803/2325genArise 1.87.0  (landing page)IFC Development Team  WARNINGS  
804/2325geneAttribution 1.37.0  (landing page)Arthur Wuster  OK  
805/2325GeneBreak 1.41.0  (landing page)Evert van den Broek  OK  
806/2325geneClassifiers 1.35.0  (landing page)R Kuiper  OK  
807/2325GeneExpressionSignature 1.57.0  (landing page)Yang Cao  OK  
808/2325genefilter 1.93.0  (landing page)Bioconductor Package Maintainer  WARNINGS  
809/2325genefu 2.43.0  (landing page)Benjamin Haibe-Kains  WARNINGS  
810/2325GeneGA 1.61.0  (landing page)Zhenpeng Li  ERROR  
811/2325GeneMeta 1.83.0  (landing page)Bioconductor Package Maintainer  OK  
812/2325GeneNetworkBuilder 1.53.0  (landing page)Jianhong Ou  OK  
813/2325GeneOverlap 1.47.0  (landing page)António Miguel de Jesus Domingues, Max-Planck Institute for Cell Biology and Genetics  OK  
814/2325geneplast 1.37.0  (landing page)Mauro Castro  OK  
815/2325geneplotter 1.89.0  (landing page)Bioconductor Package Maintainer  OK  
816/2325geneRecommender 1.83.0  (landing page)Greg Hather  OK  
817/2325GeneRegionScan 1.67.0  (landing page)Lasse Folkersen  OK  
818/2325geneRxCluster 1.47.0  (landing page)Charles Berry  OK  
819/2325GeneSelectMMD 2.55.0  (landing page)Weiliang Qiu  WARNINGS  
820/2325GENESIS 2.41.0  (landing page)Stephanie M. Gogarten  ERROR  
821/2325GeneStructureTools 1.31.0  (landing page)Beth Signal  OK  
822/2325geNetClassifier 1.51.0  (landing page)Sara Aibar  OK  
823/2325GeneticsPed 1.73.0  (landing page)David Henderson  WARNINGS  
824/2325GeneTonic 3.5.0  (landing page)Federico Marini  ERROR  
825/2325geneXtendeR 1.37.0  (landing page)Bohdan Khomtchouk  WARNINGS  
826/2325GENIE3 1.33.0  (landing page)Van Anh Huynh-Thu  OK  
827/2325genomation 1.43.0  (landing page)Altuna Akalin , Vedran Franke  OK  
828/2325GenomAutomorphism 1.13.0  (landing page)Robersy Sanchez  OK  
829/2325GenomeInfoDb 1.47.0  (landing page)Hervé Pagès  OK  
830/2325genomeIntervals 1.67.0  (landing page)Julien Gagneur  WARNINGS  
831/2325genomes 3.41.0  (landing page)Chris Stubben  OK  
832/2325GenomicAlignments 1.47.0  (landing page)Hervé Pagès  ERROR  
833/2325GenomicDataCommons 1.35.1  (landing page)Sean Davis  OK  
834/2325GenomicDistributions 1.19.0  (landing page)Kristyna Kupkova  OK  
835/2325GenomicFeatures 1.63.1  (landing page)H. Pagès  OK  
836/2325GenomicFiles 1.47.0  (landing page)Bioconductor Package Maintainer  OK  
837/2325genomicInstability 1.17.0  (landing page)Mariano Alvarez  OK  
838/2325GenomicInteractionNodes 1.15.0  (landing page)Jianhong Ou  OK  
839/2325GenomicInteractions 1.45.0  (landing page)Liz Ing-Simmons  OK  
840/2325GenomicOZone 1.25.0  (landing page)Hua Zhong, Mingzhou Song  OK  
841/2325GenomicPlot 1.9.0  (landing page)Shuye Pu  ERROR  
842/2325GenomicRanges 1.63.0  (landing page)Hervé Pagès  ERROR  
843/2325GenomicScores 2.23.0  (landing page)Robert Castelo  ERROR  
844/2325GenomicSuperSignature 1.19.0  (landing page)Sehyun Oh  ERROR  
845/2325GenomicTuples 1.45.0  (landing page)Peter Hickey  OK  
846/2325GenProSeq 1.15.0  (landing page)Dongmin Jung  OK  
847/2325GenVisR 1.43.0  (landing page)Zachary Skidmore  ERROR  
848/2325GeoDiff 1.17.0  (landing page)Nicole Ortogero  OK  
849/2325GEOexplorer 1.17.0  (landing page)Guy Hunt  ERROR  
850/2325GEOfastq 1.19.0  (landing page)Alex Pickering  OK  
851/2325GEOmetadb 1.73.0  (landing page)Jack Zhu  WARNINGS  
852/2325geomeTriD 1.5.0  (landing page)Jianhong Ou  ERROR  
853/2325GeomxTools 3.15.0  (landing page)Maddy Griswold  OK  
854/2325GEOquery 2.79.0  (landing page)Sean Davis  ERROR  
855/2325GEOsubmission 1.63.0  (landing page)Alexandre Kuhn  OK  
856/2325GeoTcgaData 2.11.0  (landing page)Erqiang Hu  ERROR  
857/2325gep2pep 1.31.0  (landing page)Francesco Napolitano  ERROR  
858/2325getDEE2 1.21.0  (landing page)Mark 0000-0002-7688-6974 Ziemann  OK  
859/2325geva 1.19.0  (landing page)Itamar José Guimarães Nunes  OK  
860/2325GEWIST 1.55.0  (landing page)Wei Q. Deng  OK  
861/2325geyser 1.3.0  (landing page)David McGaughey  OK  
862/2325gg4way 1.9.0  (landing page)Benjamin I Laufer  ERROR  
863/2325ggbio 1.59.0  (landing page)Michael Lawrence  WARNINGS  
864/2325ggcyto 1.39.0  (landing page)Mike Jiang  ERROR  
865/2325ggkegg 1.9.0  (landing page)Noriaki Sato  OK  
866/2325ggmanh 1.15.0  (landing page)John Lee  ERROR  
867/2325ggmsa 1.17.0  (landing page)Guangchuang Yu  WARNINGS  
868/2325GGPA 1.23.0  (landing page)Dongjun Chung  WARNINGS  
869/2325ggsc 1.9.0  (landing page)Guangchuang Yu  ERROR  
870/2325ggseqalign 1.5.0  (landing page)Simeon Lim Rossmann  OK  
871/2325ggspavis 1.17.0  (landing page)Lukas M. Weber  ERROR  
872/2325ggtree 4.1.1  (landing page)Guangchuang Yu  OK  
873/2325ggtreeDendro 1.13.0  (landing page)Guangchuang Yu  WARNINGS  
874/2325ggtreeExtra 1.21.0  (landing page)Shuangbin Xu  OK  
875/2325ggtreeSpace 1.7.0  (landing page)Guangchuang Yu  WARNINGS  
876/2325GIGSEA 1.29.0  (landing page)Shijia Zhu  OK  
877/2325ginmappeR 1.7.0  (landing page)Fernando Sola  OK  
878/2325gINTomics 1.7.0  (landing page)Angelo Velle  ERROR  
879/2325GLAD 2.75.0  (landing page)Philippe Hupe  WARNINGS  
880/2325GladiaTOX 1.27.0  (landing page)PMP S.A. R Support  OK  
881/2325Glimma 2.21.0  (landing page)Shian Su  ERROR  
882/2325glmGamPoi 1.23.0  (landing page)Constantin Ahlmann-Eltze  ERROR  
883/2325glmSparseNet 1.29.0  (landing page)André Veríssimo  ERROR  
884/2325GlobalAncova 4.29.0  (landing page)Manuela Hummel  WARNINGS  
885/2325globalSeq 1.39.0  (landing page)Armin Rauschenberger  OK  
886/2325globaltest 5.65.0  (landing page)Jelle Goeman  TIMEOUT  
887/2325GloScope 2.1.0  (landing page)William Torous  ERROR  
888/2325gmapR 1.53.0  (landing page)Michael Lawrence  ERROR  
889/2325GmicR 1.25.0  (landing page)Richard Virgen-Slane  WARNINGS  
890/2325gmoviz 1.23.0  (landing page)Kathleen Zeglinski  OK  
891/2325GMRP 1.39.0  (landing page)Yuan-De Tan  OK  
892/2325GNET2 1.27.0  (landing page)Chen Chen  OK  
893/2325GNOSIS 1.9.0  (landing page)Lydia King  WARNINGS  
894/2325goatea 1.1.3  (landing page)Maurits Unkel  ERROR  
895/2325GOexpress 1.45.0  (landing page)Kevin Rue-Albrecht  OK  
896/2325GOfuncR 1.31.0  (landing page)Steffi Grote  OK  
897/2325GOpro 1.37.0  (landing page)Lidia Chrabaszcz  OK  
898/2325goProfiles 1.73.0  (landing page)Alex Sanchez  OK  
899/2325GOSemSim 2.37.0  (landing page)Guangchuang Yu  OK  
900/2325goseq 1.63.0  (landing page)Federico Marini  ERROR  
901/2325goSorensen 1.13.0  (landing page)Pablo Flores  OK  
902/2325goSTAG 1.35.0  (landing page)Brian D. Bennett  OK  
903/2325GOstats 2.77.0  (landing page)Bioconductor Package Maintainer  OK  
904/2325GOTHiC 1.47.0  (landing page)Borbala Mifsud  OK  
905/2325goTools 1.85.0  (landing page)Agnes Paquet  OK  
906/2325GPA 1.23.0  (landing page)Dongjun Chung  OK  
907/2325gpls 1.83.0  (landing page)Bioconductor Package Maintainer  WARNINGS  
908/2325GrafGen 1.7.0  (landing page)William Wheeler  WARNINGS  
909/2325GRaNIE 1.15.0  (landing page)Christian Arnold  ERROR  
910/2325granulator 1.19.0  (landing page)Sabina Pfister  ERROR  
911/2325graper 1.27.0  (landing page)Britta Velten  OK  
912/2325graph 1.89.0  (landing page)Bioconductor Package Maintainer  OK  
913/2325GraphAlignment 1.75.0  (landing page)Joern P. Meier  OK  
914/2325GraphAT 1.83.0  (landing page)Thomas LaFramboise  OK  
915/2325graphite 1.57.0  (landing page)Gabriele Sales  OK  
916/2325GRENITS 1.63.0  (landing page)Edward Morrissey  OK  
917/2325GreyListChIP 1.43.0  (landing page)Matt Eldridge  OK  
918/2325GRmetrics 1.37.0  (landing page)Nicholas Clark , Mario Medvedovic  OK  
919/2325groHMM 1.45.0  (landing page)Tulip Nandu  ERROR  
920/2325GSALightning 1.39.0  (landing page)Billy Heung Wing Chang  OK  
921/2325GSAR 1.45.0  (landing page)Yasir Rahmatallah , Galina Glazko  ERROR  
922/2325GSCA 2.41.0  (landing page)Zhicheng Ji  ERROR  
923/2325gscreend 1.25.0  (landing page)Katharina Imkeller  OK  
924/2325GSEABase 1.73.0  (landing page)Bioconductor Package Maintainer  ERROR  
925/2325GSEABenchmarkeR 1.31.0  (landing page)Ludwig Geistlinger  ERROR  
926/2325GSEAlm 1.71.0  (landing page)Assaf Oron  OK  
927/2325GSEAmining 1.21.0  (landing page)Oriol Arqués  OK  
928/2325gsean 1.31.0  (landing page)Dongmin Jung  OK  
929/2325GSgalgoR 1.21.0  (landing page)Carlos Catania  OK  
930/2325GSReg 1.45.0  (landing page)Bahman Afsari , Elana J. Fertig  WARNINGS  
931/2325GSRI 2.59.0  (landing page)Julian Gehring  OK  
932/2325GSVA 2.5.6  (landing page)Robert Castelo  ERROR  
933/2325gtrellis 1.43.0  (landing page)Zuguang Gu  OK  
934/2325GUIDEseq 1.41.0  (landing page)Lihua Julie Zhu  ERROR  
935/2325Guitar 2.27.0  (landing page)Jia Meng  OK  
936/2325gVenn 1.1.0  (landing page)Christophe Tav  OK  
937/2325Gviz 1.55.0  (landing page)Robert Ivanek  OK  
938/2325GWAS.BAYES 1.21.0  (landing page)Jacob Williams  OK  
939/2325gwascat 2.43.0  (landing page)VJ Carey  OK  
940/2325GWASTools 1.57.0  (landing page)Stephanie M. Gogarten  ERROR  
941/2325gwasurvivr 1.29.0  (landing page)Abbas Rizvi  ERROR  
942/2325GWENA 1.21.0  (landing page)Gwenaëlle Lemoine  WARNINGS  
943/2325gypsum 1.7.0  (landing page)Aaron Lun  OK  
H
ABCDEFGHIJKLMNOPQRSTUVWXYZ
PackageMaintainerINSTALL/BUILD/CHECK
944/2325h5mread 1.3.0  (landing page)Hervé Pagès  ERROR  
945/2325h5vc 2.45.0  (landing page)Paul Theodor Pyl  ERROR  
946/2325hapFabia 1.53.0  (landing page)Andreas Mitterecker  WARNINGS  
947/2325Harman 1.39.0  (landing page)Jason Ross  ERROR  
948/2325HarmonizR 1.9.0  (landing page)Simon Schlumbohm  ERROR  
949/2325hca 1.19.0  (landing page)Martin Morgan  ERROR  
950/2325HDF5Array 1.39.0  (landing page)Hervé Pagès  ERROR  
951/2325HDTD 1.45.0  (landing page)Anestis Touloumis  OK  
952/2325hdxmsqc 1.7.0  (landing page)Oliver M. Crook  OK  
953/2325heatmaps 1.35.0  (landing page)Malcolm Perry  OK  
954/2325Heatplus 3.19.0  (landing page)Alexander Ploner  OK  
955/2325HelloRanges 1.37.0  (landing page)Michael Lawrence  OK  
956/2325HELP 1.69.0  (landing page)Reid F. Thompson  OK  
957/2325HEM 1.83.0  (landing page)HyungJun Cho  ERROR  
958/2325hermes 1.15.0  (landing page)Daniel Sabanés Bové  ERROR  
959/2325HERON 1.9.0  (landing page)Sean McIlwain  OK  
960/2325Herper 1.21.0  (landing page)Thomas Carroll  OK  
961/2325HGC 1.19.0  (landing page)XGlab  WARNINGS  
962/2325HIBAG 1.47.0  (landing page)Xiuwen Zheng  ERROR  
963/2325HicAggR 1.7.0  (landing page)Olivier Cuvier  ERROR  
964/2325HiCaptuRe 1.1.0  (landing page)Laureano Tomas-Daza  OK  
965/2325HiCBricks 1.29.0  (landing page)Koustav Pal  ERROR  
966/2325HiCcompare 1.33.0  (landing page)Mikhail Dozmorov  ERROR  
967/2325HiCDCPlus 1.19.0  (landing page)Merve Sahin  OK  
968/2325HiCDOC 1.13.0  (landing page)Maigné Élise  ERROR  
969/2325HiCExperiment 1.11.0  (landing page)Jacques Serizay  ERROR  
970/2325HiContacts 1.13.0  (landing page)Jacques Serizay  ERROR  
971/2325HiCool 1.11.0  (landing page)Jacques Serizay  ERROR  
972/2325HiCParser 1.3.0  (landing page)Maigné Élise  ERROR  
973/2325HiCPotts 1.1.0  (landing page)Itunu. Godwin Osuntoki  ERROR  
974/2325hicVennDiagram 1.9.0  (landing page)Jianhong Ou  OK  
975/2325hierGWAS 1.41.0  (landing page)Laura Buzdugan  WARNINGS  
976/2325hierinf 1.29.0  (landing page)Claude Renaux  OK  
977/2325HilbertCurve 2.5.0  (landing page)Zuguang Gu  OK  
978/2325HilbertVis 1.69.0  (landing page)Simon Anders  WARNINGS  
979/2325HilbertVisGUI 1.69.0  (landing page)Simon Anders  unknown  
980/2325HiLDA 1.25.0  (landing page)Zhi Yang  OK  
981/2325hipathia 3.11.0  (landing page)Marta R. Hidalgo  ERROR  
982/2325HIPPO 1.23.0  (landing page)Tae Kim  OK  
983/2325HIREewas 1.29.0  (landing page)Xiangyu Luo  OK  
984/2325HiTC 1.55.0  (landing page)Nicolas Servant  WARNINGS  
985/2325hmdbQuery 1.31.0  (landing page)VJ Carey  OK  
986/2325HMMcopy 1.53.0  (landing page)Daniel Lai  WARNINGS  
987/2325HoloFoodR 1.5.0  (landing page)Tuomas Borman  ERROR  
988/2325hoodscanR 1.9.0  (landing page)Ning Liu  OK  
989/2325hopach 2.71.0  (landing page)Katherine S. Pollard  OK  
990/2325HPAanalyze 1.29.0  (landing page)Anh Nhat Tran  OK  
991/2325hpar 1.53.0  (landing page)Laurent Gatto  OK  
992/2325HPiP 1.17.0  (landing page)Matineh Rahmatbakhsh  ERROR  
993/2325HTqPCR 1.65.0  (landing page)Matthew N. McCall  OK  
994/2325HTSFilter 1.51.0  (landing page)Andrea Rau  ERROR  
995/2325HuBMAPR 1.5.0  (landing page)Christine Hou  OK  
996/2325HubPub 1.19.0  (landing page)Kayla Interdonato  OK  
997/2325hummingbird 1.21.0  (landing page)Eleni Adam  OK  
998/2325HVP 1.1.0  (landing page)Wei Xin Chan  ERROR  
999/2325HybridExpress 1.7.0  (landing page)Fabricio Almeida-Silva  OK  
1000/2325HybridMTest 1.55.0  (landing page)Demba Fofana  OK  
1001/2325hyperdraw 1.63.0  (landing page)Paul Murrell  OK  
1002/2325hypergraph 1.83.0  (landing page)Bioconductor Package Maintainer  OK  
I
ABCDEFGHIJKLMNOPQRSTUVWXYZ
PackageMaintainerINSTALL/BUILD/CHECK
1003/2325iASeq 1.55.0  (landing page)Yingying Wei  OK  
1004/2325iasva 1.29.0  (landing page)Donghyung Lee , Anthony Cheng  ERROR  
1005/2325iBBiG 1.55.0  (landing page)Aedin Culhane  OK  
1006/2325Ibex 1.1.0  (landing page)Nick Borcherding  ERROR  
1007/2325ibh 1.59.0  (landing page)Kircicegi Korkmaz  OK  
1008/2325iBMQ 1.51.0  (landing page)Greg Imholte  unknown  
1009/2325iCARE 1.39.0  (landing page)Parichoy Pal Choudhury  ERROR  
1010/2325Icens 1.83.0  (landing page)Bioconductor Package Maintainer  OK  
1011/2325icetea 1.29.0  (landing page)Vivek Bhardwaj  ERROR  
1012/2325iCheck 1.41.0  (landing page)Weiliang Qiu  ERROR  
1013/2325iChip 1.65.0  (landing page)Qianxing Mo  WARNINGS  
1014/2325iClusterPlus 1.47.0  (landing page)Qianxing Mo , Ronglai Shen  OK  
1015/2325iCNV 1.31.0  (landing page)Zilu Zhou  WARNINGS  
1016/2325iCOBRA 1.39.0  (landing page)Charlotte Soneson  OK  
1017/2325ideal 2.5.0  (landing page)Federico Marini  ERROR  
1018/2325IdeoViz 1.47.0  (landing page)Shraddha Pai  WARNINGS  
1019/2325idiogram 1.87.0  (landing page)Karl J. Dykema  OK  
1020/2325idpr 1.21.0  (landing page)William M. McFadden  OK  
1021/2325idr2d 1.25.0  (landing page)Konstantin Krismer  OK  
1022/2325IFAA 1.13.0  (landing page)Zhigang Li  OK  
1023/2325igblastr 1.1.0  (landing page)Hervé Pagès  OK  
1024/2325iGC 1.41.0  (landing page)Liang-Bo Wang  OK  
1025/2325IgGeneUsage 1.25.0  (landing page)Simo Kitanovski  OK  
1026/2325igvR 1.31.0  (landing page)Arkadiusz Gladki  OK  
1027/2325igvShiny 1.7.0  (landing page)Arkadiusz Gladki  OK  
1028/2325IHW 1.39.0  (landing page)Nikos Ignatiadis  ERROR  
1029/2325illuminaio 0.53.0  (landing page)Kasper Daniel Hansen  OK  
1030/2325ILoReg 1.21.0  (landing page)Johannes Smolander  WARNINGS  
1031/2325imageTCGA 1.3.0  (landing page)Ilaria Billato  OK  
1032/2325IMAS 1.35.0  (landing page)Seonggyun Han  ERROR  
1033/2325imcRtools 1.17.0  (landing page)Daniel Schulz  ERROR  
1034/2325IMMAN 1.31.0  (landing page)Minoo Ashtiani  OK  
1035/2325immApex 1.5.0  (landing page)Nick Borcherding  OK  
1036/2325immunoClust 1.43.0  (landing page)Till Soerensen  ERROR  
1037/2325immunogenViewer 1.5.0  (landing page)Katharina Waury  OK  
1038/2325immunotation 1.19.0  (landing page)Katharina Imkeller  ERROR  
1039/2325iModMix 1.1.0  (landing page)Isis Narvaez-Bandera  OK  
1040/2325IMPCdata 1.47.0  (landing page)Jeremy Mason  OK  
1041/2325impute 1.85.0  (landing page)Balasubramanian Narasimhan  WARNINGS  
1042/2325INDEED 2.25.0  (landing page)Ressom group  OK  
1043/2325iNETgrate 1.9.0  (landing page)Habil Zare  ERROR  
1044/2325infercnv 1.27.0  (landing page)Christophe Georgescu  ERROR  
1045/2325infinityFlow 1.21.0  (landing page)Etienne Becht  ERROR  
1046/2325Informeasure 1.21.0  (landing page)Chu Pan  OK  
1047/2325InPAS 2.19.0  (landing page)Jianhong Ou  ERROR  
1048/2325INPower 1.47.0  (landing page)Bill Wheeler  OK  
1049/2325INSPEcT 1.41.0  (landing page)Stefano de Pretis  OK  
1050/2325INTACT 1.11.0  (landing page)Jeffrey Okamoto  OK  
1051/2325InTAD 1.31.0  (landing page)Konstantin Okonechnikov  OK  
1052/2325intansv 1.51.0  (landing page)Wen Yao  OK  
1053/2325interacCircos 1.21.0  (landing page)Zhe Cui  OK  
1054/2325InteractionSet 1.39.0  (landing page)Aaron Lun  OK  
1055/2325InteractiveComplexHeatmap 1.19.0  (landing page)Zuguang Gu  OK  
1056/2325InterCellar 2.17.0  (landing page)Marta Interlandi  OK  
1057/2325IntEREst 1.35.0  (landing page)Ali Oghabian  ERROR  
1058/2325IntramiRExploreR 1.33.0  (landing page)Surajit Bhattacharya  WARNINGS  
1059/2325IONiseR 2.35.0  (landing page)Mike Smith  ERROR  
1060/2325iPath 1.17.0  (landing page)Kenong Su  ERROR  
1061/2325ipdDb 1.29.0  (landing page)Steffen Klasberg  OK  
1062/2325IPO 1.37.0  (landing page)Thomas Lieb  ERROR  
1063/2325IRanges 2.45.0  (landing page)Hervé Pagès  WARNINGS  
1064/2325ISAnalytics 1.21.0  (landing page)Francesco Gazzo  OK  
1065/2325iscream 1.1.1  (landing page)James Eapen  ERROR  
1066/2325iSEE 2.23.0  (landing page)Kevin Rue-Albrecht  ERROR  
1067/2325iSEEde 1.9.0  (landing page)Kevin Rue-Albrecht  ERROR  
1068/2325iSEEfier 1.7.0  (landing page)Najla Abassi  ERROR  
1069/2325iSEEhex 1.13.0  (landing page)Kevin Rue-Albrecht  ERROR  
1070/2325iSEEhub 1.13.0  (landing page)Kevin Rue-Albrecht  OK  
1071/2325iSEEindex 1.9.0  (landing page)Kevin Rue-Albrecht  ERROR  
1072/2325iSEEpathways 1.9.0  (landing page)Kevin Rue-Albrecht  ERROR  
1073/2325iSEEtree 1.5.0  (landing page)Giulio Benedetti  ERROR  
1074/2325iSEEu 1.23.0  (landing page)Kevin Rue-Albrecht  ERROR  
1075/2325iSeq 1.63.0  (landing page)Qianxing Mo  OK  
1076/2325ISLET 1.13.0  (landing page)Hao Feng  OK  
1077/2325islify 1.3.0  (landing page)Jakob Theorell  OK  
1078/2325isobar 1.57.0  (landing page)Florian P Breitwieser  ERROR  
1079/2325IsoBayes 1.9.0  (landing page)Simone Tiberi  OK  
1080/2325IsoCorrectoR 1.29.0  (landing page)Christian Kohler  OK  
1081/2325IsoCorrectoRGUI 1.27.0  (landing page)Christian Kohler  OK  
1082/2325IsoformSwitchAnalyzeR 2.11.0  (landing page)Kristoffer Vitting-Seerup  ERROR  
1083/2325ISoLDE 1.39.0  (landing page)Christelle Reynès  WARNINGS  
1084/2325isomiRs 1.39.0  (landing page)Lorena Pantano  ERROR  
1085/2325ITALICS 2.71.0  (landing page)Guillem Rigaill  OK  
1086/2325iterativeBMA 1.69.0  (landing page)Ka Yee Yeung  OK  
1087/2325iterativeBMAsurv 1.69.0  (landing page)Ka Yee Yeung  WARNINGS  
1088/2325IVAS 2.31.0  (landing page)Seonggyun Han  WARNINGS  
1089/2325ivygapSE 1.33.0  (landing page)VJ Carey  OK  
1090/2325IWTomics 1.35.0  (landing page)Marzia A Cremona  WARNINGS  
J
ABCDEFGHIJKLMNOPQRSTUVWXYZ
PackageMaintainerINSTALL/BUILD/CHECK
1091/2325jazzPanda 1.3.0  (landing page)Melody Jin  ERROR  
K
ABCDEFGHIJKLMNOPQRSTUVWXYZ
PackageMaintainerINSTALL/BUILD/CHECK
1092/2325karyoploteR 1.37.0  (landing page)Bernat Gel  OK  
1093/2325katdetectr 1.13.0  (landing page)Daan Hazelaar  OK  
1094/2325KBoost 1.19.0  (landing page)Luis F. Iglesias-Martinez  OK  
1095/2325KCsmart 2.69.0  (landing page)Jorma de Ronde  WARNINGS  
1096/2325kebabs 1.45.0  (landing page)Ulrich Bodenhofer  OK  
1097/2325KEGGgraph 1.71.0  (landing page)Jitao David Zhang  OK  
1098/2325KEGGlincs 1.37.0  (landing page)Shana White , Mario Medvedovic  OK  
1099/2325keggorthology 2.63.0  (landing page)VJ Carey  OK  
1100/2325KEGGREST 1.51.0  (landing page)Bioconductor Package Maintainer  OK  
1101/2325KinSwingR 1.29.0  (landing page)Ashley J. Waardenberg  OK  
1102/2325kissDE 1.31.0  (landing page)Aurélie Siberchicot  ERROR  
1103/2325kmcut 1.5.0  (landing page)Igor Kuznetsov  OK  
1104/2325KnowSeq 1.25.0  (landing page)Daniel Castillo-Secilla  ERROR  
1105/2325knowYourCG 1.7.0  (landing page)Goldberg David  OK  
1106/2325koinar 1.5.0  (landing page)Ludwig Lautenbacher  ERROR  
L
ABCDEFGHIJKLMNOPQRSTUVWXYZ
PackageMaintainerINSTALL/BUILD/CHECK
1107/2325LACE 2.15.0  (landing page)Davide Maspero  OK  
1108/2325LACHESIS 0.99.4  (landing page)Verena Körber  OK  
1109/2325LBE 1.79.0  (landing page)Cyril Dalmasso  OK  
1110/2325ldblock 1.41.0  (landing page)VJ Carey  OK  
1111/2325LEA 3.23.0  (landing page)Olivier Francois  ERROR  
1112/2325leapR 0.99.5  (landing page)Sara Gosline  OK  
1113/2325LedPred 1.45.0  (landing page)Aitor Gonzalez  WARNINGS  
1114/2325lefser 1.21.1  (landing page)Sehyun Oh  ERROR  
1115/2325lemur 1.9.0  (landing page)Constantin Ahlmann-Eltze  ERROR  
1116/2325les 1.61.0  (landing page)Julian Gehring  OK  
1117/2325levi 1.29.0  (landing page)Jose Luiz Rybarczyk Filho  WARNINGS  
1118/2325lfa 2.11.0  (landing page)Alejandro Ochoa  OK  
1119/2325Lheuristic 1.3.0  (landing page)Sanchez Pla Alex  OK  
1120/2325limma 3.67.0  (landing page)Gordon Smyth  OK  
1121/2325limmaGUI 1.87.0  (landing page)Gordon Smyth  OK  
1122/2325limpa 1.3.0  (landing page)Gordon Smyth  OK  
1123/2325limpca 1.7.0  (landing page)Manon Martin  OK  
1124/2325LimROTS 1.3.0  (landing page)Ali Mostafa Anwar  OK  
1125/2325lineagespot 1.15.0  (landing page)Nikolaos Pechlivanis  OK  
1126/2325LinkHD 1.25.0  (landing page)"Laura M Zingaretti"  OK  
1127/2325linkSet 1.1.0  (landing page)Gilbert Han  ERROR  
1128/2325Linnorm 2.35.0  (landing page)Shun Hang Yip  OK  
1129/2325lionessR 1.25.0  (landing page)Ping-Han Hsieh  OK  
1130/2325lipidr 2.25.0  (landing page)Ahmed Mohamed  OK  
1131/2325LipidTrend 1.1.0  (landing page)Wei-Chung Cheng  OK  
1132/2325LiquidAssociation 1.65.0  (landing page)Yen-Yi Ho  OK  
1133/2325lisaClust 1.19.0  (landing page)Ellis Patrick  ERROR  
1134/2325lmdme 1.53.0  (landing page)Cristobal Fresno  WARNINGS  
1135/2325LOBSTAHS 1.37.0  (landing page)Henry Holm  ERROR  
1136/2325loci2path 1.31.0  (landing page)Tianlei Xu  OK  
1137/2325logicFS 2.31.0  (landing page)Holger Schwender  OK  
1138/2325LOLA 1.41.0  (landing page)Nathan Sheffield  OK  
1139/2325looking4clusters 1.1.0  (landing page)David Barrios  ERROR  
1140/2325LoomExperiment 1.29.0  (landing page)Bioconductor Package Maintainer  ERROR  
1141/2325LPE 1.85.0  (landing page)Nitin Jain  OK  
1142/2325lpNet 2.43.0  (landing page)Lars Kaderali  WARNINGS  
1143/2325lpsymphony 1.39.0  (landing page)Vladislav Kim  ERROR  
1144/2325LRBaseDbi 2.21.0  (landing page)Koki Tsuyuzaki  OK  
1145/2325LRcell 1.19.0  (landing page)Wenjing Ma  OK  
1146/2325lumi 2.63.0  (landing page)Lei Huang  ERROR  
1147/2325LymphoSeq 1.39.0  (landing page)David Coffey  OK  
M
ABCDEFGHIJKLMNOPQRSTUVWXYZ
PackageMaintainerINSTALL/BUILD/CHECK
1148/2325M3C 1.33.0  (landing page)Christopher John  OK  
1149/2325M3Drop 1.37.0  (landing page)Tallulah Andrews  OK  
1150/2325m6Aboost 1.17.0  (landing page)You Zhou  OK  
1151/2325Maaslin2 1.25.0  (landing page)Lauren McIver  ERROR  
1152/2325maaslin3 1.3.0  (landing page)William Nickols  OK  
1153/2325Macarron 1.15.0  (landing page)Sagun Maharjan  ERROR  
1154/2325maCorrPlot 1.81.0  (landing page)Alexander Ploner  OK  
1155/2325MACSQuantifyR 1.25.0  (landing page)Raphaël Bonnet  OK  
1156/2325MACSr 1.19.0  (landing page)Qiang Hu  OK  
1157/2325made4 1.85.0  (landing page)Aedin Culhane  OK  
1158/2325maftools 2.27.0  (landing page)Anand Mayakonda  OK  
1159/2325MAGAR 1.19.0  (landing page)Michael Scherer  ERROR  
1160/2325magpie 1.11.0  (landing page)Daoyu Duan  WARNINGS  
1161/2325magrene 1.13.0  (landing page)Fabrício Almeida-Silva  OK  
1162/2325MAI 1.17.0  (landing page)Jonathan Dekermanjian  OK  
1163/2325MAIT 1.45.0  (landing page)Pol Sola-Santos  ERROR  
1164/2325makecdfenv 1.87.0  (landing page)James W. MacDonald  OK  
1165/2325MANOR 1.83.0  (landing page)Pierre Neuvial  OK  
1166/2325MantelCorr 1.81.0  (landing page)Brian Steinmeyer  OK  
1167/2325MAPFX 1.7.0  (landing page)Hsiao-Chi Liao  ERROR  
1168/2325maPredictDSC 1.49.0  (landing page)Adi Laurentiu Tarca  OK  
1169/2325mapscape 1.35.0  (landing page)Maia Smith  WARNINGS  
1170/2325mariner 1.11.0  (landing page)Eric Davis  ERROR  
1171/2325markeR 1.1.0  (landing page)Rita Martins-Silva  ERROR  
1172/2325marr 1.21.0  (landing page)Tusharkanti Ghosh  OK  
1173/2325marray 1.89.0  (landing page)Yee Hwa (Jean) Yang  OK  
1174/2325martini 1.31.0  (landing page)Hector Climente-Gonzalez  ERROR  
1175/2325maser 1.29.0  (landing page)Diogo F.T. Veiga  OK  
1176/2325maSigPro 1.83.0  (landing page)Maria Jose Nueda  OK  
1177/2325maskBAD 1.55.0  (landing page)Michael Dannemann  OK  
1178/2325MassArray 1.63.0  (landing page)Reid F. Thompson  OK  
1179/2325massiR 1.47.0  (landing page)Sam Buckberry  OK  
1180/2325MassSpecWavelet 1.77.0  (landing page)Sergio Oller Moreno  OK  
1181/2325MAST 1.37.0  (landing page)Andrew McDavid  ERROR  
1182/2325mastR 1.11.0  (landing page)Jinjin Chen  ERROR  
1183/2325matchBox 1.53.0  (landing page)Luigi Marchionni , Anuj Gupta  OK  
1184/2325MatrixGenerics 1.23.0  (landing page)Peter Hickey  OK  
1185/2325MatrixQCvis 1.19.0  (landing page)Thomas Naake  ERROR  
1186/2325MatrixRider 1.43.0  (landing page)Elena Grassi  WARNINGS  
1187/2325matter 2.13.0  (landing page)Kylie A. Bemis  WARNINGS  
1188/2325MBAmethyl 1.45.0  (landing page)Tao Wang  OK  
1189/2325MBASED 1.45.0  (landing page)Oleg Mayba  OK  
1190/2325MBCB 1.65.0  (landing page)Bo Yao  OK  
1191/2325MBECS 1.15.0  (landing page)Michael Olbrich  ERROR  
1192/2325mbkmeans 1.27.0  (landing page)Davide Risso  ERROR  
1193/2325mBPCR 1.65.0  (landing page)P.M.V. Rancoita  ERROR  
1194/2325MBQN 2.23.0  (landing page)Eva Brombacher  OK  
1195/2325mbQTL 1.11.0  (landing page)Mercedeh Movassagh  OK  
1196/2325MBttest 1.39.0  (landing page)Yuan-De Tan  OK  
1197/2325MCbiclust 1.35.0  (landing page)Robert Bentham  ERROR  
1198/2325mCSEA 1.31.1  (landing page)Jordi Martorell-Marugán  ERROR  
1199/2325mdp 1.31.0  (landing page)Helder Nakaya  OK  
1200/2325mdqc 1.73.0  (landing page)Gabriela Cohen-Freue  OK  
1201/2325MDTS 1.31.0  (landing page)Jack M.. Fu  OK  
1202/2325MEAL 1.41.0  (landing page)Xavier Escribà Montagut  ERROR  
1203/2325MeasurementError.cor 1.83.0  (landing page)Beiying Ding  OK  
1204/2325MEAT 1.23.0  (landing page)Sarah Voisin  ERROR  
1205/2325MEB 1.25.0  (landing page)Jiadi Zhu  ERROR  
1206/2325MEDIPS 1.63.0  (landing page)Lukas Chavez  ERROR  
1207/2325MEDME 1.71.0  (landing page)Mattia Pelizzola  WARNINGS  
1208/2325megadepth 1.21.0  (landing page)David Zhang  OK  
1209/2325MEIGOR 1.45.0  (landing page)Jose A. Egea  OK  
1210/2325Melissa 1.27.0  (landing page)C. A. Kapourani  OK  
1211/2325memes 1.19.0  (landing page)Spencer Nystrom  WARNINGS  
1212/2325Mergeomics 1.39.0  (landing page)Zeyneb Kurt  OK  
1213/2325MeSHDbi 1.47.0  (landing page)Koki Tsuyuzaki  OK  
1214/2325meshes 1.37.0  (landing page)Guangchuang Yu  OK  
1215/2325meshr 2.17.0  (landing page)Koki Tsuyuzaki  OK  
1216/2325MesKit 1.21.0  (landing page)Mengni Liu  WARNINGS  
1217/2325messina 1.47.0  (landing page)Mark Pinese  OK  
1218/2325metabCombiner 1.21.0  (landing page)Hani Habra  OK  
1219/2325metabinR 1.13.0  (landing page)Anestis Gkanogiannis  OK  
1220/2325MetaboAnnotation 1.15.0  (landing page)Johannes Rainer  ERROR  
1221/2325MetaboCoreUtils 1.19.0  (landing page)Johannes Rainer  OK  
1222/2325MetaboDynamics 2.1.0  (landing page)Katja Danielzik  OK  
1223/2325metabolomicsWorkbenchR 1.21.0  (landing page)Gavin Rhys Lloyd  ERROR  
1224/2325metabomxtr 1.45.0  (landing page)Michael Nodzenski  OK  
1225/2325MetaboSignal 1.41.0  (landing page)Andrea Rodriguez-Martinez  OK  
1226/2325metaCCA 1.39.0  (landing page)Anna Cichonska  WARNINGS  
1227/2325MetaCyto 1.33.0  (landing page)Zicheng Hu  ERROR  
1228/2325MetaDICT 1.1.0  (landing page)Bo Yuan  ERROR  
1229/2325metagene2 1.27.0  (landing page)Eric Fournier  WARNINGS  
1230/2325metagenomeSeq 1.53.0  (landing page)Joseph N. Paulson  ERROR  
1231/2325metahdep 1.69.0  (landing page)John R. Stevens  WARNINGS  
1232/2325metaMS 1.47.0  (landing page)Yann Guitton  ERROR  
1233/2325MetaNeighbor 1.31.0  (landing page)Stephan Fischer  ERROR  
1234/2325MetaPhOR 1.13.0  (landing page)Emily Isenhart  OK  
1235/2325metapod 1.19.0  (landing page)Aaron Lun  OK  
1236/2325metapone 1.17.0  (landing page)Tianwei Yu  OK  
1237/2325metaSeq 1.51.0  (landing page)Koki Tsuyuzaki  OK  
1238/2325metaseqR2 1.23.0  (landing page)Panagiotis Moulos  ERROR  
1239/2325MetCirc 1.41.0  (landing page)Thomas Naake  OK  
1240/2325methimpute 1.33.0  (landing page)Aaron Taudt  WARNINGS  
1241/2325methInheritSim 1.33.0  (landing page)Pascal Belleau  OK  
1242/2325methodical 1.7.0  (landing page)Richard Heery  ERROR  
1243/2325MethPed 1.39.0  (landing page)Helena Carén  OK  
1244/2325MethReg 1.21.0  (landing page)Tiago Silva  OK  
1245/2325methrix 1.25.0  (landing page)Anand Mayakonda  ERROR  
1246/2325MethTargetedNGS 1.43.0  (landing page)Muhammad Ahmer Jamil  OK  
1247/2325MethylAid 1.45.0  (landing page)L.J.Sinke  ERROR  
1248/2325methylCC 1.25.0  (landing page)Stephanie C. Hicks  ERROR  
1249/2325methylclock 1.17.0  (landing page)Dolors Pelegri-Siso  ERROR  
1250/2325methylGSA 1.29.0  (landing page)Xu Ren  ERROR  
1251/2325methyLImp2 1.7.1  (landing page)Anna Plaksienko  WARNINGS  
1252/2325methylInheritance 1.35.0  (landing page)Astrid Deschênes  OK  
1253/2325methylKit 1.37.0  (landing page)Altuna Akalin , Alexander Blume  OK  
1254/2325MethylMix 2.41.0  (landing page)Olivier Gevaert  OK  
1255/2325methylMnM 1.49.0  (landing page)Yan Zhou  ERROR  
1256/2325methylPipe 1.45.0  (landing page)Mattia Furlan  WARNINGS  
1257/2325methylscaper 1.19.0  (landing page)Bacher Rhonda  OK  
1258/2325MethylSeekR 1.51.0  (landing page)Lukas Burger  OK  
1259/2325methylSig 1.23.0  (landing page)Raymond G. Cavalcante  ERROR  
1260/2325methylumi 2.57.0  (landing page)Sean Davis  ERROR  
1261/2325MetID 1.29.0  (landing page)Zhenzhi Li  OK  
1262/2325MetMashR 1.5.0  (landing page)Gavin Rhys Lloyd  ERROR  
1263/2325MetNet 1.29.0  (landing page)Thomas Naake  OK  
1264/2325mfa 1.33.0  (landing page)Kieran Campbell  ERROR  
1265/2325Mfuzz 2.71.0  (landing page)Matthias Futschik  OK  
1266/2325MGFM 1.45.0  (landing page)Khadija El Amrani  OK  
1267/2325MGFR 1.37.0  (landing page)Khadija El Amrani  ERROR  
1268/2325MGnifyR 1.7.0  (landing page)Tuomas Borman  ERROR  
1269/2325mgsa 1.59.0  (landing page)Sebastian Bauer  WARNINGS  
1270/2325mia 1.19.0  (landing page)Tuomas Borman  ERROR  
1271/2325miaDash 1.3.0  (landing page)Giulio Benedetti  OK  
1272/2325miaSim 1.17.0  (landing page)Yagmur Simsek  OK  
1273/2325miaTime 1.1.0  (landing page)Tuomas Borman  OK  
1274/2325miaViz 1.19.1  (landing page)Tuomas Borman  OK  
1275/2325MiChip 1.65.0  (landing page)Jonathon Blake  OK  
1276/2325microbiome 1.33.0  (landing page)Leo Lahti  ERROR  
1277/2325microbiomeDASim 1.25.0  (landing page)Justin Williams  ERROR  
1278/2325microbiomeExplorer 1.21.0  (landing page)Janina Reeder  ERROR  
1279/2325MicrobiomeProfiler 1.17.0  (landing page)Guangchuang Yu  OK  
1280/2325MicrobiotaProcess 1.23.0  (landing page)Shuangbin Xu  ERROR  
1281/2325microRNA 1.69.0  (landing page)"Michael Lawrence"  OK  
1282/2325microSTASIS 1.11.0  (landing page)Pedro Sánchez-Sánchez  ERROR  
1283/2325MICSQTL 1.9.0  (landing page)Qian Li  OK  
1284/2325midasHLA 1.19.0  (landing page)Maciej Migdał  ERROR  
1285/2325miloR 2.7.0  (landing page)Mike Morgan  ERROR  
1286/2325mimager 1.35.0  (landing page)Aaron Wolen  OK  
1287/2325mina 1.19.0  (landing page)Rui Guan  WARNINGS  
1288/2325MineICA 1.51.0  (landing page)Anne Biton  ERROR  
1289/2325minet 3.69.0  (landing page)Patrick E. Meyer  OK  
1290/2325minfi 1.57.0  (landing page)Kasper Daniel Hansen  ERROR  
1291/2325MinimumDistance 1.55.0  (landing page)Robert Scharpf  WARNINGS  
1292/2325MiPP 1.83.0  (landing page)Sukwoo Kim  OK  
1293/2325miQC 1.19.0  (landing page)Ariel Hippen  ERROR  
1294/2325MIRA 1.33.0  (landing page)John Lawson  ERROR  
1295/2325MiRaGE 1.53.0  (landing page)Y-h. Taguchi  ERROR  
1296/2325miRBaseConverter 1.35.0  (landing page)Taosheng Xu Taosheng Xu  OK  
1297/2325miRcomp 1.41.0  (landing page)Matthew N. McCall  OK  
1298/2325mirIntegrator 1.41.0  (landing page)Diana Diaz  OK  
1299/2325MIRit 1.7.1  (landing page)Jacopo Ronchi  ERROR  
1300/2325miRLAB 1.41.0  (landing page)Thuc Duy Le  WARNINGS  
1301/2325miRNAmeConverter 1.39.0  (landing page)Stefan J. Haunsberger  WARNINGS  
1302/2325miRNApath 1.71.0  (landing page)James M. Ward  OK  
1303/2325miRNAtap 1.45.0  (landing page)T. Ian Simpson  OK  
1304/2325miRSM 2.7.0  (landing page)Junpeng Zhang  OK  
1305/2325miRspongeR 2.15.0  (landing page)Junpeng Zhang  OK  
1306/2325mirTarRnaSeq 1.19.0  (landing page)Mercedeh Movassagh  OK  
1307/2325missMethyl 1.45.0  (landing page)Belinda Phipson  ERROR  
1308/2325missRows 1.31.0  (landing page)Gonzalez Ignacio  OK  
1309/2325mist 1.3.0  (landing page)Daoyu Duan  WARNINGS  
1310/2325mistyR 1.19.0  (landing page)Jovan Tanevski  ERROR  
1311/2325mitch 1.23.0  (landing page)Mark Ziemann  ERROR  
1312/2325mitoClone2 1.17.0  (landing page)Benjamin Story  WARNINGS  
1313/2325mitology 1.3.0  (landing page)Stefania Pirrotta  ERROR  
1314/2325mixOmics 6.35.0  (landing page)Eva Hamrud  OK  
1315/2325MLInterfaces 1.91.0  (landing page)Vincent Carey  WARNINGS  
1316/2325MLP 1.59.0  (landing page)Tobias Verbeke  ERROR  
1317/2325MLSeq 2.29.0  (landing page)Gokmen Zararsiz  ERROR  
1318/2325MMDiff2 1.39.0  (landing page)Gabriele Schweikert  OK  
1319/2325MMUPHin 1.25.0  (landing page)Siyuan MA  ERROR  
1320/2325mnem 1.27.0  (landing page)Martin Pirkl  OK  
1321/2325moanin 1.19.0  (landing page)Nelle Varoquaux  ERROR  
1322/2325mobileRNA 1.7.1  (landing page)Katie Jeynes-Cupper  ERROR  
1323/2325MODA 1.37.0  (landing page)Dong Li  OK  
1324/2325ModCon 1.19.0  (landing page)Johannes Ptok  OK  
1325/2325Modstrings 1.27.0  (landing page)Felix G.M. Ernst  ERROR  
1326/2325MOFA2 1.21.0  (landing page)Ricard Argelaguet  ERROR  
1327/2325MOGAMUN 1.21.0  (landing page)Elva-María Novoa-del-Toro  ERROR  
1328/2325mogsa 1.45.0  (landing page)Chen Meng  OK  
1329/2325MoleculeExperiment 1.11.0  (landing page)Shila Ghazanfar  ERROR  
1330/2325MOMA 1.23.0  (landing page)Sunny Jones  OK  
1331/2325monaLisa 1.17.0  (landing page)Michael Stadler  OK  
1332/2325monocle 2.39.0  (landing page)Cole Trapnell  OK  
1333/2325Moonlight2R 1.9.0  (landing page)Matteo Tiberti  OK  
1334/2325MoonlightR 1.37.0  (landing page)Matteo Tiberti  ERROR  
1335/2325mosaics 2.49.0  (landing page)Dongjun Chung  OK  
1336/2325mosbi 1.17.0  (landing page)Tim Daniel Rose  WARNINGS  
1337/2325MOSClip 1.5.0  (landing page)Paolo Martini  OK  
1338/2325mosdef 1.7.0  (landing page)Federico Marini  OK  
1339/2325MOSim 2.7.0  (landing page)Sonia Tarazona  ERROR  
1340/2325Motif2Site 1.15.0  (landing page)Peyman Zarrineh  ERROR  
1341/2325motifbreakR 2.25.0  (landing page)Simon Gert Coetzee  ERROR  
1342/2325motifcounter 1.35.0  (landing page)Wolfgang Kopp  OK  
1343/2325MotifDb 1.53.0  (landing page)Paul Shannon  WARNINGS  
1344/2325motifmatchr 1.33.0  (landing page)Alicia Schep  OK  
1345/2325MotifPeeker 1.3.0  (landing page)Hiranyamaya Dash  OK  
1346/2325motifStack 1.55.0  (landing page)Jianhong Ou  OK  
1347/2325motifTestR 1.7.0  (landing page)Stevie Pederson  ERROR  
1348/2325MouseFM 1.21.0  (landing page)Matthias Munz  OK  
1349/2325MPAC 1.5.0  (landing page)Peng Liu  ERROR  
1350/2325MPFE 1.47.0  (landing page)Conrad Burden  OK  
1351/2325mpra 1.33.0  (landing page)Leslie Myint  OK  
1352/2325MPRAnalyze 1.29.0  (landing page)Tal Ashuach  OK  
1353/2325msa 1.43.1  (landing page)Ulrich Bodenhofer  WARNINGS  
1354/2325MSA2dist 1.15.0  (landing page)Kristian K Ullrich  OK  
1355/2325MsBackendMassbank 1.19.0  (landing page)RforMassSpectrometry Package Maintainer  OK  
1356/2325MsBackendMetaboLights 1.5.1  (landing page)Johannes Rainer  ERROR  
1357/2325MsBackendMgf 1.19.0  (landing page)RforMassSpectrometry Package Maintainer  OK  
1358/2325MsBackendMsp 1.15.0  (landing page)Johannes Rainer  OK  
1359/2325MsBackendRawFileReader 1.17.0  (landing page)Christian Panse  ERROR  
1360/2325MsBackendSql 1.11.1  (landing page)Johannes Rainer  ERROR  
1361/2325MsCoreUtils 1.23.0  (landing page)RforMassSpectrometry Package Maintainer  ERROR  
1362/2325MsDataHub 1.11.0  (landing page)Laurent Gatto  ERROR  
1363/2325MsExperiment 1.13.0  (landing page)Laurent Gatto  ERROR  
1364/2325MsFeatures 1.19.0  (landing page)Johannes Rainer  OK  
1365/2325msgbsR 1.35.0  (landing page)Benjamin Mayne  ERROR  
1366/2325msImpute 1.21.0  (landing page)Soroor Hediyeh-zadeh  ERROR  
1367/2325mslp 1.13.0  (landing page)Chunxuan Shao  ERROR  
1368/2325msmsEDA 1.49.0  (landing page)Josep Gregori  ERROR  
1369/2325msmsTests 1.49.0  (landing page)Josep Gregori i Font  ERROR  
1370/2325MSnbase 2.37.0  (landing page)Laurent Gatto  ERROR  
1371/2325MSnID 1.45.0  (landing page)Vlad Petyuk  ERROR  
1372/2325mspms 1.3.0  (landing page)Charlie Bayne  OK  
1373/2325MSPrep 1.21.0  (landing page)Max McGrath  ERROR  
1374/2325msPurity 1.37.0  (landing page)Thomas N. Lawson  ERROR  
1375/2325msqrob2 1.19.0  (landing page)Lieven Clement  ERROR  
1376/2325MsQuality 1.11.0  (landing page)Thomas Naake  ERROR  
1377/2325MSstats 4.19.0  (landing page)Meena Choi  WARNINGS  
1378/2325MSstatsBig 1.9.0  (landing page)Mateusz Staniak  OK  
1379/2325MSstatsBioNet 1.3.1  (landing page)Anthony Wu  WARNINGS  
1380/2325MSstatsConvert 1.21.0  (landing page)Mateusz Staniak  OK  
1381/2325MSstatsLiP 1.17.0  (landing page)Anthony Wu  OK  
1382/2325MSstatsLOBD 1.19.0  (landing page)Devon Kohler  OK  
1383/2325MSstatsPTM 2.13.0  (landing page)Anthony Wu  WARNINGS  
1384/2325MSstatsQC 2.29.0  (landing page)Eralp Dogu  ERROR  
1385/2325MSstatsQCgui 1.31.0  (landing page)Eralp Dogu  ERROR  
1386/2325MSstatsResponse 1.1.0  (landing page)Sarah Szvetecz  OK  
1387/2325MSstatsShiny 1.13.0  (landing page)Anthony Wu  WARNINGS  
1388/2325MSstatsTMT 2.19.0  (landing page)Devon Kohler  OK  
1389/2325MuData 1.15.0  (landing page)Ilia Kats  ERROR  
1390/2325Mulcom 1.61.0  (landing page)Claudio Isella  WARNINGS  
1391/2325MultiAssayExperiment 1.37.1  (landing page)Marcel Ramos  ERROR  
1392/2325MultiBaC 1.21.0  (landing page)The package maintainer  OK  
1393/2325multiClust 1.41.0  (landing page)Nathan Lawlor  OK  
1394/2325multicrispr 1.21.0  (landing page)Aditya Bhagwat  ERROR  
1395/2325MultiDataSet 1.39.0  (landing page)Xavier Escribà Montagut  ERROR  
1396/2325multiGSEA 1.21.0  (landing page)Sebastian Canzler  ERROR  
1397/2325multiHiCcompare 1.29.0  (landing page)Mikhail Dozmorov  ERROR  
1398/2325MultiMed 2.33.0  (landing page)Simina M. Boca  OK  
1399/2325multiMiR 1.33.0  (landing page)Spencer Mahaffey  ERROR  
1400/2325MultimodalExperiment 1.11.0  (landing page)Lucas Schiffer  OK  
1401/2325MultiRNAflow 1.9.0  (landing page)Rodolphe Loubaton  OK  
1402/2325multiscan 1.71.0  (landing page)Mizanur Khondoker  OK  
1403/2325multistateQTL 2.3.0  (landing page)Amelia Dunstone  OK  
1404/2325multiWGCNA 1.9.0  (landing page)Dario Tommasini  ERROR  
1405/2325multtest 2.67.0  (landing page)Katherine S. Pollard  WARNINGS  
1406/2325mumosa 1.19.0  (landing page)Aaron Lun  ERROR  
1407/2325MungeSumstats 1.19.1  (landing page)Alan Murphy  OK  
1408/2325muscat 1.25.0  (landing page)Helena L. Crowell  ERROR  
1409/2325muscle 3.53.0  (landing page)Alex T. Kalinka  WARNINGS  
1410/2325musicatk 2.5.0  (landing page)Joshua D. Campbell  OK  
1411/2325MutationalPatterns 3.21.0  (landing page)Mark van Roosmalen  ERROR  
1412/2325mutscan 1.1.0  (landing page)Charlotte Soneson  ERROR  
1413/2325MVCClass 1.85.0  (landing page)Elizabeth Whalen  OK  
1414/2325MWASTools 1.35.0  (landing page)Andrea Rodriguez-Martinez , Rafael Ayala  OK  
1415/2325mygene 1.47.0  (landing page)Adam Mark, Cyrus Afrasiabi, Chunlei Wu  OK  
1416/2325myvariant 1.41.0  (landing page)Adam Mark, Chunlei Wu  OK  
1417/2325mzID 1.49.0  (landing page)Laurent Gatto  OK  
1418/2325mzR 2.45.0  (landing page)Steffen Neumann  ERROR  
N
ABCDEFGHIJKLMNOPQRSTUVWXYZ
PackageMaintainerINSTALL/BUILD/CHECK
1419/2325NADfinder 1.35.0  (landing page)Jianhong Ou  ERROR  
1420/2325NanoMethViz 3.7.0  (landing page)Shian Su  ERROR  
1421/2325NanoStringDiff 1.41.0  (landing page)tingting zhai ,hong wang  WARNINGS  
1422/2325NanoStringNCTools 1.19.0  (landing page)Maddy Griswold  OK  
1423/2325NanoTube 1.17.0  (landing page)Caleb Class  ERROR  
1424/2325NBAMSeq 1.27.0  (landing page)Xu Ren  OK  
1425/2325ncdfFlow 2.57.0  (landing page)Mike Jiang  ERROR  
1426/2325ncGTW 1.25.0  (landing page)Chiung-Ting Wu  ERROR  
1427/2325NCIgraph 1.59.0  (landing page)Laurent Jacob  unknown  
1428/2325ncRNAtools 1.21.0  (landing page)Lara Selles Vidal  OK  
1429/2325ndexr 1.33.0  (landing page)Florian Auer  OK  
1430/2325nearBynding 1.21.0  (landing page)Veronica Busa  ERROR  
1431/2325Nebulosa 1.21.0  (landing page)Jose Alquicira-Hernandez  ERROR  
1432/2325nempi 1.19.0  (landing page)Martin Pirkl  OK  
1433/2325NetActivity 1.13.0  (landing page)Carlos Ruiz-Arenas  OK  
1434/2325netboost 2.19.0  (landing page)Pascal Schlosser  WARNINGS  
1435/2325nethet 1.43.0  (landing page)Nicolas Staedler  WARNINGS  
1436/2325NetPathMiner 1.47.0  (landing page)Ahmed Mohamed  OK  
1437/2325netprioR 1.37.0  (landing page)Fabian Schmich  OK  
1438/2325netresponse 1.71.0  (landing page)Leo Lahti  OK  
1439/2325NetSAM 1.51.0  (landing page)Zhiao Shi  OK  
1440/2325netSmooth 1.31.0  (landing page)Jonathan Ronen  ERROR  
1441/2325NewWave 1.21.0  (landing page)Federico Agostinis  ERROR  
1442/2325ngsReports 2.13.1  (landing page)Stevie Pederson  OK  
1443/2325nipalsMCIA 1.9.0  (landing page)Maximilian Mattessich  OK  
1444/2325nnNorm 2.75.0  (landing page)Adi Laurentiu Tarca  OK  
1445/2325nnSVG 1.15.0  (landing page)Lukas M. Weber  ERROR  
1446/2325NOISeq 2.55.0  (landing page)Sonia Tarazona  OK  
1447/2325nondetects 2.41.0  (landing page)Valeriia Sherina  OK  
1448/2325NoRCE 1.23.0  (landing page)Gulden Olgun  OK  
1449/2325normalize450K 1.39.0  (landing page)Jonathan Alexander Heiss  OK  
1450/2325NormalyzerDE 1.29.0  (landing page)Jakob Willforss  WARNINGS  
1451/2325NormqPCR 1.57.0  (landing page)James Perkins  OK  
1452/2325normr 1.37.0  (landing page)Johannes Helmuth  WARNINGS  
1453/2325notame 1.1.0  (landing page)Vilhelm Suksi  ERROR  
1454/2325notameStats 1.1.0  (landing page)Vilhelm Suksi  ERROR  
1455/2325notameViz 1.1.0  (landing page)Vilhelm Suksi  OK  
1456/2325NPARC 1.23.0  (landing page)Nils Kurzawa  OK  
1457/2325npGSEA 1.47.0  (landing page)Jessica Larson  ERROR  
1458/2325NTW 1.61.0  (landing page)Yuanhua Liu  WARNINGS  
1459/2325nucleoSim 1.39.0  (landing page)Astrid Deschênes  OK  
1460/2325nucleR 2.43.0  (landing page)Alba Sala  WARNINGS  
1461/2325nuCpos 1.29.0  (landing page)Hiroaki Kato  OK  
1462/2325nullranges 1.17.0  (landing page)Michael Love  ERROR  
1463/2325NuPoP 2.19.0  (landing page)Ji-Ping Wang  OK  
O
ABCDEFGHIJKLMNOPQRSTUVWXYZ
PackageMaintainerINSTALL/BUILD/CHECK
1464/2325occugene 1.71.0  (landing page)Oliver Will  OK  
1465/2325OCplus 1.85.0  (landing page)Alexander Ploner  OK  
1466/2325octad 1.13.0  (landing page)E. Chekalin  ERROR  
1467/2325odseq 1.39.0  (landing page)José Jiménez  OK  
1468/2325OGRE 1.15.0  (landing page)Sven Berres  OK  
1469/2325oligo 1.75.0  (landing page)Benilton Carvalho  OK  
1470/2325oligoClasses 1.73.0  (landing page)Benilton Carvalho and Robert Scharpf  WARNINGS  
1471/2325OLIN 1.89.0  (landing page)Matthias Futschik  OK  
1472/2325OLINgui 1.85.0  (landing page)Matthias Futschik  OK  
1473/2325omada 1.13.0  (landing page)Sokratis Kariotis  OK  
1474/2325OmaDB 2.27.0  (landing page)Klara Kaleb , Adrian Altenhoff  OK  
1475/2325omicade4 1.51.0  (landing page)Chen Meng  OK  
1476/2325OmicCircos 1.49.0  (landing page)Ying Hu  WARNINGS  
1477/2325omicplotR 1.31.0  (landing page)Daniel Giguere  OK  
1478/2325omicRexposome 1.33.0  (landing page)Xavier Escribà Montagut  ERROR  
1479/2325omicsGMF 1.1.0  (landing page)Alexandre Segers  OK  
1480/2325OmicsMLRepoR 1.5.0  (landing page)Sehyun Oh  OK  
1481/2325OMICsPCA 1.29.0  (landing page)Subhadeep Das  OK  
1482/2325omicsPrint 1.31.0  (landing page)Davy Cats  WARNINGS  
1483/2325omicsViewer 1.15.0  (landing page)Chen Meng  WARNINGS  
1484/2325Omixer 1.21.0  (landing page)Lucy Sinke  OK  
1485/2325OmnipathR 3.19.0  (landing page)Denes Turei  ERROR  
1486/2325ompBAM 1.15.0  (landing page)Alex Chit Hei Wong  OK  
1487/2325omXplore 1.5.0  (landing page)Samuel Wieczorek  ERROR  
1488/2325oncomix 1.33.0  (landing page)Daniel Pique  OK  
1489/2325oncoscanR 1.13.0  (landing page)Yann Christinat  OK  
1490/2325OncoScore 1.39.0  (landing page)Luca De Sano  OK  
1491/2325OncoSimulR 4.13.0  (landing page)Ramon Diaz-Uriarte  unknown  
1492/2325onlineFDR 2.19.0  (landing page)David S. Robertson  ERROR  
1493/2325ontoProc 2.5.0  (landing page)Vincent Carey  ERROR  
1494/2325openCyto 2.23.0  (landing page)Mike Jiang  ERROR  
1495/2325openPrimeR 1.33.0  (landing page)Matthias Döring  OK  
1496/2325OpenStats 1.23.0  (landing page)Marina Kan  OK  
1497/2325oposSOM 2.29.0  (landing page)Henry Loeffler-Wirth  WARNINGS  
1498/2325oppar 1.39.0  (landing page)Soroor Hediyeh zadeh  ERROR  
1499/2325optimalFlow 1.23.0  (landing page)Hristo Inouzhe  ERROR  
1500/2325OPWeight 1.33.0  (landing page)Mohamad Hasan  OK  
1501/2325OrderedList 1.83.0  (landing page)Claudio Lottaz  OK  
1502/2325ORFhunteR 1.19.0  (landing page)Vasily V. Grinev  WARNINGS  
1503/2325ORFik 1.31.0  (landing page)Haakon Tjeldnes  OK  
1504/2325Organism.dplyr 1.39.0  (landing page)Martin Morgan  ERROR  
1505/2325OrganismDbi 1.53.2  (landing page)Bioconductor Package Maintainer  OK  
1506/2325orthogene 1.17.0  (landing page)Brian Schilder  OK  
1507/2325orthos 1.9.0  (landing page)Panagiotis Papasaikas  ERROR  
1508/2325OSAT 1.59.0  (landing page)Li Yan  OK  
1509/2325Oscope 1.41.0  (landing page)Ning Leng  OK  
1510/2325OSTA.data 1.3.0  (landing page)Yixing E. Dong  ERROR  
1511/2325OTUbase 1.61.0  (landing page)Daniel Beck  OK  
1512/2325OUTRIDER 1.29.0  (landing page)Christian Mertes  OK  
1513/2325OutSplice 1.11.0  (landing page)Theresa Guo  OK  
1514/2325OVESEG 1.27.0  (landing page)Lulu Chen  OK  
P
ABCDEFGHIJKLMNOPQRSTUVWXYZ
PackageMaintainerINSTALL/BUILD/CHECK
1515/2325PAA 1.45.0  (landing page)Michael Turewicz , Martin Eisenacher  ERROR  
1516/2325packFinder 1.23.0  (landing page)Jack Gisby  OK  
1517/2325padma 1.21.0  (landing page)Andrea Rau  OK  
1518/2325PADOG 1.53.0  (landing page)Adi L. Tarca  OK  
1519/2325pageRank 1.21.0  (landing page)Hongxu Ding  OK  
1520/2325PAIRADISE 1.27.0  (landing page)Qiang Hu , Levon Demirdjian  OK  
1521/2325paircompviz 1.49.0  (landing page)Michal Burda  OK  
1522/2325pairedGSEA 1.11.0  (landing page)Søren Helweg Dam  ERROR  
1523/2325pairkat 1.17.0  (landing page)Max McGrath  OK  
1524/2325pandaR 1.43.0  (landing page)Joseph N. Paulson , Dan Schlauch  WARNINGS  
1525/2325panelcn.mops 1.33.0  (landing page)Gundula Povysil  OK  
1526/2325PanomiR 1.15.0  (landing page)Pourya Naderi  OK  
1527/2325panp 1.81.0  (landing page)Peter Warren  OK  
1528/2325PANR 1.57.0  (landing page)Xin Wang  OK  
1529/2325parglms 1.43.0  (landing page)VJ Carey  OK  
1530/2325parody 1.69.0  (landing page)Vince Carey  OK  
1531/2325partCNV 1.9.0  (landing page)Ziyi Li  OK  
1532/2325PAST 1.27.0  (landing page)Thrash Adam  WARNINGS  
1533/2325Path2PPI 1.41.0  (landing page)Oliver Philipp  OK  
1534/2325pathifier 1.49.0  (landing page)Assif Yitzhaky  OK  
1535/2325pathlinkR 1.7.3  (landing page)Travis Blimkie  OK  
1536/2325pathMED 1.3.0  (landing page)Jordi Martorell-Marugán  ERROR  
1537/2325PathNet 1.51.0  (landing page)Ludwig Geistlinger  OK  
1538/2325PathoStat 1.37.0  (landing page)Solaiappan Manimaran  ERROR  
1539/2325pathRender 1.79.0  (landing page)Vince Carey  OK  
1540/2325pathview 1.51.0  (landing page)Weijun Luo  WARNINGS  
1541/2325pathwayPCA 1.27.0  (landing page)Gabriel Odom  OK  
1542/2325pcaExplorer 3.5.0  (landing page)Federico Marini  OK  
1543/2325pcaMethods 2.3.0  (landing page)Henning Redestig  OK  
1544/2325PCAN 1.39.0  (landing page)Matthew Page and Patrice Godard  OK  
1545/2325PCAtools 2.23.0  (landing page)Kevin Blighe  ERROR  
1546/2325PDATK 1.19.0  (landing page)Benjamin Haibe-Kains  ERROR  
1547/2325pdInfoBuilder 1.75.0  (landing page)Benilton Carvalho  OK  
1548/2325PeacoQC 1.21.0  (landing page)Annelies Emmaneel  ERROR  
1549/2325peakCombiner 1.1.0  (landing page)Markus Muckenhuber  OK  
1550/2325peakPantheR 1.25.0  (landing page)Arnaud Wolfer  ERROR  
1551/2325PECA 1.47.0  (landing page)Tomi Suomi  OK  
1552/2325peco 1.23.0  (landing page)Chiaowen Joyce Hsiao  OK  
1553/2325Pedixplorer 1.7.0  (landing page)Louis Le Nezet  OK  
1554/2325pengls 1.17.0  (landing page)Stijn Hawinkel  OK  
1555/2325PepSetTest 1.5.0  (landing page)Junmin Wang  OK  
1556/2325PepsNMR 1.29.0  (landing page)Manon Martin  OK  
1557/2325pepStat 1.45.0  (landing page)Gregory C Imholte  OK  
1558/2325pepXMLTab 1.45.0  (landing page)Xiaojing Wang  OK  
1559/2325periodicDNA 1.21.0  (landing page)Jacques Serizay  WARNINGS  
1560/2325pfamAnalyzeR 1.11.0  (landing page)Kristoffer Vitting-Seerup  OK  
1561/2325pgca 1.35.0  (landing page)Gabriela Cohen-Freue  OK  
1562/2325pgxRpi 1.7.0  (landing page)Hangjia Zhao  OK  
1563/2325phantasus 1.31.0  (landing page)Alexey Sergushichev  ERROR  
1564/2325phantasusLite 1.9.0  (landing page)Alexey Sergushichev  ERROR  
1565/2325PharmacoGx 3.15.0  (landing page)Benjamin Haibe-Kains  OK  
1566/2325PhenoGeneRanker 1.19.0  (landing page)Cagatay Dursun  OK  
1567/2325phenomis 1.13.0  (landing page)Etienne A. Thevenot  OK  
1568/2325phenopath 1.35.0  (landing page)Kieran Campbell  OK  
1569/2325phenoTest 1.59.0  (landing page)Evarist Planet  OK  
1570/2325philr 1.37.0  (landing page)Justin Silverman  ERROR  
1571/2325PhIPData 1.19.0  (landing page)Athena Chen  ERROR  
1572/2325phosphonormalizer 1.35.0  (landing page)Sohrab Saraei  OK  
1573/2325PhosR 1.21.0  (landing page)Di Xiao  OK  
1574/2325PhyloProfile 2.3.1  (landing page)Vinh Tran  OK  
1575/2325phyloseq 1.55.0  (landing page)Paul J. McMurdie  ERROR  
1576/2325piano 2.27.0  (landing page)Leif Varemo Wigge  OK  
1577/2325PICB 1.3.0  (landing page)Franziska Ahrend  OK  
1578/2325pickgene 1.83.0  (landing page)Brian S. Yandell  WARNINGS  
1579/2325Pigengene 1.37.0  (landing page)Habil Zare  ERROR  
1580/2325pipeComp 1.21.0  (landing page)Pierre-Luc Germain  ERROR  
1581/2325pipeFrame 1.27.0  (landing page)Zheng Wei  OK  
1582/2325PIPETS 1.7.0  (landing page)Quinlan Furumo  OK  
1583/2325Pirat 1.5.1  (landing page)Lucas Etourneau  OK  
1584/2325PIUMA 1.7.0  (landing page)Mattia Chiesa  ERROR  
1585/2325planet 1.19.0  (landing page)Victor Yuan  ERROR  
1586/2325planttfhunter 1.11.0  (landing page)Fabrício Almeida-Silva  OK  
1587/2325plasmut 1.9.0  (landing page)Adith Arun  OK  
1588/2325plgem 1.83.0  (landing page)Norman Pavelka  OK  
1589/2325plier 1.81.0  (landing page)Crispin Miller  WARNINGS  
1590/2325plotgardener 1.17.0  (landing page)Nicole Kramer  ERROR  
1591/2325plotGrouper 1.29.0  (landing page)John D. Gagnon  OK  
1592/2325PLPE 1.71.0  (landing page)Soo-heang Eo  OK  
1593/2325PLSDAbatch 1.7.0  (landing page)Yiwen (Eva) Wang  OK  
1594/2325plyinteractions 1.9.0  (landing page)Jacques Serizay  ERROR  
1595/2325plyranges 1.31.1  (landing page)Michael Love  ERROR  
1596/2325plyxp 1.5.0  (landing page)Justin Landis  OK  
1597/2325pmm 1.43.0  (landing page)Anna Drewek  OK  
1598/2325pmp 1.23.1  (landing page)Gavin Rhys Lloyd  ERROR  
1599/2325PMScanR 1.1.0  (landing page)Jan Pawel Jastrzebski  OK  
1600/2325PoDCall 1.19.0  (landing page)Hans Petter Brodal  OK  
1601/2325podkat 1.43.0  (landing page)Ulrich Bodenhofer  ERROR  
1602/2325poem 1.3.0  (landing page)Siyuan Luo  OK  
1603/2325pogos 1.31.0  (landing page)VJ Carey  OK  
1604/2325PolySTest 1.5.0  (landing page)Veit Schwämmle  OK  
1605/2325Polytect 1.3.0  (landing page)Yao Chen  ERROR  
1606/2325POMA 1.21.0  (landing page)Pol Castellano-Escuder  ERROR  
1607/2325powerTCR 1.31.0  (landing page)Hillary Koch  WARNINGS  
1608/2325POWSC 1.19.0  (landing page)Kenong Su  OK  
1609/2325ppcseq 1.19.0  (landing page)Stefano Mangiola  ERROR  
1610/2325PPInfer 1.37.0  (landing page)Dongmin Jung  OK  
1611/2325pqsfinder 2.27.0  (landing page)Jiri Hon  WARNINGS  
1612/2325pram 1.27.0  (landing page)Peng Liu  OK  
1613/2325prebs 1.51.0  (landing page)Karolis Uziela  ERROR  
1614/2325preciseTAD 1.21.0  (landing page)Mikhail Dozmorov  OK  
1615/2325PREDA 1.57.0  (landing page)Francesco Ferrari  WARNINGS  
1616/2325preprocessCore 1.73.0  (landing page)Ben Bolstad  WARNINGS  
1617/2325primirTSS 1.29.0  (landing page)Pumin Li  ERROR  
1618/2325PrInCE 1.27.0  (landing page)Michael Skinnider  ERROR  
1619/2325proActiv 1.21.0  (landing page)Joseph Lee  OK  
1620/2325proBAMr 1.45.0  (landing page)Xiaojing Wang  OK  
1621/2325PROcess 1.87.0  (landing page)Xiaochun Li  OK  
1622/2325procoil 2.39.0  (landing page)Ulrich Bodenhofer  OK  
1623/2325proDA 1.25.0  (landing page)Constantin Ahlmann-Eltze  ERROR  
1624/2325profileplyr 1.27.0  (landing page)Tom Carroll , Doug Barrows  ERROR  
1625/2325profileScoreDist 1.39.0  (landing page)Paal O. Westermark  ERROR  
1626/2325progeny 1.33.0  (landing page)Aurélien Dugourd  OK  
1627/2325projectR 1.27.0  (landing page)Genevieve Stein-O'Brien  ERROR  
1628/2325pRoloc 1.51.0  (landing page)Lisa Breckels  ERROR  
1629/2325pRolocGUI 2.21.0  (landing page)Lisa Breckels  ERROR  
1630/2325PROMISE 1.63.0  (landing page)Stan Pounds , Xueyuan Cao  OK  
1631/2325PRONE 1.5.0  (landing page)Lis Arend  ERROR  
1632/2325PROPER 1.43.0  (landing page)Hao Wu  ERROR  
1633/2325PROPS 1.33.0  (landing page)Lichy Han  ERROR  
1634/2325Prostar 1.43.0  (landing page)Samuel Wieczorek  ERROR  
1635/2325proteinProfiles 1.51.0  (landing page)Julian Gehring  OK  
1636/2325ProteoDisco 1.17.0  (landing page)Job van Riet  WARNINGS  
1637/2325ProteoMM 1.29.0  (landing page)Yuliya V Karpievitch  OK  
1638/2325protGear 1.15.0  (landing page)Kennedy Mwai  OK  
1639/2325ProtGenerics 1.43.0  (landing page)Laurent Gatto  OK  
1640/2325psichomics 1.37.0  (landing page)Nuno Saraiva-Agostinho  ERROR  
1641/2325PSMatch 1.15.0  (landing page)Laurent Gatto  ERROR  
1642/2325ptairMS 1.19.0  (landing page)camille Roquencourt  ERROR  
1643/2325puma 3.53.0  (landing page)Xuejun Liu  WARNINGS  
1644/2325PureCN 2.17.0  (landing page)Markus Riester  ERROR  
1645/2325pvac 1.59.0  (landing page)Jun Lu , Pierre R. Bushel  OK  
1646/2325pvca 1.51.0  (landing page)Jianying LI  OK  
1647/2325Pviz 1.45.0  (landing page)Renan Sauteraud  WARNINGS  
1648/2325pwalign 1.7.0  (landing page)Hervé Pagès  OK  
1649/2325PWMEnrich 4.47.0  (landing page)Diego Diez  OK  
Q
ABCDEFGHIJKLMNOPQRSTUVWXYZ
PackageMaintainerINSTALL/BUILD/CHECK
1650/2325qcmetrics 1.49.0  (landing page)Laurent Gatto  ERROR  
1651/2325QDNAseq 1.47.0  (landing page)Daoud Sie  OK  
1652/2325QFeatures 1.21.0  (landing page)Laurent Gatto  ERROR  
1653/2325qmtools 1.15.0  (landing page)Jaehyun Joo  OK  
1654/2325qpcrNorm 1.69.0  (landing page)Jessica Mar  OK  
1655/2325qpgraph 2.45.0  (landing page)Robert Castelo  OK  
1656/2325qPLEXanalyzer 1.29.0  (landing page)Ashley Sawle  ERROR  
1657/2325QRscore 1.3.0  (landing page)Fanding Zhou  WARNINGS  
1658/2325qsea 1.37.0  (landing page)Matthias Lienhard  ERROR  
1659/2325qsmooth 1.27.0  (landing page)Stephanie C. Hicks  ERROR  
1660/2325QSutils 1.29.0  (landing page)Mercedes Guerrero-Murillo  OK  
1661/2325qsvaR 1.15.0  (landing page)Nicholas J. Eagles  ERROR  
1662/2325QTLExperiment 2.3.0  (landing page)Amelia Dunstone  WARNINGS  
1663/2325Qtlizer 1.25.0  (landing page)Matthias Munz  OK  
1664/2325quantiseqr 1.19.0  (landing page)Federico Marini  OK  
1665/2325quantro 1.45.0  (landing page)Stephanie Hicks  ERROR  
1666/2325quantsmooth 1.77.0  (landing page)Jan Oosting  OK  
1667/2325QuasR 1.51.0  (landing page)Michael Stadler  WARNINGS  
1668/2325QuaternaryProd 1.45.0  (landing page)Carl Tony Fakhry  OK  
1669/2325QUBIC 1.39.0  (landing page)Yu Zhang  OK  
1670/2325qusage 2.45.0  (landing page)Christopher Bolen  OK  
1671/2325qvalue 2.43.0  (landing page)John D. Storey , Andrew J. Bass  OK  
R
ABCDEFGHIJKLMNOPQRSTUVWXYZ
PackageMaintainerINSTALL/BUILD/CHECK
1672/2325R3CPET 1.43.0  (landing page)Mohamed Nadhir Djekidel  unknown  
1673/2325r3Cseq 1.57.0  (landing page)Supat Thongjuea or  OK  
1674/2325R453Plus1Toolbox 1.61.0  (landing page)Hans-Ulrich Klein  ERROR  
1675/2325R4RNA 1.39.0  (landing page)Daniel Lai  OK  
1676/2325RadioGx 2.15.0  (landing page)Benjamin Haibe-Kains  OK  
1677/2325raer 1.9.0  (landing page)Kent Riemondy  ERROR  
1678/2325RaggedExperiment 1.35.0  (landing page)Marcel Ramos  OK  
1679/2325RAIDS 1.9.0  (landing page)Pascal Belleau  ERROR  
1680/2325rain 1.45.0  (landing page)Paul F. Thaben  OK  
1681/2325ramr 1.19.0  (landing page)Oleksii Nikolaienko  OK  
1682/2325ramwas 1.35.0  (landing page)Andrey A Shabalin  OK  
1683/2325randPack 1.57.0  (landing page)Robert Gentleman  OK  
1684/2325randRotation 1.23.0  (landing page)Peter Hettegger  ERROR  
1685/2325RankProd 3.37.0  (landing page)Francesco Del Carratore  OK  
1686/2325RAREsim 1.15.0  (landing page)Ryan Barnard  OK  
1687/2325RareVariantVis 2.39.0  (landing page)Tomasz Stokowy  ERROR  
1688/2325Rarr 1.11.4  (landing page)Hugo Gruson  OK  
1689/2325rawDiag 1.7.0  (landing page)Christian Panse  OK  
1690/2325rawrr 1.19.0  (landing page)Christian Panse  OK  
1691/2325RbcBook1 1.79.0  (landing page)Vince Carey  WARNINGS  
1692/2325Rbec 1.19.0  (landing page)Pengfan Zhang  ERROR  
1693/2325RBGL 1.87.0  (landing page)Bioconductor Package Maintainer  OK  
1694/2325RBioFormats 1.11.0  (landing page)Andrzej Oleś  OK  
1695/2325rBiopaxParser 2.51.0  (landing page)Frank Kramer  OK  
1696/2325rBLAST 1.7.0  (landing page)Michael Hahsler  OK  
1697/2325RBM 1.43.0  (landing page)Dongmei Li  OK  
1698/2325Rbowtie 1.51.0  (landing page)Michael Stadler  WARNINGS  
1699/2325Rbowtie2 2.17.0  (landing page)Zheng Wei  OK  
1700/2325RbowtieCuda 1.3.0  (landing page)Franck RICHARD  unknown  
1701/2325rbsurv 2.69.0  (landing page)Soo-heang Eo  OK  
1702/2325Rbwa 1.15.0  (landing page)Jean-Philippe Fortin  WARNINGS  
1703/2325RCAS 1.37.0  (landing page)Bora Uyar  OK  
1704/2325RCASPAR 1.57.0  (landing page)Douaa Mugahid , Lars Kaderali  OK  
1705/2325rcellminer 2.33.0  (landing page)Augustin Luna , Vinodh Rajapakse  WARNINGS  
1706/2325rCGH 1.41.0  (landing page)Frederic Commo  OK  
1707/2325RcisTarget 1.31.0  (landing page)Gert Hulselmans  ERROR  
1708/2325RCM 1.27.0  (landing page)Stijn Hawinkel  ERROR  
1709/2325Rcollectl 1.11.0  (landing page)Vincent Carey  unknown  
1710/2325Rcpi 1.47.0  (landing page)Nan Xiao  OK  
1711/2325RCSL 1.19.0  (landing page)Qinglin Mei  OK  
1712/2325Rcwl 1.27.0  (landing page)Qiang Hu  ERROR  
1713/2325RcwlPipelines 1.27.0  (landing page)Qiang Hu  OK  
1714/2325RCX 1.15.0  (landing page)Florian Auer  OK  
1715/2325RCy3 2.31.0  (landing page)Alex Pico  OK  
1716/2325RCyjs 2.33.0  (landing page)Paul Shannon  WARNINGS  
1717/2325Rdisop 1.71.0  (landing page)Steffen Neumann  OK  
1718/2325RDRToolbox 1.61.0  (landing page)Christoph Bartenhagen  OK  
1719/2325ReactomeGSA 1.25.0  (landing page)Johannes Griss  ERROR  
1720/2325ReactomePA 1.55.0  (landing page)Guangchuang Yu  OK  
1721/2325ReadqPCR 1.57.0  (landing page)James Perkins  OK  
1722/2325REBET 1.29.0  (landing page)Bill Wheeler  OK  
1723/2325rebook 1.21.0  (landing page)Aaron Lun  ERROR  
1724/2325receptLoss 1.23.0  (landing page)Daniel Pique  ERROR  
1725/2325reconsi 1.23.0  (landing page)Stijn Hawinkel  ERROR  
1726/2325recount 1.37.0  (landing page)Leonardo Collado-Torres  ERROR  
1727/2325recount3 1.21.0  (landing page)Leonardo Collado-Torres  OK  
1728/2325recountmethylation 1.21.0  (landing page)Sean K Maden  ERROR  
1729/2325recoup 1.39.0  (landing page)Panagiotis Moulos  OK  
1730/2325RedeR 3.7.0  (landing page)Mauro Castro  OK  
1731/2325RedisParam 1.13.0  (landing page)Martin Morgan  OK  
1732/2325REDseq 1.57.0  (landing page)Lihua Julie Zhu  OK  
1733/2325ReducedExperiment 1.3.0  (landing page)Jack Gisby  ERROR  
1734/2325RegEnrich 1.21.0  (landing page)Weiyang Tao  OK  
1735/2325regionalpcs 1.9.0  (landing page)Tiffany Eulalio  ERROR  
1736/2325RegionalST 1.9.0  (landing page)Ziyi Li  ERROR  
1737/2325regioneR 1.43.0  (landing page)Bernat Gel  OK  
1738/2325regioneReloaded 1.13.0  (landing page)Roberto Malinverni  OK  
1739/2325regionReport 1.45.0  (landing page)Leonardo Collado-Torres  ERROR  
1740/2325regsplice 1.37.0  (landing page)Lukas M. Weber  ERROR  
1741/2325regutools 1.23.0  (landing page)Joselyn Chavez  OK  
1742/2325REMP 1.35.0  (landing page)Yinan Zheng  ERROR  
1743/2325ReportingTools 2.51.0  (landing page)Jason A. Hackney , Gabriel Becker  ERROR  
1744/2325RepViz 1.27.0  (landing page)Thomas Faux, Asta Laiho   ERROR  
1745/2325ResidualMatrix 1.21.0  (landing page)Aaron Lun  OK  
1746/2325RESOLVE 1.13.0  (landing page)Luca De Sano  OK  
1747/2325retrofit 1.11.0  (landing page)Adam Park  OK  
1748/2325ReUseData 1.11.0  (landing page)Qian Liu  ERROR  
1749/2325rexposome 1.33.0  (landing page)Xavier Escribà Montagut  WARNINGS  
1750/2325rfaRm 1.23.0  (landing page)Lara Selles Vidal  ERROR  
1751/2325RFLOMICS 1.3.0  (landing page)Nadia Bessoltane  ERROR  
1752/2325rfPred 1.49.0  (landing page)Hugo Varet  OK  
1753/2325rGenomeTracks 1.17.0  (landing page)Omar Elashkar  OK  
1754/2325RgnTX 1.13.0  (landing page)Yue Wang  ERROR  
1755/2325rgoslin 1.15.0  (landing page)Nils Hoffmann  OK  
1756/2325RGraph2js 1.39.0  (landing page)Stephane Cano  OK  
1757/2325Rgraphviz 2.55.0  (landing page)Kasper Daniel Hansen  WARNINGS  
1758/2325rGREAT 2.13.1  (landing page)Zuguang Gu  OK  
1759/2325RGSEA 1.45.0  (landing page)Chengcheng Ma  OK  
1760/2325rgsepd 1.43.0  (landing page)Karl Stamm  OK  
1761/2325rhdf5 2.55.7  (landing page)Hugo Gruson  ERROR  
1762/2325rhdf5client 1.33.0  (landing page)Alexey Sergushichev  OK  
1763/2325rhdf5filters 1.23.0  (landing page)Hugo Gruson  ERROR  
1764/2325Rhdf5lib 1.33.0  (landing page)Hugo Gruson  ERROR  
1765/2325rhinotypeR 1.5.0  (landing page)Martha Luka  OK  
1766/2325Rhisat2 1.27.0  (landing page)Charlotte Soneson  WARNINGS  
1767/2325Rhtslib 3.7.0  (landing page)Hervé Pagès  OK  
1768/2325RiboCrypt 1.17.0  (landing page)Michal Swirski  OK  
1769/2325RiboDiPA 1.19.0  (landing page)Ji-Ping Wang  OK  
1770/2325RiboProfiling 1.41.0  (landing page)A. Popa  ERROR  
1771/2325ribor 1.23.0  (landing page)Michael Geng  ERROR  
1772/2325riboSeqR 1.45.0  (landing page)Samuel Granjeaud  ERROR  
1773/2325ribosomeProfilingQC 1.23.0  (landing page)Jianhong Ou  ERROR  
1774/2325rifi 1.15.0  (landing page)Jens Georg  WARNINGS  
1775/2325rifiComparative 1.11.0  (landing page)Loubna Youssar  OK  
1776/2325Rigraphlib 1.3.1  (landing page)Aaron Lun  WARNINGS  
1777/2325rigvf 1.3.0  (landing page)Michael Love  ERROR  
1778/2325RImmPort 1.39.0  (landing page)Zicheng Hu , Ravi Shankar  OK  
1779/2325RITAN 1.35.0  (landing page)Michael Zimmermann  ERROR  
1780/2325RIVER 1.35.0  (landing page)Yungil Kim  OK  
1781/2325RJMCMCNucleosomes 1.35.0  (landing page)Astrid Deschênes  OK  
1782/2325RLassoCox 1.19.0  (landing page)Wei Liu  OK  
1783/2325RLMM 1.73.0  (landing page)Nusrat Rabbee  OK  
1784/2325Rmagpie 1.67.0  (landing page)Camille Maumet  OK  
1785/2325RMassBank 3.21.0  (landing page)RMassBank at Eawag  ERROR  
1786/2325rmelting 1.27.0  (landing page)J. Aravind  OK  
1787/2325Rmmquant 1.29.0  (landing page)Zytnicki Matthias  OK  
1788/2325rmspc 1.17.0  (landing page)Meriem Bahda  OK  
1789/2325RNAAgeCalc 1.23.0  (landing page)Xu Ren  OK  
1790/2325RNAdecay 1.31.0  (landing page)Reed Sorenson  ERROR  
1791/2325rnaEditr 1.21.0  (landing page)Lanyu Zhang  WARNINGS  
1792/2325RNAmodR 1.25.0  (landing page)Felix G.M. Ernst  ERROR  
1793/2325RNAmodR.AlkAnilineSeq 1.25.0  (landing page)Felix G.M. Ernst  ERROR  
1794/2325RNAmodR.ML 1.25.0  (landing page)Felix G.M. Ernst  ERROR  
1795/2325RNAmodR.RiboMethSeq 1.25.0  (landing page)Felix G.M. Ernst  ERROR  
1796/2325RNAsense 1.25.0  (landing page)Marcus Rosenblatt  WARNINGS  
1797/2325rnaseqcomp 1.41.0  (landing page)Mingxiang Teng  OK  
1798/2325RNAseqCovarImpute 1.9.0  (landing page)Brennan Baker  ERROR  
1799/2325RNASeqPower 1.51.0  (landing page)Terry M Therneau  OK  
1800/2325RnaSeqSampleSize 2.21.0  (landing page)Shilin Zhao Developer  ERROR  
1801/2325RnBeads 2.29.0  (landing page)Fabian Mueller  ERROR  
1802/2325Rnits 1.45.0  (landing page)Dipen P. Sangurdekar  WARNINGS  
1803/2325roar 1.47.0  (landing page)Elena Grassi  OK  
1804/2325roastgsa 1.9.0  (landing page)Adria Caballe  ERROR  
1805/2325ROC 1.87.0  (landing page)Vince Carey  OK  
1806/2325ROCpAI 1.23.0  (landing page)Juan-Pedro Garcia  OK  
1807/2325RolDE 1.15.0  (landing page)Medical Bioinformatics Centre  OK  
1808/2325rols 3.7.0  (landing page)Laurent Gatto  ERROR  
1809/2325ROntoTools 2.39.0  (landing page)Sorin Draghici  WARNINGS  
1810/2325ropls 1.43.0  (landing page)Etienne A. Thevenot  OK  
1811/2325ROSeq 1.23.0  (landing page)Krishan Gupta  ERROR  
1812/2325ROTS 2.3.0  (landing page)Tomi Suomi  OK  
1813/2325RPA 1.67.0  (landing page)Leo Lahti  ERROR  
1814/2325rprimer 1.15.0  (landing page)Sofia Persson  OK  
1815/2325RProtoBufLib 2.23.0  (landing page)Mike Jiang  ERROR  
1816/2325rpx 2.19.0  (landing page)Laurent Gatto  OK  
1817/2325Rqc 1.45.0  (landing page)Welliton Souza  OK  
1818/2325rqt 1.37.0  (landing page)Ilya Zhbannikov  OK  
1819/2325rqubic 1.57.0  (landing page)Jitao David Zhang  OK  
1820/2325RRHO 1.51.0  (landing page)Jonathan Rosenblatt  OK  
1821/2325rrvgo 1.23.0  (landing page)Sergi Sayols  OK  
1822/2325Rsamtools 2.27.0  (landing page)Bioconductor Package Maintainer  WARNINGS  
1823/2325rsbml 2.69.0  (landing page)Michael Lawrence  unknown  
1824/2325rScudo 1.27.0  (landing page)Matteo Ciciani  OK  
1825/2325rsemmed 1.21.0  (landing page)Leslie Myint  OK  
1826/2325RSeqAn 1.31.0  (landing page)August Guang  OK  
1827/2325Rsubread 2.25.0  (landing page)Wei Shi , Yang Liao and Gordon K Smyth  WARNINGS  
1828/2325RSVSim 1.51.0  (landing page)Christoph Bartenhagen  OK  
1829/2325rSWeeP 1.23.0  (landing page)Camila P Perico  OK  
1830/2325RTCA 1.63.0  (landing page)Jitao David Zhang  WARNINGS  
1831/2325RTCGA 1.41.0  (landing page)Marcin Kosinski  OK  
1832/2325RTCGAToolbox 2.41.0  (landing page)Marcel Ramos  OK  
1833/2325RTN 2.35.0  (landing page)Mauro Castro  OK  
1834/2325RTNduals 1.35.0  (landing page)Mauro Castro , Clarice Groeneveld  OK  
1835/2325RTNsurvival 1.35.0  (landing page)Clarice Groeneveld , Mauro A. A. Castro  OK  
1836/2325RTopper 1.57.0  (landing page)Luigi Marchionni  OK  
1837/2325Rtpca 1.21.0  (landing page)Nils Kurzawa  OK  
1838/2325rtracklayer 1.71.0  (landing page)Michael Lawrence  ERROR  
1839/2325rTRM 1.49.0  (landing page)Diego Diez  OK  
1840/2325rTRMui 1.49.0  (landing page)Diego Diez  OK  
1841/2325RUCova 1.3.0  (landing page)Rosario Astaburuaga-García  OK  
1842/2325runibic 1.33.0  (landing page)Patryk Orzechowski  unknown  
1843/2325RUVcorr 1.43.0  (landing page)Saskia Freytag  WARNINGS  
1844/2325RUVnormalize 1.45.0  (landing page)Laurent Jacob  OK  
1845/2325RUVSeq 1.45.0  (landing page)Davide Risso  ERROR  
1846/2325Rvisdiff 1.9.0  (landing page)David Barrios  ERROR  
1847/2325RVS 1.33.0  (landing page)Alexandre Bureau  WARNINGS  
1848/2325rWikiPathways 1.31.0  (landing page)Egon Willighagen  OK  
S
ABCDEFGHIJKLMNOPQRSTUVWXYZ
PackageMaintainerINSTALL/BUILD/CHECK
1849/2325S4Arrays 1.11.0  (landing page)Hervé Pagès  ERROR  
1850/2325S4Vectors 0.49.0  (landing page)Hervé Pagès  WARNINGS  
1851/2325safe 3.51.0  (landing page)Ludwig Geistlinger  OK  
1852/2325sagenhaft 1.81.0  (landing page)Tim Beissbarth  WARNINGS  
1853/2325SAIGEgds 2.11.0  (landing page)Xiuwen Zheng  ERROR  
1854/2325sampleClassifier 1.35.0  (landing page)Khadija El Amrani  OK  
1855/2325SamSPECTRAL 1.65.0  (landing page)Habil  WARNINGS  
1856/2325sangeranalyseR 1.21.0  (landing page)Kuan-Hao Chao  ERROR  
1857/2325sangerseqR 1.47.0  (landing page)Jonathon Hill  OK  
1858/2325SanityR 1.1.0  (landing page)Teo Sakel  OK  
1859/2325SANTA 2.47.0  (landing page)Alex Cornish  ERROR  
1860/2325sarks 1.23.0  (landing page)Dennis Wylie  OK  
1861/2325saseR 1.7.0  (landing page)Alexandre Segers  ERROR  
1862/2325satuRn 1.19.0  (landing page)Jeroen Gilis  ERROR  
1863/2325SBGNview 1.25.0  (landing page)Weijun Luo  OK  
1864/2325SBMLR 2.7.0  (landing page)Tomas Radivoyevitch  OK  
1865/2325SC3 1.39.0  (landing page)Vladimir Kiselev  OK  
1866/2325scafari 1.1.0  (landing page)Sophie Wind  ERROR  
1867/2325Scale4C 1.33.0  (landing page)Carolin Walter  OK  
1868/2325ScaledMatrix 1.19.0  (landing page)Aaron Lun  OK  
1869/2325SCAN.UPC 2.53.0  (landing page)Stephen R. Piccolo  ERROR  
1870/2325scanMiR 1.17.0  (landing page)Pierre-Luc Germain  OK  
1871/2325scanMiRApp 1.17.0  (landing page)Pierre-Luc Germain  OK  
1872/2325scAnnotatR 1.17.0  (landing page)Johannes Griss  ERROR  
1873/2325SCANVIS 1.25.0  (landing page)Phaedra Agius  OK  
1874/2325SCArray 1.19.0  (landing page)Xiuwen Zheng  ERROR  
1875/2325SCArray.sat 1.11.0  (landing page)Xiuwen Zheng  ERROR  
1876/2325scater 1.39.0  (landing page)Alan O'Callaghan  ERROR  
1877/2325scatterHatch 1.17.0  (landing page)Atul Deshpande  OK  
1878/2325scBFA 1.25.0  (landing page)Ruoxin Li  ERROR  
1879/2325SCBN 1.29.0  (landing page)Yan Zhou  OK  
1880/2325scBubbletree 1.13.0  (landing page)Simo Kitanovski  OK  
1881/2325scCB2 1.21.0  (landing page)Zijian Ni  ERROR  
1882/2325scClassify 1.23.0  (landing page)Yingxin Lin  ERROR  
1883/2325sccomp 2.3.0  (landing page)Stefano Mangiola  OK  
1884/2325scDataviz 1.21.0  (landing page)Kevin Blighe  ERROR  
1885/2325scDblFinder 1.25.0  (landing page)Pierre-Luc Germain  ERROR  
1886/2325scDD 1.35.0  (landing page)Keegan Korthauer  ERROR  
1887/2325scDDboost 1.13.0  (landing page)Xiuyu Ma  OK  
1888/2325scde 2.39.0  (landing page)Evan Biederstedt  ERROR  
1889/2325scDesign3 1.9.0  (landing page)Dongyuan Song  OK  
1890/2325scDiagnostics 1.5.0  (landing page)Anthony Christidis  ERROR  
1891/2325scDotPlot 1.5.0  (landing page)Benjamin I Laufer  ERROR  
1892/2325scds 1.27.0  (landing page)Dennis Kostka  OK  
1893/2325SCFA 1.21.0  (landing page)Duc Tran  OK  
1894/2325scFeatureFilter 1.31.0  (landing page)Guillaume Devailly  ERROR  
1895/2325scFeatures 1.11.0  (landing page)Yue Cao  ERROR  
1896/2325scGPS 1.25.0  (landing page)Quan Nguyen  OK  
1897/2325scGraphVerse 1.1.0  (landing page)Francesco Cecere  ERROR  
1898/2325schex 1.25.0  (landing page)Saskia Freytag  ERROR  
1899/2325scHiCcompare 1.3.0  (landing page)My Nguyen  ERROR  
1900/2325scHOT 1.23.0  (landing page)Shila Ghazanfar  OK  
1901/2325scider 1.9.0  (landing page)Yunshun Chen  ERROR  
1902/2325scifer 1.13.0  (landing page)Rodrigo Arcoverde Cerveira  ERROR  
1903/2325scLANE 1.1.0  (landing page)Jack R. Leary  ERROR  
1904/2325scmap 1.33.0  (landing page)Vladimir Kiselev  OK  
1905/2325scMerge 1.27.0  (landing page)Yingxin Lin  ERROR  
1906/2325scMET 1.13.0  (landing page)Andreas C. Kapourani  OK  
1907/2325scmeth 1.31.0  (landing page)Divy Kangeyan  ERROR  
1908/2325scMitoMut 1.7.0  (landing page)Wenjie Sun  ERROR  
1909/2325scMultiSim 1.7.0  (landing page)Hechen Li  OK  
1910/2325SCnorm 1.33.0  (landing page)Rhonda Bacher  OK  
1911/2325scone 1.35.0  (landing page)Davide Risso  ERROR  
1912/2325Sconify 1.31.0  (landing page)Tyler J Burns  ERROR  
1913/2325SCOPE 1.23.0  (landing page)Rujin Wang  OK  
1914/2325scoreInvHap 1.33.0  (landing page)Dolors Pelegri-Siso  OK  
1915/2325scoup 1.5.0  (landing page)Hassan Sadiq  OK  
1916/2325scp 1.21.0  (landing page)Christophe Vanderaa  ERROR  
1917/2325scPCA 1.25.0  (landing page)Philippe Boileau  ERROR  
1918/2325scPipe 2.11.0  (landing page)Shian Su  ERROR  
1919/2325scQTLtools 1.3.0  (landing page)Xiaofeng Wu  ERROR  
1920/2325scran 1.39.0  (landing page)Aaron Lun  ERROR  
1921/2325scrapper 1.5.2  (landing page)Aaron Lun  ERROR  
1922/2325scReClassify 1.17.0  (landing page)Taiyun Kim  OK  
1923/2325scRecover 1.27.0  (landing page)Zhun Miao  OK  
1924/2325screenCounter 1.11.0  (landing page)Aaron Lun  OK  
1925/2325ScreenR 1.13.0  (landing page)Emanuel Michele Soda  ERROR  
1926/2325scRepertoire 2.7.0  (landing page)Nick Borcherding  ERROR  
1927/2325scRNAseqApp 1.11.0  (landing page)Jianhong Ou  ERROR  
1928/2325scruff 1.29.0  (landing page)Zhe Wang  OK  
1929/2325scry 1.23.0  (landing page)Kelly Street  ERROR  
1930/2325scShapes 1.17.0  (landing page)Malindrie Dharmaratne  OK  
1931/2325scTensor 2.21.0  (landing page)Koki Tsuyuzaki  WARNINGS  
1932/2325scTGIF 1.25.0  (landing page)Koki Tsuyuzaki  OK  
1933/2325scTHI 1.23.0  (landing page)Michele Ceccarelli  OK  
1934/2325scTreeViz 1.17.0  (landing page)Jayaram Kancherla  ERROR  
1935/2325scuttle 1.21.0  (landing page)Aaron Lun  ERROR  
1936/2325scviR 1.11.0  (landing page)Vincent Carey  TIMEOUT  
1937/2325SDAMS 1.31.0  (landing page)Yuntong Li  OK  
1938/2325seahtrue 1.5.0  (landing page)Vincent de Boer  OK  
1939/2325sechm 1.19.0  (landing page)Pierre-Luc Germain  OK  
1940/2325segmenter 1.17.0  (landing page)Mahmoud Ahmed  OK  
1941/2325segmentSeq 2.45.0  (landing page)Samuel Granjeaud  ERROR  
1942/2325selectKSigs 1.23.0  (landing page)Zhi Yang  OK  
1943/2325SELEX 1.43.0  (landing page)Harmen J. Bussemaker  OK  
1944/2325SemDist 1.45.0  (landing page)Ian Gonzalez  OK  
1945/2325semisup 1.35.0  (landing page)Armin Rauschenberger  OK  
1946/2325seq.hotSPOT 1.11.0  (landing page)Sydney Grant  OK  
1947/2325seq2pathway 1.43.0  (landing page)Arjun Kinstlick  ERROR  
1948/2325SeqArray 1.51.0  (landing page)Xiuwen Zheng  ERROR  
1949/2325seqCAT 1.33.0  (landing page)Erik Fasterius  OK  
1950/2325seqcombo 1.33.0  (landing page)Guangchuang Yu  OK  
1951/2325SeqGate 1.21.0  (landing page)Stéphanie Rialle  ERROR  
1952/2325SeqGSEA 1.51.0  (landing page)Xi Wang  OK  
1953/2325Seqinfo 1.1.0  (landing page)Hervé Pagès  OK  
1954/2325seqLogo 1.77.0  (landing page)Robert Ivanek  OK  
1955/2325seqPattern 1.43.0  (landing page)Vanja Haberle  OK  
1956/2325seqsetvis 1.31.0  (landing page)Joseph R Boyd  OK  
1957/2325SeqSQC 1.33.0  (landing page)Qian Liu  ERROR  
1958/2325SeqVarTools 1.49.0  (landing page)Stephanie M. Gogarten  ERROR  
1959/2325SEraster 1.3.0  (landing page)Gohta Aihara  ERROR  
1960/2325sesame 1.29.0  (landing page)Wanding Zhou  ERROR  
1961/2325SETA 1.1.0  (landing page)Kyle Kimler  ERROR  
1962/2325SEtools 1.25.0  (landing page)Pierre-Luc Germain  ERROR  
1963/2325sevenbridges 1.41.0  (landing page)Phil Webster  OK  
1964/2325sevenC 1.31.0  (landing page)Jonas Ibn-Salem  OK  
1965/2325SGCP 1.11.0  (landing page)Niloofar AghaieAbiane  ERROR  
1966/2325SGSeq 1.45.0  (landing page)Leonard Goldstein  OK  
1967/2325SharedObject 1.25.0  (landing page)Jiefei Wang  WARNINGS  
1968/2325shiny.gosling 1.7.0  (landing page)Appsilon  ERROR  
1969/2325shinybiocloader 1.1.0  (landing page)Marcel Ramos  OK  
1970/2325shinyDSP 1.3.0  (landing page)Seung J. Kim  ERROR  
1971/2325shinyepico 1.19.0  (landing page)Octavio Morante-Palacios  ERROR  
1972/2325shinyMethyl 1.47.0  (landing page)Jean-Philippe Fortin  ERROR  
1973/2325ShortRead 1.69.2  (landing page)Bioconductor Package Maintainer  WARNINGS  
1974/2325SIAMCAT 2.15.0  (landing page)Jakob Wirbel  ERROR  
1975/2325SICtools 1.41.0  (landing page)Xiaobin Xing  WARNINGS  
1976/2325SigCheck 2.43.0  (landing page)Rory Stark  OK  
1977/2325sigFeature 1.29.0  (landing page)Pijush Das Developer  WARNINGS  
1978/2325SigFuge 1.49.0  (landing page)Patrick Kimes  ERROR  
1979/2325siggenes 1.85.0  (landing page)Holger Schwender  OK  
1980/2325sights 1.37.0  (landing page)Elika Garg  OK  
1981/2325signatureSearch 1.25.0  (landing page)Brendan Gongol  ERROR  
1982/2325signeR 2.13.0  (landing page)Renan Valieris  OK  
1983/2325signifinder 1.13.0  (landing page)Stefania Pirrotta  ERROR  
1984/2325SigsPack 1.25.0  (landing page)Franziska Schumann  OK  
1985/2325sigsquared 1.43.0  (landing page)UnJin Lee  OK  
1986/2325SIM 1.81.0  (landing page)Renee X. de Menezes  WARNINGS  
1987/2325SIMAT 1.43.0  (landing page)M. R. Nezami Ranjbar  ERROR  
1988/2325SimBu 1.13.0  (landing page)Alexander Dietrich  ERROR  
1989/2325SIMD 1.29.0  (landing page)Jiadi Zhu  ERROR  
1990/2325SimFFPE 1.23.0  (landing page)Lanying Wei  OK  
1991/2325similaRpeak 1.43.0  (landing page)Astrid Deschênes  OK  
1992/2325SIMLR 1.37.0  (landing page)Luca De Sano  OK  
1993/2325simona 1.9.0  (landing page)Zuguang Gu  OK  
1994/2325simPIC 1.7.0  (landing page)Sagrika Chugh  ERROR  
1995/2325simpleSeg 1.13.0  (landing page)Ellis Patrick  ERROR  
1996/2325simplifyEnrichment 2.5.0  (landing page)Zuguang Gu  OK  
1997/2325sincell 1.43.0  (landing page)Miguel Julia , Antonio Rausell  TIMEOUT  
1998/2325SingleCellAlleleExperiment 1.7.0  (landing page)Jonas Schuck  ERROR  
1999/2325SingleCellExperiment 1.33.0  (landing page)Davide Risso  ERROR  
2000/2325SingleCellSignalR 2.1.1  (landing page)Jean-Philippe Villemin  ERROR  
2001/2325singleCellTK 2.21.0  (landing page)Joshua David Campbell  ERROR  
2002/2325SingleMoleculeFootprinting 2.5.0  (landing page)Guido Barzaghi  ERROR  
2003/2325SingleR 2.13.0  (landing page)Aaron Lun  ERROR  
2004/2325singscore 1.31.0  (landing page)Malvika Kharbanda  ERROR  
2005/2325SiPSiC 1.11.0  (landing page)Daniel Davis  OK  
2006/2325sitadela 1.19.0  (landing page)Panagiotis Moulos  OK  
2007/2325Site2Target 1.3.0  (landing page)Peyman Zarrineh  OK  
2008/2325sitePath 1.27.0  (landing page)Chengyang Ji  OK  
2009/2325sizepower 1.81.0  (landing page)Weiliang Qiu  OK  
2010/2325sketchR 1.7.0  (landing page)Charlotte Soneson  ERROR  
2011/2325skewr 1.43.0  (landing page)Ryan Putney  ERROR  
2012/2325slalom 1.33.0  (landing page)Davis McCarthy  ERROR  
2013/2325slingshot 2.19.0  (landing page)Kelly Street  ERROR  
2014/2325SLqPCR 1.77.0  (landing page)Matthias Kohl  OK  
2015/2325SMAD 1.27.0  (landing page)Qingzhou Zhang  WARNINGS  
2016/2325smartid 1.7.0  (landing page)Jinjin Chen  ERROR  
2017/2325SmartPhos 1.1.0  (landing page)Shubham Agrawal  OK  
2018/2325SMITE 1.39.0  (landing page)Neil Ari Wijetunga  OK  
2019/2325smoothclust 1.7.0  (landing page)Lukas M. Weber  ERROR  
2020/2325smoppix 1.3.0  (landing page)Stijn Hawinkel  ERROR  
2021/2325SNAGEE 1.51.0  (landing page)David Venet  OK  
2022/2325snapcount 1.23.0  (landing page)Rone Charles  ERROR  
2023/2325snifter 1.21.0  (landing page)Alan O'Callaghan  OK  
2024/2325snm 1.59.0  (landing page)John D. Storey  OK  
2025/2325SNPediaR 1.37.0  (landing page)David Montaner  OK  
2026/2325SNPhood 1.41.0  (landing page)Christian Arnold  OK  
2027/2325SNPRelate 1.45.0  (landing page)Xiuwen Zheng  ERROR  
2028/2325snpStats 1.61.0  (landing page)David Clayton  WARNINGS  
2029/2325soGGi 1.43.0  (landing page)Tom Carroll  ERROR  
2030/2325SomaticSignatures 2.47.0  (landing page)Julian Gehring  ERROR  
2031/2325SOMNiBUS 1.19.0  (landing page)Kathleen Klein  ERROR  
2032/2325sosta 1.3.0  (landing page)Samuel Gunz  OK  
2033/2325SpaceMarkers 2.1.0  (landing page)Atul Deshpande  ERROR  
2034/2325SpaceTrooper 1.1.0  (landing page)Dario Righelli  ERROR  
2035/2325spacexr 1.3.0  (landing page)Gabriel Grajeda  OK  
2036/2325Spaniel 1.25.0  (landing page)Rachel Queen  ERROR  
2037/2325SpaNorm 1.5.0  (landing page)Dharmesh D. Bhuva  ERROR  
2038/2325spARI 1.1.0  (landing page)Yinqiao Yan  OK  
2039/2325sparrow 1.17.0  (landing page)Steve Lianoglou  ERROR  
2040/2325SparseArray 1.11.1  (landing page)Hervé Pagès  ERROR  
2041/2325sparseMatrixStats 1.23.0  (landing page)Constantin Ahlmann-Eltze  OK  
2042/2325sparsenetgls 1.29.0  (landing page)Irene Zeng  OK  
2043/2325SparseSignatures 2.21.0  (landing page)Luca De Sano  OK  
2044/2325spaSim 1.13.0  (landing page)Yuzhou Feng  OK  
2045/2325SpatialCPie 1.27.0  (landing page)Joseph Bergenstraahle  OK  
2046/2325spatialDE 1.17.0  (landing page)Gabriele Sales  ERROR  
2047/2325SpatialDecon 1.21.0  (landing page)Maddy Griswold  OK  
2048/2325SpatialExperiment 1.21.0  (landing page)Dario Righelli  ERROR  
2049/2325SpatialExperimentIO 1.3.0  (landing page)Yixing E. Dong  ERROR  
2050/2325spatialFDA 1.3.1  (landing page)Martin Emons  ERROR  
2051/2325SpatialFeatureExperiment 1.13.0  (landing page)Lambda Moses  ERROR  
2052/2325spatialHeatmap 2.17.0  (landing page)Jianhai Zhang  ERROR  
2053/2325SpatialOmicsOverlay 1.11.0  (landing page)Maddy Griswold  OK  
2054/2325spatialSimGP 1.5.0  (landing page)Kinnary Shah  OK  
2055/2325spatzie 1.17.0  (landing page)Jennifer Hammelman  ERROR  
2056/2325speckle 1.11.0  (landing page)Belinda Phipson  ERROR  
2057/2325specL 1.45.0  (landing page)Christian Panse  OK  
2058/2325SpeCond 1.65.0  (landing page)Florence Cavalli  OK  
2059/2325Spectra 1.21.0  (landing page)RforMassSpectrometry Package Maintainer  ERROR  
2060/2325SpectralTAD 1.27.0  (landing page)Mikhail Dozmorov  ERROR  
2061/2325SpectraQL 1.5.0  (landing page)Johannes Rainer  ERROR  
2062/2325SpectriPy 1.1.0  (landing page)Johannes Rainer  ERROR  
2063/2325SPEM 1.51.0  (landing page)Xinyi YANG  OK  
2064/2325SPIA 2.63.0  (landing page)Adi Laurentiu Tarca  OK  
2065/2325SPIAT 1.13.0  (landing page)Yuzhou Feng  OK  
2066/2325SPICEY 1.1.0  (landing page)Georgina Fuentes-Páez  OK  
2067/2325spicyR 1.23.0  (landing page)Ellis Patrick  ERROR  
2068/2325SpiecEasi 1.99.3  (landing page)Zachary Kurtz  ERROR  
2069/2325spikeLI 2.71.0  (landing page)Enrico Carlon  OK  
2070/2325spiky 1.17.0  (landing page)Tim Triche  OK  
2071/2325spillR 1.7.0  (landing page)Marco Guazzini  ERROR  
2072/2325spkTools 1.67.0  (landing page)Matthew N McCall  OK  
2073/2325splatter 1.35.0  (landing page)Luke Zappia  ERROR  
2074/2325SpliceWiz 1.13.0  (landing page)Alex Chit Hei Wong  ERROR  
2075/2325SplicingFactory 1.19.0  (landing page)Endre Sebestyen  OK  
2076/2325SplicingGraphs 1.51.1  (landing page)H. Pagès  WARNINGS  
2077/2325SplineDV 1.3.0  (landing page)Shreyan Gupta  ERROR  
2078/2325splineTimeR 1.39.0  (landing page)Herbert Braselmann , Martin Selmansberger  OK  
2079/2325SPLINTER 1.37.0  (landing page)Diana Low  ERROR  
2080/2325splots 1.77.0  (landing page)Wolfgang Huber  OK  
2081/2325SPONGE 1.33.0  (landing page)Markus List  ERROR  
2082/2325spoon 1.7.0  (landing page)Kinnary Shah  OK  
2083/2325SpotClean 1.13.0  (landing page)Zijian Ni  ERROR  
2084/2325SPOTlight 1.15.0  (landing page)Marc Elosua-Bayes  ERROR  
2085/2325SpotSweeper 1.7.0  (landing page)Michael Totty  OK  
2086/2325spqn 1.23.0  (landing page)Yi Wang  OK  
2087/2325SPsimSeq 1.21.0  (landing page)Joris Meys  ERROR  
2088/2325SQLDataFrame 1.25.0  (landing page)Qian Liu  ERROR  
2089/2325squallms 1.5.0  (landing page)William Kumler  ERROR  
2090/2325sRACIPE 2.3.0  (landing page)Mingyang Lu  OK  
2091/2325SRAdb 1.73.0  (landing page)Jack Zhu  OK  
2092/2325srnadiff 1.31.0  (landing page)Zytnicki Matthias  ERROR  
2093/2325sscu 2.41.0  (landing page)Yu Sun  WARNINGS  
2094/2325sSeq 1.49.0  (landing page)Danni Yu  OK  
2095/2325ssize 1.85.0  (landing page)Gregory R. Warnes  OK  
2096/2325sSNAPPY 1.15.0  (landing page)Wenjun Liu  ERROR  
2097/2325ssPATHS 1.25.0  (landing page)Natalie R. Davidson  OK  
2098/2325ssrch 1.27.0  (landing page)VJ Carey  OK  
2099/2325ssviz 1.45.0  (landing page)Diana Low  OK  
2100/2325StabMap 1.5.0  (landing page)Shila Ghazanfar  ERROR  
2101/2325STADyUM 1.1.0  (landing page)Rebecca Hassett  ERROR  
2102/2325stageR 1.33.0  (landing page)Koen Van den Berge  ERROR  
2103/2325standR 1.15.0  (landing page)Ning Liu  ERROR  
2104/2325STATegRa 1.47.0  (landing page)David Gomez-Cabrero , Núria Planell  ERROR  
2105/2325Statial 1.13.0  (landing page)Farhan Ameen  ERROR  
2106/2325statTarget 1.41.0  (landing page)Hemi Luan  OK  
2107/2325stepNorm 1.83.0  (landing page)Yuanyuan Xiao  OK  
2108/2325stJoincount 1.13.0  (landing page)Jiarong Song  OK  
2109/2325stPipe 1.1.0  (landing page)Yang Xu  ERROR  
2110/2325strandCheckR 1.29.0  (landing page)Thu-Hien To  OK  
2111/2325STRINGdb 2.23.0  (landing page)Damian Szklarczyk  OK  
2112/2325struct 1.23.0  (landing page)Gavin Rhys Lloyd  OK  
2113/2325Structstrings 1.27.0  (landing page)Felix G.M. Ernst  ERROR  
2114/2325structToolbox 1.23.0  (landing page)Gavin Rhys Lloyd  OK  
2115/2325StructuralVariantAnnotation 1.27.0  (landing page)Daniel Cameron  OK  
2116/2325SubCellBarCode 1.27.0  (landing page)Taner Arslan  WARNINGS  
2117/2325subSeq 1.41.0  (landing page)Andrew J. Bass , John D. Storey  ERROR  
2118/2325SUITOR 1.13.0  (landing page)Bill Wheeler  ERROR  
2119/2325SummarizedExperiment 1.41.0  (landing page)Hervé Pagès  ERROR  
2120/2325Summix 2.17.0  (landing page)Audrey Hendricks  OK  
2121/2325SuperCellCyto 1.1.0  (landing page)Givanna Putri  ERROR  
2122/2325supersigs 1.19.0  (landing page)Albert Kuo  WARNINGS  
2123/2325surfaltr 1.17.0  (landing page)Pooja Gangras  OK  
2124/2325SurfR 1.7.0  (landing page)Aurora Maurizio  ERROR  
2125/2325survClust 1.5.0  (landing page)Arshi Arora  ERROR  
2126/2325survcomp 1.61.0  (landing page)Benjamin Haibe-Kains  WARNINGS  
2127/2325survtype 1.27.0  (landing page)Dongmin Jung  OK  
2128/2325sva 3.59.0  (landing page)Jeffrey T. Leek , John D. Storey  ERROR  
2129/2325svaNUMT 1.17.0  (landing page)Ruining Dong  OK  
2130/2325svaRetro 1.17.0  (landing page)Ruining Dong  ERROR  
2131/2325SVMDO 1.11.0  (landing page)Mustafa Erhan Ozer  OK  
2132/2325SVP 1.3.1  (landing page)Shuangbin Xu  ERROR  
2133/2325SWATH2stats 1.41.0  (landing page)Peter Blattmann  OK  
2134/2325SwathXtend 2.33.0  (landing page)Jemma Wu  OK  
2135/2325swfdr 1.37.0  (landing page)Simina M. Boca , Jeffrey T. Leek  ERROR  
2136/2325switchBox 1.47.0  (landing page)Bahman Afsari , Luigi Marchionni  WARNINGS  
2137/2325switchde 1.37.0  (landing page)Kieran Campbell  OK  
2138/2325synapsis 1.17.0  (landing page)Lucy McNeill  OK  
2139/2325synergyfinder 3.19.0  (landing page)Shuyu Zheng  WARNINGS  
2140/2325SynExtend 1.23.0  (landing page)Nicholas Cooley  OK  
2141/2325synlet 2.11.0  (landing page)Chunxuan Shao  OK  
2142/2325SynMut 1.27.0  (landing page)Haogao Gu  OK  
2143/2325syntenet 1.13.0  (landing page)Fabrício Almeida-Silva  OK  
2144/2325systemPipeR 2.17.0  (landing page)Thomas Girke  ERROR  
2145/2325systemPipeShiny 1.21.0  (landing page)Le Zhang  OK  
2146/2325systemPipeTools 1.19.0  (landing page)Daniela Cassol  WARNINGS  
T
ABCDEFGHIJKLMNOPQRSTUVWXYZ
PackageMaintainerINSTALL/BUILD/CHECK
2147/2325tadar 1.9.0  (landing page)Lachlan Baer  OK  
2148/2325TADCompare 1.21.0  (landing page)Mikhail Dozmorov  ERROR  
2149/2325tanggle 1.17.0  (landing page)Klaus Schliep  OK  
2150/2325TAPseq 1.23.0  (landing page)Andreas R. Gschwind  WARNINGS  
2151/2325target 1.25.0  (landing page)Mahmoud Ahmed  OK  
2152/2325TargetDecoy 1.17.0  (landing page)Elke Debrie  ERROR  
2153/2325TargetScore 1.49.0  (landing page)Yue Li  OK  
2154/2325TargetSearch 2.13.0  (landing page)Alvaro Cuadros-Inostroza  OK  
2155/2325TaxSEA 1.3.0  (landing page)Feargal Ryan  OK  
2156/2325TBSignatureProfiler 1.23.0  (landing page)Kiloni Quiles  ERROR  
2157/2325TCC 1.51.0  (landing page)Jianqiang Sun  ERROR  
2158/2325TCGAbiolinks 2.39.0  (landing page)Tiago Chedraoui Silva  ERROR  
2159/2325TCGAutils 1.31.3  (landing page)Marcel Ramos  ERROR  
2160/2325TCseq 1.35.0  (landing page)Mengjun Wu  ERROR  
2161/2325TDbasedUFE 1.11.0  (landing page)Y-h. Taguchi  OK  
2162/2325TDbasedUFEadv 1.11.0  (landing page)Y-h. Taguchi  OK  
2163/2325TEKRABber 1.15.0  (landing page)Yao-Chung Chen  ERROR  
2164/2325TENET 1.3.0  (landing page)Rhie Lab at the University of Southern California  OK  
2165/2325TENxIO 1.13.0  (landing page)Marcel Ramos  ERROR  
2166/2325tenXplore 1.33.0  (landing page)VJ Carey  OK  
2167/2325TEQC 4.33.0  (landing page)Sarah Bonnin  WARNINGS  
2168/2325terapadog 1.3.0  (landing page)Gionmattia Carancini  OK  
2169/2325ternarynet 1.55.0  (landing page)McCall N. Matthew  OK  
2170/2325terraTCGAdata 1.15.1  (landing page)Marcel Ramos  ERROR  
2171/2325TFARM 1.33.0  (landing page)Liuba Nausicaa Martino  OK  
2172/2325TFBSTools 1.49.0  (landing page)Ge Tan  OK  
2173/2325TFEA.ChIP 1.31.0  (landing page)Yosra Berrouayel  ERROR  
2174/2325TFHAZ 1.33.0  (landing page)Gaia Ceddia  WARNINGS  
2175/2325TFutils 1.31.0  (landing page)Vincent Carey  OK  
2176/2325tidybulk 2.1.0  (landing page)Stefano Mangiola  ERROR  
2177/2325tidyCoverage 1.7.0  (landing page)Jacques Serizay  OK  
2178/2325tidyFlowCore 1.5.0  (landing page)Timothy Keyes  ERROR  
2179/2325tidyomics 1.7.0  (landing page)Stefano Mangiola  ERROR  
2180/2325tidysbml 1.5.0  (landing page)Veronica Paparozzi  OK  
2181/2325tidySingleCellExperiment 1.21.0  (landing page)Stefano Mangiola  ERROR  
2182/2325tidySpatialExperiment 1.7.1  (landing page)William Hutchison  ERROR  
2183/2325tidySummarizedExperiment 1.21.0  (landing page)Stefano Mangiola  OK  
2184/2325tidytof 1.5.0  (landing page)Timothy Keyes  ERROR  
2185/2325tigre 1.65.0  (landing page)Antti Honkela  ERROR  
2186/2325TileDBArray 1.21.0  (landing page)Aaron Lun  OK  
2187/2325tilingArray 1.89.0  (landing page)Zhenyu Xu  OK  
2188/2325timecourse 1.83.0  (landing page)Yu Chuan Tai  OK  
2189/2325timeOmics 1.23.0  (landing page)Antoine Bodein  WARNINGS  
2190/2325timescape 1.35.0  (landing page)Maia Smith  WARNINGS  
2191/2325TIN 1.43.0  (landing page)Bjarne Johannessen  OK  
2192/2325TissueEnrich 1.31.0  (landing page)Ashish Jain  OK  
2193/2325tkWidgets 1.89.0  (landing page)J. Zhang  OK  
2194/2325tLOH 1.19.0  (landing page)Michelle Webb  OK  
2195/2325TMixClust 1.33.0  (landing page)Monica Golumbeanu  OK  
2196/2325TMSig 1.5.0  (landing page)Tyler Sagendorf  OK  
2197/2325TnT 1.33.0  (landing page)Jialin Ma  OK  
2198/2325TOAST 1.25.0  (landing page)Ziyi Li  OK  
2199/2325tomoda 1.21.0  (landing page)Wendao Liu  OK  
2200/2325tomoseqr 1.15.0  (landing page)Ryosuke Matsuzawa  OK  
2201/2325TOP 1.11.0  (landing page)Harry Robertson  OK  
2202/2325topconfects 1.27.0  (landing page)Paul Harrison  ERROR  
2203/2325topdownr 1.33.0  (landing page)Sebastian Gibb  ERROR  
2204/2325topGO 2.63.0  (landing page)Federico Marini  WARNINGS  
2205/2325ToxicoGx 2.15.0  (landing page)Benjamin Haibe-Kains  OK  
2206/2325TPP 3.39.0  (landing page)Dorothee Childs  OK  
2207/2325TPP2D 1.27.0  (landing page)Nils Kurzawa  OK  
2208/2325tpSVG 1.7.0  (landing page)Boyi Guo  ERROR  
2209/2325tracktables 1.45.0  (landing page)Tom Carroll  WARNINGS  
2210/2325trackViewer 1.47.0  (landing page)Jianhong Ou  ERROR  
2211/2325tradeSeq 1.25.0  (landing page)Hector Roux de Bezieux  ERROR  
2212/2325TrajectoryGeometry 1.19.0  (landing page)Michael Shapiro  OK  
2213/2325TrajectoryUtils 1.19.0  (landing page)Aaron Lun  OK  
2214/2325transcriptogramer 1.33.0  (landing page)Diego Morais  OK  
2215/2325transcriptR 1.39.0  (landing page)Armen R. Karapetyan  ERROR  
2216/2325transformGamPoi 1.17.0  (landing page)Constantin Ahlmann-Eltze  ERROR  
2217/2325transite 1.29.0  (landing page)Konstantin Krismer  OK  
2218/2325tRanslatome 1.49.0  (landing page)Toma Tebaldi , Erik Dassi  ERROR  
2219/2325transmogR 1.7.0  (landing page)Stevie Pederson  ERROR  
2220/2325transomics2cytoscape 1.21.0  (landing page)Kozo Nishida  OK  
2221/2325traseR 1.41.0  (landing page)li chen  OK  
2222/2325TreeAndLeaf 1.23.0  (landing page)Milena A. Cardoso  OK  
2223/2325treeclimbR 1.7.0  (landing page)Charlotte Soneson  ERROR  
2224/2325treeio 1.35.0  (landing page)Guangchuang Yu  OK  
2225/2325treekoR 1.19.0  (landing page)Adam Chan  ERROR  
2226/2325TreeSummarizedExperiment 2.19.0  (landing page)Ruizhu Huang  OK  
2227/2325TREG 1.15.0  (landing page)Louise Huuki-Myers  OK  
2228/2325Trendy 1.33.0  (landing page)Rhonda Bacher  OK  
2229/2325TRESS 1.17.0  (landing page)Zhenxing Guo  OK  
2230/2325tricycle 1.19.0  (landing page)Shijie Zheng  WARNINGS  
2231/2325TrIdent 1.3.0  (landing page)Jessie Maier  OK  
2232/2325trio 3.49.0  (landing page)Holger Schwender  OK  
2233/2325triplex 1.51.0  (landing page)Jiri Hon  WARNINGS  
2234/2325tripr 1.17.0  (landing page)Nikolaos Pechlivanis  WARNINGS  
2235/2325tRNA 1.29.0  (landing page)Felix GM Ernst  ERROR  
2236/2325tRNAdbImport 1.29.0  (landing page)Felix G.M. Ernst  ERROR  
2237/2325tRNAscanImport 1.31.0  (landing page)Felix G.M. Ernst  ERROR  
2238/2325TRONCO 2.43.0  (landing page)Luca De Sano  OK  
2239/2325TSAR 1.9.0  (landing page)Xinlin Gao  OK  
2240/2325TSCAN 1.49.0  (landing page)Zhicheng Ji  ERROR  
2241/2325ttgsea 1.19.0  (landing page)Dongmin Jung  OK  
2242/2325TTMap 1.33.0  (landing page)Rachel Jeitziner  OK  
2243/2325TurboNorm 1.59.0  (landing page)Maarten van Iterson  OK  
2244/2325TVTB 1.37.0  (landing page)Kevin Rue-Albrecht  OK  
2245/2325tweeDEseq 1.57.0  (landing page)Dolors Pelegri-Siso  ERROR  
2246/2325twilight 1.87.0  (landing page)Stefanie Senger  OK  
2247/2325twoddpcr 1.35.0  (landing page)Anthony Chiu  OK  
2248/2325txcutr 1.17.0  (landing page)Mervin Fansler  OK  
2249/2325txdbmaker 1.7.1  (landing page)H. Pagès  ERROR  
2250/2325tximeta 1.29.0  (landing page)Michael Love  ERROR  
2251/2325tximport 1.39.1  (landing page)Michael Love  ERROR  
U
ABCDEFGHIJKLMNOPQRSTUVWXYZ
PackageMaintainerINSTALL/BUILD/CHECK
2252/2325UCell 2.15.0  (landing page)Massimo Andreatta  ERROR  
2253/2325UCSC.utils 1.7.0  (landing page)Hervé Pagès  OK  
2254/2325Ularcirc 1.29.0  (landing page)David Humphreys  ERROR  
2255/2325UMI4Cats 1.21.0  (landing page)Mireia Ramos-Rodriguez  OK  
2256/2325uncoverappLib 1.21.0  (landing page)Emanuela Iovino  OK  
2257/2325UNDO 1.53.0  (landing page)Niya Wang  OK  
2258/2325unifiedWMWqPCR 1.47.0  (landing page)Joris Meys  OK  
2259/2325UniProt.ws 2.51.0  (landing page)Marcel Ramos  OK  
2260/2325Uniquorn 2.31.0  (landing page)Raik Otto  OK  
2261/2325universalmotif 1.29.0  (landing page)Benjamin Jean-Marie Tremblay  OK  
2262/2325updateObject 1.15.0  (landing page)Hervé Pagès  OK  
2263/2325UPDhmm 1.7.0  (landing page)Marta Sevilla  OK  
2264/2325uSORT 1.37.0  (landing page)Hao Chen  WARNINGS  
V
ABCDEFGHIJKLMNOPQRSTUVWXYZ
PackageMaintainerINSTALL/BUILD/CHECK
2265/2325VAExprs 1.17.0  (landing page)Dongmin Jung  OK  
2266/2325VanillaICE 1.73.0  (landing page)Robert Scharpf  OK  
2267/2325VarCon 1.19.0  (landing page)Johannes Ptok  OK  
2268/2325variancePartition 1.41.0  (landing page)Gabriel E. Hoffman  ERROR  
2269/2325VariantAnnotation 1.57.0  (landing page)Bioconductor Package Maintainer  WARNINGS  
2270/2325VariantExperiment 1.25.0  (landing page)Qian Liu  ERROR  
2271/2325VariantFiltering 1.47.0  (landing page)Robert Castelo  ERROR  
2272/2325VariantTools 1.53.0  (landing page)Michael Lawrence  ERROR  
2273/2325VaSP 1.23.0  (landing page)Huihui Yu  ERROR  
2274/2325vbmp 1.79.0  (landing page)Nicola Lama  OK  
2275/2325VCFArray 1.27.0  (landing page)Qian Liu  ERROR  
2276/2325VDJdive 1.13.0  (landing page)Kelly Street  ERROR  
2277/2325VegaMC 3.49.0  (landing page)Sandro Morganella  WARNINGS  
2278/2325velociraptor 1.21.0  (landing page)Kevin Rue-Albrecht  ERROR  
2279/2325veloviz 1.17.0  (landing page)Lyla Atta  OK  
2280/2325VennDetail 1.27.0  (landing page)Kai Guo  WARNINGS  
2281/2325VERSO 1.21.0  (landing page)Davide Maspero  OK  
2282/2325vidger 1.31.0  (landing page)Brandon Monier  ERROR  
2283/2325viper 1.45.0  (landing page)Mariano J Alvarez  WARNINGS  
2284/2325ViSEAGO 1.25.0  (landing page)Aurelien Brionne  WARNINGS  
2285/2325VisiumIO 1.7.0  (landing page)Marcel Ramos  ERROR  
2286/2325visiumStitched 1.3.0  (landing page)Nicholas J. Eagles  ERROR  
2287/2325vissE 1.19.0  (landing page)Dharmesh D. Bhuva  ERROR  
2288/2325vmrseq 1.3.0  (landing page)Ning Shen  ERROR  
2289/2325Voyager 1.13.0  (landing page)Lambda Moses  ERROR  
2290/2325VplotR 1.21.0  (landing page)Jacques Serizay  OK  
2291/2325vsclust 1.13.0  (landing page)Veit Schwammle  OK  
2292/2325vsn 3.79.0  (landing page)Wolfgang Huber  OK  
2293/2325vtpnet 0.51.0  (landing page)VJ Carey  OK  
2294/2325vulcan 1.33.0  (landing page)Federico M. Giorgi  ERROR  
W
ABCDEFGHIJKLMNOPQRSTUVWXYZ
PackageMaintainerINSTALL/BUILD/CHECK
2295/2325waddR 1.25.0  (landing page)Julian Flesch  ERROR  
2296/2325wateRmelon 2.17.0  (landing page)Leo C Schalkwyk  ERROR  
2297/2325wavClusteR 2.45.0  (landing page)Federico Comoglio  ERROR  
2298/2325weaver 1.77.0  (landing page)Seth Falcon  WARNINGS  
2299/2325webbioc 1.83.0  (landing page)Colin A. Smith  OK  
2300/2325weitrix 1.23.0  (landing page)Paul Harrison  ERROR  
2301/2325widgetTools 1.89.0  (landing page)Jianhua Zhang  OK  
2302/2325wiggleplotr 1.35.0  (landing page)Kaur Alasoo  OK  
2303/2325wpm 1.21.0  (landing page)Helene Borges  ERROR  
2304/2325wppi 1.19.0  (landing page)Ana Galhoz  OK  
2305/2325Wrench 1.29.0  (landing page)Hector Corrada Bravo  ERROR  
X
ABCDEFGHIJKLMNOPQRSTUVWXYZ
PackageMaintainerINSTALL/BUILD/CHECK
2306/2325XAItest 1.3.0  (landing page)Ghislain FIEVET  WARNINGS  
2307/2325xCell2 1.3.0  (landing page)Almog Angel  ERROR  
2308/2325xcms 4.9.0  (landing page)Steffen Neumann  ERROR  
2309/2325xcore 1.15.0  (landing page)Maciej Migdał  ERROR  
2310/2325XDE 2.57.0  (landing page)Robert Scharpf  WARNINGS  
2311/2325XeniumIO 1.3.0  (landing page)Marcel Ramos  ERROR  
2312/2325xenLite 1.5.0  (landing page)Vincent Carey  ERROR  
2313/2325Xeva 1.27.0  (landing page)Benjamin Haibe-Kains  OK  
2314/2325XINA 1.29.0  (landing page)Lang Ho Lee  WARNINGS  
2315/2325xmapbridge 1.69.0  (landing page)Chris Wirth  OK  
2316/2325XVector 0.51.0  (landing page)Hervé Pagès  WARNINGS  
Y
ABCDEFGHIJKLMNOPQRSTUVWXYZ
PackageMaintainerINSTALL/BUILD/CHECK
2317/2325yamss 1.37.0  (landing page)Leslie Myint  ERROR  
2318/2325YAPSA 1.37.0  (landing page)Zuguang Gu  OK  
2319/2325yarn 1.37.0  (landing page)Joseph N Paulson  ERROR  
Z
ABCDEFGHIJKLMNOPQRSTUVWXYZ
PackageMaintainerINSTALL/BUILD/CHECK
2320/2325zellkonverter 1.21.0  (landing page)Luke Zappia  ERROR  
2321/2325zenith 1.13.0  (landing page)Gabriel Hoffman  ERROR  
2322/2325zFPKM 1.33.0  (landing page)Ron Ammar  ERROR  
2323/2325zinbwave 1.33.0  (landing page)Davide Risso  ERROR  
2324/2325zitools 1.5.0  (landing page)Carlotta Meyring  ERROR  
2325/2325ZygosityPredictor 1.11.0  (landing page)Marco Rheinnecker  OK