Package: immunotation Version: 1.19.0 Command: /Library/Frameworks/R.framework/Resources/bin/R CMD INSTALL immunotation StartedAt: 2025-11-14 15:05:57 -0500 (Fri, 14 Nov 2025) EndedAt: 2025-11-14 15:06:32 -0500 (Fri, 14 Nov 2025) EllapsedTime: 35.1 seconds RetCode: 0 Status: OK