Package: immunotation Version: 1.19.0 Command: rm -rf immunotation.buildbin-libdir && mkdir immunotation.buildbin-libdir && /Users/biocbuild/BBS/utils/build-universal.sh immunotation_1.19.0.tar.gz /Library/Frameworks/R.framework/Resources/bin/R immunotation.buildbin-libdir StartedAt: 2025-11-14 23:36:59 -0500 (Fri, 14 Nov 2025) EndedAt: 2025-11-14 23:37:45 -0500 (Fri, 14 Nov 2025) EllapsedTime: 46.0 seconds RetCode: 0 Status: OK PackageFile: immunotation_1.19.0.tgz PackageFileSize: 4.224 MiB