Package: immunotation Version: 1.19.0 Maintainer: Katharina Imkeller MaintainerEmail: ag.imkeller at gmail.com git_url: https://git.bioconductor.org/packages/immunotation git_branch: devel git_last_commit: 0c20023 git_last_commit_date: 2025-10-29 11:08:50 -0500 (Wed, 29 Oct 2025)