Package: immunogenViewer Version: 1.5.0 Command: /home/biocbuild/bbs-3.23-bioc/R/bin/R CMD INSTALL immunogenViewer StartedAt: 2025-11-11 15:35:50 -0500 (Tue, 11 Nov 2025) EndedAt: 2025-11-11 15:36:05 -0500 (Tue, 11 Nov 2025) EllapsedTime: 15.4 seconds RetCode: 0 Status: OK