Package: immunogenViewer Version: 1.5.0 Command: /home/biocbuild/bbs-3.23-bioc/R/bin/R CMD build --keep-empty-dirs --no-resave-data immunogenViewer StartedAt: 2025-11-11 18:14:53 -0500 (Tue, 11 Nov 2025) EndedAt: 2025-11-11 18:15:29 -0500 (Tue, 11 Nov 2025) EllapsedTime: 36.1 seconds RetCode: 0 Status: OK PackageFile: immunogenViewer_1.5.0.tar.gz PackageFileSize: 569.4 KiB