Package: immunogenViewer Version: 1.5.0 Command: /Library/Frameworks/R.framework/Resources/bin/R CMD INSTALL immunogenViewer StartedAt: 2025-11-13 15:09:54 -0500 (Thu, 13 Nov 2025) EndedAt: 2025-11-13 15:10:01 -0500 (Thu, 13 Nov 2025) EllapsedTime: 6.2 seconds RetCode: 0 Status: OK