Package: immunogenViewer Version: 1.5.0 Command: rm -rf immunogenViewer.buildbin-libdir && mkdir immunogenViewer.buildbin-libdir && /Users/biocbuild/BBS/utils/build-universal.sh immunogenViewer_1.5.0.tar.gz /Library/Frameworks/R.framework/Resources/bin/R immunogenViewer.buildbin-libdir StartedAt: 2025-11-13 23:41:55 -0500 (Thu, 13 Nov 2025) EndedAt: 2025-11-13 23:42:03 -0500 (Thu, 13 Nov 2025) EllapsedTime: 8.2 seconds RetCode: 0 Status: OK PackageFile: immunogenViewer_1.5.0.tgz PackageFileSize: 575.4 KiB