Package: immunogenViewer Version: 1.5.0 Maintainer: Katharina Waury MaintainerEmail: kathiwaury at gmail.com git_url: https://git.bioconductor.org/packages/immunogenViewer git_branch: devel git_last_commit: 24aec9b git_last_commit_date: 2025-10-29 11:31:16 -0500 (Wed, 29 Oct 2025)