Package: imageTCGA Version: 1.3.0 Command: /home/biocbuild/bbs-3.23-bioc/R/bin/R CMD INSTALL imageTCGA StartedAt: 2025-11-14 15:11:56 -0500 (Fri, 14 Nov 2025) EndedAt: 2025-11-14 15:12:02 -0500 (Fri, 14 Nov 2025) EllapsedTime: 5.7 seconds RetCode: 0 Status: OK