Package: imageTCGA Version: 1.3.0 Command: /Library/Frameworks/R.framework/Resources/bin/R CMD build --keep-empty-dirs --no-resave-data imageTCGA StartedAt: 2025-11-13 16:44:54 -0500 (Thu, 13 Nov 2025) EndedAt: 2025-11-13 16:45:02 -0500 (Thu, 13 Nov 2025) EllapsedTime: 8.1 seconds RetCode: 0 Status: OK PackageFile: imageTCGA_1.3.0.tar.gz PackageFileSize: 2.604 MiB