Package: imageTCGA Version: 1.3.0 Command: rm -rf imageTCGA.buildbin-libdir && mkdir imageTCGA.buildbin-libdir && /Users/biocbuild/BBS/utils/build-universal.sh imageTCGA_1.3.0.tar.gz /Library/Frameworks/R.framework/Resources/bin/R imageTCGA.buildbin-libdir StartedAt: 2025-11-13 23:41:52 -0500 (Thu, 13 Nov 2025) EndedAt: 2025-11-13 23:41:56 -0500 (Thu, 13 Nov 2025) EllapsedTime: 4.1 seconds RetCode: 0 Status: OK PackageFile: imageTCGA_1.3.0.tgz PackageFileSize: 1.833 MiB