Package: igvShiny Version: 1.7.0 Command: /home/biocbuild/bbs-3.23-bioc/R/bin/R CMD build --keep-empty-dirs --no-resave-data igvShiny StartedAt: 2025-11-19 18:13:26 -0500 (Wed, 19 Nov 2025) EndedAt: 2025-11-19 18:13:46 -0500 (Wed, 19 Nov 2025) EllapsedTime: 20.0 seconds RetCode: 0 Status: OK PackageFile: igvShiny_1.7.0.tar.gz PackageFileSize: 4.22 MiB